{"text_format":"1","workbook":"xlsx","n_sheets":7,"sheets":["Management Input","Cost Budgets","Financial Analysis","Input Tables","Recommendations","Chemical costs","Growth models"],"not_rendered":{"charts":5,"images":0,"macros":1,"external_links":0,"defined_names":31,"comments":2,"pivot_tables":0},"unopened":[],"bounds":{"document_bytes":16777216,"sheet_cells":100000,"rows_first":2000,"rows_last":500,"rows_between":2000,"halvings":0,"cell_chars":16384,"cell_head_chars":4096},"cells_cut":0,"cells_raw":0,"read":"whole","date_system":"1900"}

{"sheet":"Management Input","index":0,"n_rows":78,"n_cols":20,"rows_kept":78,"cut":false,"hidden":false,"merged":[[5,17,6,19],[32,12,34,19],[11,13,13,18],[20,12,21,19],[20,4,20,5],[11,7,11,9],[15,4,15,5],[7,4,7,5],[19,12,19,19],[31,12,31,14],[31,4,31,5],[25,4,25,6],[33,4,33,6],[24,4,24,5],[23,4,23,6],[11,4,11,5],[0,3,0,19],[2,3,2,4],[2,12,2,16],[3,13,3,14],[3,15,3,17],[1,5,1,14],[3,4,3,6],[10,6,11,6],[17,4,17,6],[5,13,5,15],[9,5,9,8],[20,7,20,10],[13,4,13,6],[19,3,19,5],[29,12,29,14],[24,12,24,14],[29,4,29,5],[27,4,27,6],[30,12,30,14],[25,12,25,14],[26,12,26,14],[27,12,27,14],[28,12,28,14]]}
[null,null,null,"Chestnut Decision Support Tool "]
[null,null,null,null,null,"Version 2.0"]
[null,null,null,"Establishment Decisions: ",null,null,null,null,null,null,null,null,"Harvesting and Marketing Decisions:"]
[null,null,null,"Site Prep:","Herbicide only (1 qt/ac.)",null,null,null,null,null,null,null,null,"Harvest Method:",null,"Nut wizard"]
[]
[null,null,null,"Spacing (Ft):",30,"x",30,null,null,null,null,null,null,"Expected Rate of Return: ",null,null,0.05,"enter a percentage return for this investment"]
[]
[null,null,null,"Layout/Design:","Rectangular/Square",null,null,null,null,null,null,null,null,"Expected Price/lb for nuts",null,null,3]
[]
[null,null,null,"Site Quality:","Good",null,null,null,null,null,null,null,null,"Number of acres in the orchard:",null,null,null,8]
[null,null,null,null,null,null,"Graft Technique:"]
[null,null,null,"Planting Stock:","Grafted Seedlings",null,null,"Self Grafted (Field)",null,null,null,null,null,"UMCA Guide to Growing Chinese Chestnuts in Missouri"]
[]
[null,null,null,"Fertilization:","Good early growth (> 8\")"]
[]
[null,null,null,"Tree Staking:","Steel conduit pipe"]
[]
[null,null,null,"Irrigation system:","Drip Irrigation"]
[]
[null,null,null,"Management Decisions:",null,null,null,null,null,null,null,null,"Financial Results"]
[null,null,null,"Thinning:",0.1,null,null,"Enter a % of trees removed (i.e. 50%, 33%)",null,null,null,null,"Based on the information that was entered in the model, this Chestnut Orchard will have the following financial performance over a 70 year period:"]
[]
[]
[null,null,null,"Fertilization:","Bearing trees (46% N)",null,null,null,null,null,null,null,null,null,null,null,"1 Acre",null,{"$f":"R10","v":8},"acres"]
[null,null,null,null,null,null,null,null,null,null,null,null,"Initial Number of Trees/ac",null,null,null,{"$f":"'Cost Budgets'!B3","v":48.4},null,{"$f":"Q25*$S$24","v":387.2}]
[null,null,null,"Pruning:","Spring prune",null,null,null,null,null,null,null,"Expected Price/lb for nuts ",null,null,null,{"$f":"'Financial Analysis'!C18","v":3}]
[null,null,null,null,null,null,null,null,null,null,null,null,{"$f":"\"PV of Revenues/ac @ \"&TEXT(Q6,\"0%\")","v":"PV of Revenues/ac @ 5%"},null,null,null,{"$f":"IFERROR('Financial Analysis'!D71,0)","v":79326.266307944563},null,{"$f":"Q27*$S$24","v":634610.1304635565}]
[null,null,null,"Weed Control:","Herbicide (Roundup TM)",null,null,null,null,null,null,null,{"$f":"\"PV of Costs /ac @ \"&TEXT(Q6,\"0%\")","v":"PV of Costs /ac @ 5%"},null,null,null,{"$f":"IFERROR('Financial Analysis'!D73,0)","v":33081.216609474497},null,{"$f":"Q28*$S$24","v":264649.73287579598}]
[null,null,null,null,null,null,null,null,null,null,null,null,{"$f":"\"NPV/ac @ \"&TEXT(Q6,\"0%\")","v":"NPV/ac @ 5%"},null,null,null,{"$f":"IFERROR('Financial Analysis'!D75,0)","v":46245.049698470066},null,369960.39758776053]
[null,null,null,"Pest Control:","Warrior",null,null,null,null,null,null,null,"Rate of Return (MIRR)",null,null,null,{"$f":"IFERROR('Financial Analysis'!D77,0)","v":0.11785993876612011},null,{"$f":"Q30","v":0.11785993876612011}]
[null,null,null,null,null,null,null,null,null,null,null,null,"Years to Break Even",null,null,null,{"$f":"IFERROR('Financial Analysis'!D79,0)","v":5},null,{"$f":"Q31","v":5}]
[null,null,null,"Disease Control:","Abound",null,null,null,null,null,null,null,{"$f":"\"AEV/ac @ \"&TEXT(Q6,\"0%\")","v":"AEV/ac @ 5%"},null,null,null,{"$f":"IFERROR('Financial Analysis'!D81,0)","v":2443.0420189422707},null,{"$f":"Q32*S24","v":19544.336151538166}]
[null,null,null,null,null,null,null,null,null,null,null,null,{"$f":"IF(Q29=0, \"The model is indicating that you are not removing enough trees with each thinning.  To correct for this error, either increase your initial tree spacing or increase your thinning percentage\",\" \")","v":" "}]
[null,null,null,"Deer Control:","Game Deterrent Fencing"]
[]
[]
[]
[]
[]
[]
[]
[]
[]
[]
[]
[]
[]
[]
[]
[]
[]
[]
[]
[]
[]
[]
[]
[]
[]
[]
[]
[]
[]
[]
[]
[]
[]
[]
[]
[]
[]
[]
[]
[]
[]
[]
[]
[null,null,null,null,null,null,null,null,null,null,null,{"$f":"IF('Cost Budgets'!B95=0,1,0)","v":0}]

{"sheet":"Cost Budgets","index":1,"n_rows":104,"n_cols":14,"rows_kept":104,"cut":false,"hidden":false,"merged":[[1,1,1,2],[11,1,11,2],[19,1,19,2],[89,1,89,2],[13,1,13,2],[16,1,16,3],[15,1,15,3],[14,1,14,3],[8,3,8,4],[17,3,17,4],[7,1,7,2],[12,1,12,2],[4,1,4,2],[5,1,5,2]]}
["Establishment Costs:",null,null,null,null,"Cost /acre","Cost/tree"]
["Site Prep",{"$f":"'Management Input'!E4","v":"Herbicide only (1 qt/ac.)"},null,null,null,{"$f":"LOOKUP($B$2,'Input Tables'!$A$2:$A$5,'Input Tables'!B2:B5)","v":120},{"$f":"LOOKUP($B$2,'Input Tables'!$A$2:$A$5,'Input Tables'!C2:C5)","v":2.4793388429752068}]
["Initial # of Stems",{"$f":"'Cost Budgets'!B91","v":48.4}]
["Planting Stock",{"$f":"'Management Input'!E12","v":"Grafted Seedlings"}]
["Graft Technique",{"$f":"'Management Input'!H12","v":"Self Grafted (Field)"},null,null,null,{"$f":"'Cost Budgets'!C95","v":653.4},{"$f":"'Cost Budgets'!B95","v":13.5}]
["Fertilization",{"$f":"'Management Input'!E14","v":"Good early growth (> 8\")"},null,null,null,{"$f":"LOOKUP($B$6,Fert,'Input Tables'!B20:B22)","v":49.368000000000002},{"$f":"LOOKUP($B$6,Fert,'Input Tables'!C20:C22)","v":1.02}]
["Tree Staking",{"$f":"'Management Input'!E16","v":"Steel conduit pipe"},null,null,null,{"$f":"LOOKUP($B$7,'Input Tables'!$A$28:$A$32,'Input Tables'!B28:B32)","v":96.8},{"$f":"LOOKUP($B$7,'Input Tables'!$A$28:$A$32,'Input Tables'!C28:C32)","v":2}]
["Irrigation System",{"$f":"'Management Input'!E18","v":"Drip Irrigation"},null,null,null,{"$f":"LOOKUP(B8,Irrigate,'Input Tables'!B106:B110)","v":445.5}]
[null,null,null,"Subtotal: ",null,{"$f":"SUM(F2:F8)","v":1365.068}]
["Management Costs:"]
["Thinning",{"$f":"'Management Input'!E21","v":0.1}]
["Fertilization",{"$f":"'Management Input'!E24","v":"Bearing trees (46% N)"},null,null,null,{"$f":"LOOKUP($B$12,ManFert,'Input Tables'!B35:B38)","v":90},{"$f":"LOOKUP($B$12,ManFert,'Input Tables'!C35:C38)","v":1.859504132231405}]
["Pruning",{"$f":"'Management Input'!E26","v":"Spring prune"},null,null,null,{"$f":"LOOKUP($B$13,Prune1,'Input Tables'!B41:B44)","v":48.4},{"$f":"LOOKUP($B$13,Prune1,'Input Tables'!C41:C44)","v":1}]
["Weed Control",{"$f":"'Management Input'!E28","v":"Herbicide (Roundup TM)"},null,null,null,{"$f":"LOOKUP($B$14,Weed,'Input Tables'!B47:B51)","v":120},{"$f":"LOOKUP($B$14,Weed,'Input Tables'!C47:C51)","v":2.4793388429752068}]
["Pest Control",{"$f":"'Management Input'!E30","v":"Warrior"},null,null,null,{"$f":"LOOKUP($B$15,PestC,'Input Tables'!B54:B65)","v":9.4079999999999995},{"$f":"LOOKUP($B$15,PestC,'Input Tables'!C54:C65)","v":0.1943801652892562}]
["Disease Control",{"$f":"'Management Input'!E32","v":"Abound"},null,null,null,{"$f":"LOOKUP($B$16,DiseaseC,'Input Tables'!B68:B73)","v":0},{"$f":"LOOKUP($B$16,DiseaseC,'Input Tables'!C68:C73)","v":0}]
["Deer Control",{"$f":"'Management Input'!E34","v":"Game Deterrent Fencing"},null,null,null,{"$f":"LOOKUP($B$17,DeerC,'Input Tables'!B76:B82)","v":349.44},{"$f":"LOOKUP($B$17,DeerC,'Input Tables'!C76:C82)","v":7.2198347107438021}]
[null,null,null,"Subtotal:",null,{"$f":"SUM(F12:F17)","v":617.24800000000005}]
["Harvesting Costs:",null,null,null,null,null,"Cost/lb"]
["Harvesting Method",{"$f":"'Management Input'!P4","v":"Nut wizard"},null,null,null,{"$f":"LOOKUP($B$20,Harvest,'Input Tables'!B92:B96)","v":2058.6492131438727}]
[]
[]
[]
[]
[]
[]
[]
[]
[]
[]
[]
[]
[]
[]
[]
[]
[]
[]
[]
[]
[]
[]
[]
[]
[]
[]
[]
[]
[]
[]
[]
[]
[]
[]
[]
[]
[]
[]
[]
[]
[]
[]
[]
[]
[]
[]
[]
[]
[]
[]
[]
[]
[]
[]
[]
[]
[]
[]
[]
[]
[]
[]
[]
[]
[]
[]
[]
[]
["Spacing"]
[{"$f":"'Management Input'!E8","v":"Rectangular/Square"},"# of Stems/ac"]
[{"$f":"TEXT('Management Input'!E6,\"0\")&\" x \"&TEXT('Management Input'!G6,\"0\")","v":"30 x 30"},{"$f":"IF(OR(A90=\"rectangular/square\",A90=\"diamond\"),43560/('Management Input'!E6*'Management Input'!G6),(43560/((('Management Input'!E6/2)^2)*3.14)))","v":48.4}]
[]
["Seedling Costs","$/Stem","$/Acre"]
[{"$f":"'Management Input'!E12","v":"Grafted Seedlings"}]
[{"$f":"'Management Input'!H12","v":"Self Grafted (Field)"},{"$f":"VLOOKUP(A94,I100:N104,(IF(A95=\"Not Grafted\",2,IF(A95=\"Nursery Grafted\",3,IF(A95=\"Professionally Grafted\",4,IF(A95=\"Self Grafted (Bench)\",5,6))))))","v":13.5},{"$f":"B95*'Cost Budgets'!B3","v":653.4}]
[]
["Nut Price",{"$f":"'Management Input'!Q8","v":3},"per lb."]
[null,null,null,null,null,null,null,null,"Grafting Cost Table"]
[null,null,null,null,null,null,null,null,null,"Not Grafted","Nursery Grafted","Professionally Grafted","Self Grafted (Bench)","Self Grafted (Field)"]
[null,null,null,null,null,null,null,null,"Grafted Seedlings",null,{"$f":"'Input Tables'!C13","v":20},{"$f":"'Input Tables'!C13","v":20},{"$f":"'Input Tables'!C88+'Input Tables'!C14","v":13.5},{"$f":"J101+'Input Tables'!C89","v":13.5}]
[null,null,null,null,null,null,null,null,"Seed",{"$f":"'Input Tables'!C14","v":3.5},null,{"$f":"J101+'Input Tables'!C87","v":21.5},{"$f":"J101+'Input Tables'!C88","v":13.5},{"$f":"J101+'Input Tables'!C89","v":13.5}]
[null,null,null,null,null,null,null,null,"Seedlings (bare root)",{"$f":"'Input Tables'!C15","v":4},null,{"$f":"J102+'Input Tables'!C87","v":22},{"$f":"J102+'Input Tables'!C88","v":14},{"$f":"J102+'Input Tables'!C89","v":14}]
[null,null,null,null,null,null,null,null,"Seedlings (RPM™)",{"$f":"'Input Tables'!C16","v":17.5},{"$f":"J103+'Input Tables'!C86","v":35.5},{"$f":"J103+'Input Tables'!C87","v":35.5},null,{"$f":"J103+'Input Tables'!C89","v":27.5}]
[null,null,null,null,null,null,null,null,"User Defined",{"$f":"'Input Tables'!C17","v":0}]

{"sheet":"Financial Analysis","index":2,"n_rows":83,"n_cols":63,"rows_kept":83,"cut":false,"hidden":false,"merged":[[95,10,98,10],[16,0,22,0],[26,4,26,6],[54,0,58,0],[0,0,11,0],[14,0,14,2],[15,0,15,2],[24,0,35,0],[38,0,52,0]]}
["Tree Growth Estimations",null,"Site Index",1,{"$f":"D1+1","v":2},{"$f":"E1+1","v":3},4,5,6,7,8,9,10,11,12,13,14,15,16,17,18,19,20,21,22,23,24,25,26,27,28,29,30,31,32,33,34,35,36,37,38,39,40,41,42,43,44,45,46,47,48,49,50,51,52,53,54,55,56,57,58,59,60]
[null,"Average TC per Stem ",{"$f":"'Management Input'!$E$10","v":"Good"},{"$f":"E2-$I$16","v":0.5},1,1.5,{"$f":"H2-$I$16","v":2},{"$f":"LOOKUP(C2,SI,'Input Tables'!C99:C102)","v":2.5},{"$f":"H2+(H16*H15)","v":3},3.5,4,4.5,5,5.5,6,6.5,7,7.5,8,8.4527724227186773,8.8886574090997819,9.3068302397791296,9.7067450453782733,10.113819169639587,10.503395938474448,10.902207252681492,11.309971719632619,11.702043077003092,12.104633284309825,12.492292759981952,12.891728390528755,13.302219282457045,13.69939766430379,14.108549595367652,14.505069767795534,14.914257458017573,15.311475229204524,15.721858852768426,16.120912711264086,16.533461800679877,{"$f":"AN2+(AN16*AN15)","v":16.935299088939541},17.326315678791062,17.732323872968035,18.128111170349218,18.538805182588153,18.93985664374086,19.331180687227238,19.738424564310154,20.13649601592936,20.55010682650272,20.955083433425138,21.351346933734838,21.763790845640742,22.168038617757848,22.564021275008137,22.97661669270126,23.381443833531559,23.778439516451048,24.192300099439326,24.598807799881346,24.997902505780591,25.413959606944459,25.823066030044853]
[null,null,"Initial Tree Height"]
[null,"Crown Competition Factor",null,{"$f":"((C6*3.14*(2*(D2)+2.436)^2)/44000)*100","v":4.0778255583999998},{"$f":"((D6*3.14*(2*(E2)+2.436)^2)/44000)*100","v":6.7968143583999998},10.2066031584,14.307191958399997,19.098580758399997,24.072902418763636,28.212125436218184,32.176992817309092,35.839050016581815,42.380846089309095,45.605815288581816,52.647042634036367,60.193524524945452,68.245260961309086,76.802251943127274,85.864497470399996,94.506689780882709,103.21797007333477,111.93616513636968,108.54388338950636,116.78363944017399,112.45633262187944,108.21509516754723,115.61901947553399,110.67210898347209,117.67668082641838,112.16212510383757,106.91351031833432,113.22481811988263,107.55334587977802,113.53416775714771,107.5362737171143,113.20629816184484,106.96481438566438,112.34206036247261,105.92757737628756,111.02826768122718,116.11182345309825,109.0509496933507,113.87833329069954,106.8163408154744,111.39963631190209,115.96823378543274,108.4630641606624,112.80470768527557,105.41781478118605,109.54099393147993,113.65473650387842,105.97803227312292,109.88681916449255,113.78661856461214,105.90535066212077,109.61194098214251,113.31070784176012,105.297773951181,108.81342334961741,112.32281226549996,104.24014850296672,107.57507108800071,110.90548161657171]
[null,null,"Initial Density"]
[null,"Stems per Acre",{"$f":"'Cost Budgets'!B3","v":48.4},{"$f":"C6","v":48.4},{"$f":"D6-E10","v":48.4},{"$f":"E6-F10","v":48.4},48.4,{"$f":"G6-(G8+H10)","v":47.4},44.4,41.4,38.4,38.4,35.4,35.4,35.4,35.4,35.4,35.4,35.4,35.4,35.4,31.86,31.86,28.673999999999999,25.8066,25.8066,23.225940000000001,23.225940000000001,20.903346000000003,18.813011400000001,18.813011400000001,16.931710259999999,16.931710259999999,15.238539233999999,15.238539233999999,13.7146853106,13.7146853106,12.343216779540001,12.343216779540001,12.343216779540001,11.108895101586,11.108895101586,9.9980055914274004,9.9980055914274004,9.9980055914274004,8.9982050322846607,8.9982050322846607,8.0983845290561938,8.0983845290561938,8.0983845290561938,7.288546076150574,7.288546076150574,7.288546076150574,6.559691468535517,6.559691468535517,6.559691468535517,5.9037223216819648,5.9037223216819648,5.9037223216819648,5.3133500895137686,5.3133500895137686,5.3133500895137686,5.3133500895137686]
[]
[null,"Mortality Loss (1st 10 years)",0.08,{"$f":"IF(D1<10,RANDBETWEEN(0,($C$8*C6)),0)","v":3},0,3,1,3,3,3,0,3,0,0,0,0,0,0,0,0,0,0,0,0,0,0,0,0,0,0,0,0,0,0,0,{"$f":"IF(AJ1<10,RANDBETWEEN(0,($C$8*AI6)),0)","v":0},0,0,0,0,0,0,0,0,0,0,0,0,0,0,0,0,0,0,0,0,0,0,0,0,0,0,0]
[null,null,"Removal %"]
[null,"Thinnings (# of stems removed)",{"$f":"'Management Input'!E21","v":0.1},{"$f":"IF(D15>0.8,0,(D6*($C$10)))","v":0},{"$f":"IF(E15>0.8,0,((D6-D8)*($C$10)))","v":0},0,0,0,0,0,0,0,0,0,0,0,0,0,0,0,0,3.54,0,3.1859999999999999,2.8673999999999999,0,2.58066,0,2.322594,2.0903346000000003,0,1.8813011400000001,0,1.6931710259999999,0,1.5238539233999999,{"$f":"IF(AK15>0.8,0,((AJ6-AJ8)*($C$10)))","v":0},1.3714685310600001,0,0,1.2343216779540001,0,1.1108895101586,0,0,0.99980055914274013,0,0.89982050322846607,0,0,0.8098384529056194,0,0,0.72885460761505749,0,0,0.65596914685355179,0,0,0.59037223216819645,0,0,0]
[]
[null,"Nut Yield/tree",null,{"$f":"'Growth models'!B32*(RANDBETWEEN(75,(100*D15))/100)","v":-10.551512000000001},{"$f":"'Growth models'!C32*(RANDBETWEEN(75,(100*E15))/100)","v":-2.0637960000000009},{"$f":"'Growth models'!D32*(RANDBETWEEN(75,(100*F15))/100)","v":5.4136399999999973},{"$f":"'Growth models'!E32*(RANDBETWEEN(75,(100*G15))/100)","v":12.460715999999996},{"$f":"'Growth models'!F32*(RANDBETWEEN(75,(100*H15))/100)","v":22.792319999999997},{"$f":"'Growth models'!G32*(RANDBETWEEN(75,(100*I15))/100)","v":30.736195999999989},{"$f":"'Growth models'!H32*(RANDBETWEEN(75,(100*J15))/100)","v":33.343459999999993},{"$f":"'Growth models'!I32*(RANDBETWEEN(75,(100*K15))/100)","v":45.446519999999992},{"$f":"'Growth models'!J32*(RANDBETWEEN(75,(100*L15))/100)","v":42.508479999999992},{"$f":"'Growth models'!K32*(RANDBETWEEN(75,(100*M15))/100)","v":49.403259999999989},{"$f":"'Growth models'!L32*(RANDBETWEEN(75,(100*N15))/100)","v":49.812527999999986},{"$f":"'Growth models'!M32*(RANDBETWEEN(75,(100*O15))/100)","v":55.541927999999992},{"$f":"'Growth models'!N32*(RANDBETWEEN(75,(100*P15))/100)","v":60.455539999999978},{"$f":"'Growth models'!O32*(RANDBETWEEN(75,(100*Q15))/100)","v":74.986992000000001},{"$f":"'Growth models'!P32*(RANDBETWEEN(75,(100*R15))/100)","v":84.438759999999988},{"$f":"'Growth models'!Q32*(RANDBETWEEN(75,(100*S15))/100)","v":68.779087999999987},{"$f":"'Growth models'!R32*(RANDBETWEEN(75,(100*T15))/100)","v":80.348459999999974},{"$f":"'Growth models'!S32*(RANDBETWEEN(75,(100*U15))/100)","v":79.588979999999978},{"$f":"'Growth models'!T32*(RANDBETWEEN(75,(100*V15))/100)","v":78.308692000000008},{"$f":"'Growth models'!U32*(RANDBETWEEN(75,(100*W15))/100)","v":83.889599999999987},{"$f":"'Growth models'!V32*(RANDBETWEEN(75,(100*X15))/100)","v":80.816099999999977},{"$f":"'Growth models'!W32*(RANDBETWEEN(75,(100*Y15))/100)","v":83.894575999999986},{"$f":"'Growth models'!X32*(RANDBETWEEN(75,(100*Z15))/100)","v":89.088299999999975},{"$f":"'Growth models'!Y32*(RANDBETWEEN(75,(100*AA15))/100)","v":86.183699999999988},{"$f":"'Growth models'!Z32*(RANDBETWEEN(75,(100*AB15))/100)","v":93.457599999999999},{"$f":"'Growth models'!AA32*(RANDBETWEEN(75,(100*AC15))/100)","v":88.883099999999956},{"$f":"'Growth models'!AB32*(RANDBETWEEN(75,(100*AD15))/100)","v":94.790203999999989},{"$f":"'Growth models'!AC32*(RANDBETWEEN(75,(100*AE15))/100)","v":90.946499999999986},{"$f":"'Growth models'!AD32*(RANDBETWEEN(75,(100*AF15))/100)","v":92.981135999999978},{"$f":"'Growth models'!AE32*(RANDBETWEEN(75,(100*AG15))/100)","v":98.593600000000009},{"$f":"'Growth models'!AF32*(RANDBETWEEN(75,(100*AH15))/100)","v":95.454435999999973},{"$f":"'Growth models'!AG32*(RANDBETWEEN(75,(100*AI15))/100)","v":100.86735599999997},{"$f":"'Growth models'!AH32*(RANDBETWEEN(75,(100*AJ15))/100)","v":94.949839999999995},{"$f":"'Growth models'!AI32*(RANDBETWEEN(75,(100*AK15))/100)","v":100.15647999999999},{"$f":"'Growth models'!AJ32*(RANDBETWEEN(75,(100*AL15))/100)","v":97.751159999999999},{"$f":"'Growth models'!AK32*(RANDBETWEEN(75,(100*AM15))/100)","v":96.498555999999965},{"$f":"'Growth models'!AL32*(RANDBETWEEN(75,(100*AN15))/100)","v":98.914004000000006},{"$f":"'Growth models'!AM32*(RANDBETWEEN(75,(100*AO15))/100)","v":97.48908000000003},{"$f":"'Growth models'!AN32*(RANDBETWEEN(75,(100*AP15))/100)","v":93.500699999999981},{"$f":"'Growth models'!AO32*(RANDBETWEEN(75,(100*AQ15))/100)","v":93.196499999999986},{"$f":"'Growth models'!AP32*(RANDBETWEEN(75,(100*AR15))/100)","v":94.071887999999944},{"$f":"'Growth models'!AQ32*(RANDBETWEEN(75,(100*AS15))/100)","v":97.349803999999949},{"$f":"'Growth models'!AR32*(RANDBETWEEN(75,(100*AT15))/100)","v":91.963499999999982},{"$f":"'Growth models'!AS32*(RANDBETWEEN(75,(100*AU15))/100)","v":92.68929599999997},{"$f":"'Growth models'!AT32*(RANDBETWEEN(75,(100*AV15))/100)","v":90.946499999999986},{"$f":"'Growth models'!AU32*(RANDBETWEEN(75,(100*AW15))/100)","v":96.427840000000003},{"$f":"'Growth models'!AV32*(RANDBETWEEN(75,(100*AX15))/100)","v":94.632203999999987},{"$f":"'Growth models'!AW32*(RANDBETWEEN(75,(100*AY15))/100)","v":91.653099999999966},{"$f":"'Growth models'!AX32*(RANDBETWEEN(75,(100*AZ15))/100)","v":88.703699999999969},{"$f":"'Growth models'!AY32*(RANDBETWEEN(75,(100*BA15))/100)","v":92.842379999999991},{"$f":"'Growth models'!AZ32*(RANDBETWEEN(75,(100*BB15))/100)","v":92.264731999999981},{"$f":"'Growth models'!BA32*(RANDBETWEEN(75,(100*BC15))/100)","v":91.709203999999914},{"$f":"'Growth models'!BB32*(RANDBETWEEN(75,(100*BD15))/100)","v":91.183379999999971},{"$f":"'Growth models'!BC32*(RANDBETWEEN(75,(100*BE15))/100)","v":86.102699999999999},{"$f":"'Growth models'!BD32*(RANDBETWEEN(75,(100*BF15))/100)","v":91.393599999999964},{"$f":"'Growth models'!BE32*(RANDBETWEEN(75,(100*BG15))/100)","v":90.997439999999997},{"$f":"'Growth models'!BF32*(RANDBETWEEN(75,(100*BH15))/100)","v":86.128976000000009},{"$f":"'Growth models'!BG32*(RANDBETWEEN(75,(100*BI15))/100)","v":88.135319999999965},{"$f":"'Growth models'!BH32*(RANDBETWEEN(75,(100*BJ15))/100)","v":86.821812000000008},{"$f":"'Growth models'!BI32*(RANDBETWEEN(75,(100*BK15))/100)","v":88.971380000000011}]
[]
[null,"Nut Yield/Acre",null,{"$f":"D12*D4","v":-43.027225313364305},-14.027238285608492,55.254875122440552,178.27785575110613,435.30096419129535,739.90944703199295,940.68987599752336,1462.3323476116936,1523.4635408488675,2093.7519583701201,2271.7409510253092,2924.1182513925778,3639.0320296588193,5117.5068377435964,6485.086919285257,5905.6818275924179,7593.4669835916611,8215.0129558072367,8765.5746793251128,9105.7029599923317,9437.9982833610429,9434.4763438275422,9640.6988628149957,9964.4748887735768,10343.149692533741,10459.468189562622,10631.870719666284,9723.4095661663905,10527.772212180069,10604.071562332483,10837.339949987916,10846.899603937609,{"$f":"AJ12*AJ4","v":10748.919897459462},10713.219292721506,10981.566717221718,10221.858257390015,10982.250513533976,11319.634845564975,10196.340131993074,10613.062088526678,10048.41484976313,10844.732760634944,10664.844667726642,10053.365059054626,10259.193347498913,10165.212176869843,10366.105684086569,10416.808930263616,9400.64358134541,10202.153821861099,10498.491867050161,9712.4954085639602,9994.7872671122714,9756.3578840867194,9623.5426333846517,9901.7429624514098,9674.2488018677523,9187.2388451564893,9339.8625978890341,9867.4137489910172]
["Growth Ratio",null,null,1,{"$f":"IF(E4<80,1,(1.411-(0.00485*E4)-(7.643/E4)))","v":1},{"$f":"IF(F4<80,1,(1.411-(0.00485*F4)-(7.643/F4)))","v":1},1,1,1,1,1,1,1,1,1,1,1,1,0.90554484543735358,0.87176997276220736,0.83634566135869526,0.79982961119828866,0.81414824852262746,0.77915353766971984,0.79762262841408749,0.81552893390225467,0.78414271474094577,0.80518041461346757,0.77531895134425277,0.79887126109360662,0.82098178385658127,0.79435676369348973,0.81830386212772366,0.79304034485576635,0.81837538044407832,0.79443554237390113,0.82076724712780347,0.79810771699132343,0.82509817883158076,0.80367457651932495,0.78203317970304365,0.81201638835394663,0.79157459476236447,0.82138802447787207,0.80210292230541591,0.78264808697275889,0.81448775416583519,0.79614290323841064,0.8272216211467196,0.80995321384483776,0.79252700061940173,0.82488782381180381,0.80849554423421377,0.79196531450057783,0.8251908353862446,0.80965428166059861,0.79399136583897389,0.82772116597655676,0.81301540088404323,0.79818941179848713,0.83211420232774036,0.81821284620078871,0.80419387640554418]
["Expected Growth Rate",null,null,null,{"$f":"F16","v":0.5},0.5,0.5,{"$f":"I16","v":0.5},{"$f":"LOOKUP(C2,SI,'Input Tables'!B99:B102)","v":0.5},{"$f":"I16","v":0.5},{"$f":"J16","v":0.5},0.5,0.5,0.5,0.5,0.5,0.5,0.5,0.5,0.5,0.5,0.5,0.5,0.5,0.5,0.5,0.5,0.5,0.5,0.5,0.5,0.5,0.5,0.5,0.5,0.5,0.5,0.5,0.5,0.5,0.5,0.5,0.5,0.5,0.5,0.5,0.5,0.5,0.5,0.5,0.5,0.5,0.5,0.5,0.5,0.5,0.5,0.5,0.5,0.5,0.5,0.5,0.5]
["Nut Revenue",null,"Nut Price/lb"]
[null,"Gross Revenue per Tree",{"$f":"'Management Input'!Q8","v":3},{"$f":"IF(D12<0,0,(D12*$C$18))","v":0},{"$f":"IF(E12<0,0,(E12*$C$18))","v":0},16.240919999999992,37.382147999999987,68.376959999999997,92.208587999999963,100.03037999999998,136.33955999999998,127.52543999999997,148.20977999999997,149.43758399999996,166.62578399999998,181.36661999999993,224.96097600000002,253.31627999999995,206.33726399999995,241.04537999999991,238.76693999999992,234.92607600000002,251.66879999999998,242.44829999999993,251.68372799999997,267.2648999999999,258.55109999999996,280.37279999999998,266.64929999999987,284.37061199999994,272.83949999999993,278.94340799999992,295.7808,286.3633079999999,302.60206799999992,284.84951999999998,300.46943999999996,293.25347999999997,289.49566799999991,296.74201200000005,292.46724000000006,280.50209999999993,279.58949999999993,282.21566399999983,292.04941199999985,275.89049999999997,278.06788799999993,272.83949999999993,289.28352000000001,283.89661199999995,274.95929999999987,266.11109999999991,278.52713999999997,276.79419599999994,275.12761199999977,273.55013999999994,258.30809999999997,274.18079999999986,272.99232000000001,258.38692800000001,264.40595999999988,260.46543600000001,266.91414000000003]
[]
[null,"Gross Revenue per Acre (Potential)",null,{"$f":"D18*D6","v":0},0,786.06052799999964,1809.2959631999993,3241.0679039999995,4094.0613071999983,4141.2577319999991,5235.4391039999991,4896.9768959999992,5246.6262119999983,5290.0904735999984,5898.5527535999991,6420.3783479999975,7963.6185504000005,8967.3963119999971,7304.3391455999981,8533.006451999996,8452.3496759999962,7484.7447813600002,8018.1679679999988,6951.9625541999976,6495.1012950047989,6897.1983683399976,6005.0923355339992,6511.9218304320002,5573.8625785577979,5349.867565380976,5132.9326238702988,4722.9889631929645,5008.0748060710075,4363.7585041360244,4611.2134855075346,{"$f":"AJ18*AJ6","v":3906.6215276754606},4120.8438150522079,3619.6912749944977,3573.3077868617402,3662.7509817128607,3248.987889810378,3116.0684046745855,2795.3373843043905,2821.5937866603949,2919.911654149083,2482.5192854595311,2502.1118691183669,2209.5591857154268,2342.729182878918,2299.1039304722685,2004.0535271161075,1939.5630137251123,2030.0578933484414,1815.6845260413475,1804.7522491949485,1794.404519574696,1524.979295841257,1618.6873091366176,1611.6708532317459,1372.9002070179877,1404.8814312339732,1383.9440476858429,1418.2082696614907]
[]
[null,"Gross Revenue per Acre (Actual)",null,{"$f":"IF(D58=0,0,D20)","v":0},0,0,0,3241.0679039999995,4094.0613071999983,4141.2577319999991,5235.4391039999991,4896.9768959999992,5246.6262119999983,5290.0904735999984,5898.5527535999991,6420.3783479999975,7963.6185504000005,8967.3963119999971,7304.3391455999981,8533.006451999996,8452.3496759999962,7484.7447813600002,8018.1679679999988,6951.9625541999976,6495.1012950047989,6897.1983683399976,6005.0923355339992,6511.9218304320002,5573.8625785577979,5349.867565380976,5132.9326238702988,4722.9889631929645,5008.0748060710075,4363.7585041360244,4611.2134855075346,{"$f":"IF(AJ58=0,0,AJ20)","v":3906.6215276754606},4120.8438150522079,3619.6912749944977,3573.3077868617402,3662.7509817128607,3248.987889810378,3116.0684046745855,2795.3373843043905,2821.5937866603949,2919.911654149083,2482.5192854595311,2502.1118691183669,2209.5591857154268,2342.729182878918,2299.1039304722685,0,0,0,0,0,0,0,0,0,0,0,0,0]
[]
[]
["Establishment Costs"]
[null,"Site Prep",null,{"$f":"'Cost Budgets'!F2","v":120}]
[null,null,null,null,"Replant based on Mortality Loss"]
[null,"Planting Stock/Grafting ",null,{"$f":"'Cost Budgets'!F5","v":653.4},{"$f":"D8*'Cost Budgets'!$G$5","v":40.5},{"$f":"E8*'Cost Budgets'!$G$5","v":0},{"$f":"F8*'Cost Budgets'!$G$5","v":40.5}]
[]
[null,"Field Grafting"]
[]
[null,"Fertilization (establishment)",null,{"$f":"'Cost Budgets'!F6","v":49.368000000000002}]
[]
[null,"Irrigation",null,{"$f":"IF('Management Input'!E18=\"Drip Irrigation\", 'Input Tables'!B106,IF('Management Input'!E18=\"Hand water\", 'Input Tables'!E107, IF('Management Input'!E18=\"Sprinkler\",'Input Tables'!E108,IF('Management Input'!E18=\"User Defined\", 'Input Tables'!B110,0))))","v":445.5},{"$f":"IF(D34<'Input Tables'!$B$106,D34,0)","v":0},{"$f":"IF(E34<'Input Tables'!$B$106,E34,0)","v":0},{"$f":"IF(F34<'Input Tables'!$B$106,F34,0)","v":0},{"$f":"IF(G34<'Input Tables'!$B$106,G34,0)","v":0},{"$f":"IF(H34<'Input Tables'!$B$106,H34,0)","v":0},{"$f":"IF(I34<'Input Tables'!$B$106,I34,0)","v":0},{"$f":"IF(J34<'Input Tables'!$B$106,J34,0)","v":0},{"$f":"IF(K34<'Input Tables'!$B$106,K34,0)","v":0},{"$f":"IF(L34<'Input Tables'!$B$106,L34,0)","v":0},{"$f":"IF(M34<'Input Tables'!$B$106,M34,0)","v":0},{"$f":"IF(N34<'Input Tables'!$B$106,N34,0)","v":0},{"$f":"IF(O34<'Input Tables'!$B$106,O34,0)","v":0},{"$f":"IF(P34<'Input Tables'!$B$106,P34,0)","v":0},{"$f":"IF(Q34<'Input Tables'!$B$106,Q34,0)","v":0},{"$f":"IF(R34<'Input Tables'!$B$106,R34,0)","v":0},{"$f":"IF(S34<'Input Tables'!$B$106,S34,0)","v":0},{"$f":"IF(T34<'Input Tables'!$B$106,T34,0)","v":0},{"$f":"IF(U34<'Input Tables'!$B$106,U34,0)","v":0},{"$f":"IF(V34<'Input Tables'!$B$106,V34,0)","v":0},{"$f":"IF(W34<'Input Tables'!$B$106,W34,0)","v":0},{"$f":"IF(X34<'Input Tables'!$B$106,X34,0)","v":0},{"$f":"IF(Y34<'Input Tables'!$B$106,Y34,0)","v":0},{"$f":"IF(Z34<'Input Tables'!$B$106,Z34,0)","v":0},{"$f":"IF(AA34<'Input Tables'!$B$106,AA34,0)","v":0},{"$f":"IF(AB34<'Input Tables'!$B$106,AB34,0)","v":0},{"$f":"IF(AC34<'Input Tables'!$B$106,AC34,0)","v":0},{"$f":"IF(AD34<'Input Tables'!$B$106,AD34,0)","v":0},{"$f":"IF(AE34<'Input Tables'!$B$106,AE34,0)","v":0},{"$f":"IF(AF34<'Input Tables'!$B$106,AF34,0)","v":0},{"$f":"IF(AG34<'Input Tables'!$B$106,AG34,0)","v":0},{"$f":"IF(AH34<'Input Tables'!$B$106,AH34,0)","v":0},{"$f":"IF(AI34<'Input Tables'!$B$106,AI34,0)","v":0},{"$f":"IF(AJ34<'Input Tables'!$B$106,AJ34,0)","v":0},{"$f":"IF(AK34<'Input Tables'!$B$106,AK34,0)","v":0},{"$f":"IF(AL34<'Input Tables'!$B$106,AL34,0)","v":0},{"$f":"IF(AM34<'Input Tables'!$B$106,AM34,0)","v":0},{"$f":"IF(AN34<'Input Tables'!$B$106,AN34,0)","v":0},{"$f":"IF(AO34<'Input Tables'!$B$106,AO34,0)","v":0},{"$f":"IF(AP34<'Input Tables'!$B$106,AP34,0)","v":0},{"$f":"IF(AQ34<'Input Tables'!$B$106,AQ34,0)","v":0},{"$f":"IF(AR34<'Input Tables'!$B$106,AR34,0)","v":0},{"$f":"IF(AS34<'Input Tables'!$B$106,AS34,0)","v":0},{"$f":"IF(AT34<'Input Tables'!$B$106,AT34,0)","v":0},{"$f":"IF(AU34<'Input Tables'!$B$106,AU34,0)","v":0},{"$f":"IF(AV34<'Input Tables'!$B$106,AV34,0)","v":0},{"$f":"IF(AW34<'Input Tables'!$B$106,AW34,0)","v":0},{"$f":"IF(AX34<'Input Tables'!$B$106,AX34,0)","v":0},{"$f":"IF(AY34<'Input Tables'!$B$106,AY34,0)","v":0},{"$f":"IF(AZ34<'Input Tables'!$B$106,AZ34,0)","v":0},{"$f":"IF(BA34<'Input Tables'!$B$106,BA34,0)","v":0},{"$f":"IF(BB34<'Input Tables'!$B$106,BB34,0)","v":0},{"$f":"IF(BC34<'Input Tables'!$B$106,BC34,0)","v":0},{"$f":"IF(BD34<'Input Tables'!$B$106,BD34,0)","v":0},{"$f":"IF(BE34<'Input Tables'!$B$106,BE34,0)","v":0},{"$f":"IF(BF34<'Input Tables'!$B$106,BF34,0)","v":0},{"$f":"IF(BG34<'Input Tables'!$B$106,BG34,0)","v":0},{"$f":"IF(BH34<'Input Tables'!$B$106,BH34,0)","v":0},{"$f":"IF(BI34<'Input Tables'!$B$106,BI34,0)","v":0},{"$f":"IF(BJ34<'Input Tables'!$B$106,BJ34,0)","v":0}]
[]
[null,"Tree Staking",null,{"$f":"'Cost Budgets'!F7","v":96.8}]
[null,"Potential Revenue less Est. costs",null,{"$f":"D20-D26-D28-D30-D32-D34-D36","v":-1365.068},{"$f":"E20-E26-E28-E30-E32-E36","v":-40.5},786.06052799999964,1768.7959631999993,3241.0679039999995,4094.0613071999983,4141.2577319999991,5235.4391039999991,4896.9768959999992,5246.6262119999983,5290.0904735999984,5898.5527535999991,6420.3783479999975,7963.6185504000005,8967.3963119999971,7304.3391455999981,8533.006451999996,8452.3496759999962,7484.7447813600002,8018.1679679999988,6951.9625541999976,6495.1012950047989,6897.1983683399976,6005.0923355339992,6511.9218304320002,5573.8625785577979,5349.867565380976,5132.9326238702988,4722.9889631929645,5008.0748060710075,4363.7585041360244,4611.2134855075346,3906.6215276754606,4120.8438150522079,3619.6912749944977,3573.3077868617402,3662.7509817128607,3248.987889810378,3116.0684046745855,2795.3373843043905,2821.5937866603949,2919.911654149083,2482.5192854595311,2502.1118691183669,2209.5591857154268,2342.729182878918,2299.1039304722685,2004.0535271161075,1939.5630137251123,2030.0578933484414,1815.6845260413475,1804.7522491949485,1794.404519574696,1524.979295841257,1618.6873091366176,1611.6708532317459,1372.9002070179877,1404.8814312339732,1383.9440476858429,1418.2082696614907]
[null,"Actual Revenue less Est. costs",null,{"$f":"D22-D26-D28-D30-D32-D36","v":-919.56799999999998},{"$f":"E22-E26-E28-E30-E32-E36","v":-40.5},0,-40.5,{"$f":"H22-H26-H28-H30-H32-H36","v":3241.0679039999995},4094.0613071999983,4141.2577319999991,5235.4391039999991,4896.9768959999992,5246.6262119999983,5290.0904735999984,5898.5527535999991,6420.3783479999975,7963.6185504000005,8967.3963119999971,7304.3391455999981,8533.006451999996,8452.3496759999962,7484.7447813600002,8018.1679679999988,6951.9625541999976,6495.1012950047989,6897.1983683399976,6005.0923355339992,6511.9218304320002,5573.8625785577979,5349.867565380976,5132.9326238702988,4722.9889631929645,5008.0748060710075,4363.7585041360244,4611.2134855075346,3906.6215276754606,4120.8438150522079,3619.6912749944977,3573.3077868617402,3662.7509817128607,3248.987889810378,3116.0684046745855,2795.3373843043905,2821.5937866603949,2919.911654149083,2482.5192854595311,2502.1118691183669,2209.5591857154268,2342.729182878918,2299.1039304722685,0,0,0,0,0,0,0,0,0,0,0,0,0]
["Management Costs"]
[null,"Thinning",null,{"$f":"'Input Tables'!$C$25*D10*D2","v":0},{"$f":"'Input Tables'!$C$25*E10*E2","v":0},{"$f":"'Input Tables'!$C$25*F10*F2","v":0},{"$f":"'Input Tables'!$C$25*G10*G2","v":0},{"$f":"'Input Tables'!$C$25*H10*H2","v":0},{"$f":"'Input Tables'!$C$25*I10*I2","v":0},{"$f":"'Input Tables'!$C$25*J10*J2","v":0},{"$f":"'Input Tables'!$C$25*K10*K2","v":0},{"$f":"'Input Tables'!$C$25*L10*L2","v":0},{"$f":"'Input Tables'!$C$25*M10*M2","v":0},{"$f":"'Input Tables'!$C$25*N10*N2","v":0},{"$f":"'Input Tables'!$C$25*O10*O2","v":0},{"$f":"'Input Tables'!$C$25*P10*P2","v":0},{"$f":"'Input Tables'!$C$25*Q10*Q2","v":0},{"$f":"'Input Tables'!$C$25*R10*R2","v":0},{"$f":"'Input Tables'!$C$25*S10*S2","v":0},{"$f":"'Input Tables'!$C$25*T10*T2","v":0},{"$f":"'Input Tables'!$C$25*U10*U2","v":0},{"$f":"'Input Tables'!$C$25*V10*V2","v":1.383739520050361},{"$f":"'Input Tables'!$C$25*W10*W2","v":0},{"$f":"'Input Tables'!$C$25*X10*X2","v":1.3533503707278125},{"$f":"'Input Tables'!$C$25*Y10*Y2","v":1.2649323755872286},{"$f":"'Input Tables'!$C$25*Z10*Z2","v":0},{"$f":"'Input Tables'!$C$25*AA10*AA2","v":1.2258620479554589},{"$f":"'Input Tables'!$C$25*AB10*AB2","v":0},{"$f":"'Input Tables'!$C$25*AC10*AC2","v":1.1807942428102085},{"$f":"'Input Tables'!$C$25*AD10*AD2","v":1.0967490151598305},{"$f":"'Input Tables'!$C$25*AE10*AE2","v":0},{"$f":"'Input Tables'!$C$25*AF10*AF2","v":1.0510701726258898},{"$f":"'Input Tables'!$C$25*AG10*AG2","v":0},{"$f":"'Input Tables'!$C$25*AH10*AH2","v":1.0033038705379425},{"$f":"'Input Tables'!$C$25*AI10*AI2","v":0},{"$f":"'Input Tables'!$C$25*AJ10*AJ2","v":0.9545402891639071},{"$f":"'Input Tables'!$C$25*AK10*AK2","v":0},{"$f":"'Input Tables'!$C$25*AL10*AL2","v":0.90560545598623687},{"$f":"'Input Tables'!$C$25*AM10*AM2","v":0},{"$f":"'Input Tables'!$C$25*AN10*AN2","v":0},{"$f":"'Input Tables'!$C$25*AO10*AO2","v":0.87795148510073362},{"$f":"'Input Tables'!$C$25*AP10*AP2","v":0},{"$f":"'Input Tables'!$C$25*AQ10*AQ2","v":0.8273434084110346},{"$f":"'Input Tables'!$C$25*AR10*AR2","v":0},{"$f":"'Input Tables'!$C$25*AS10*AS2","v":0},{"$f":"'Input Tables'!$C$25*AT10*AT2","v":0.79531532902480906},{"$f":"'Input Tables'!$C$25*AU10*AU2","v":0},{"$f":"'Input Tables'!$C$25*AV10*AV2","v":0.74596364322457653},{"$f":"'Input Tables'!$C$25*AW10*AW2","v":0},{"$f":"'Input Tables'!$C$25*AX10*AX2","v":0},{"$f":"'Input Tables'!$C$25*AY10*AY2","v":0.71274975862579404},{"$f":"'Input Tables'!$C$25*AZ10*AZ2","v":0},{"$f":"'Input Tables'!$C$25*BA10*BA2","v":0},{"$f":"'Input Tables'!$C$25*BB10*BB2","v":0.67860563771033622},{"$f":"'Input Tables'!$C$25*BC10*BC2","v":0},{"$f":"'Input Tables'!$C$25*BD10*BD2","v":0},{"$f":"'Input Tables'!$C$25*BE10*BE2","v":0.64417524207480936},{"$f":"'Input Tables'!$C$25*BF10*BF2","v":0},{"$f":"'Input Tables'!$C$25*BG10*BG2","v":0},{"$f":"'Input Tables'!$C$25*BH10*BH2","v":0.60994302891868046},{"$f":"'Input Tables'!$C$25*BI10*BI2","v":0},{"$f":"'Input Tables'!$C$25*BJ10*BJ2","v":0},{"$f":"'Input Tables'!$C$25*BK10*BK2","v":0}]
[]
[null,"Fertilization (maintenance)",null,null,{"$f":"IF(OR(E1='Input Tables'!$BA$35,E1='Input Tables'!$BB$35, E1='Input Tables'!$BC$35,E1='Input Tables'!$BD$35, E1='Input Tables'!$BE$35,E1='Input Tables'!$BF$35,E1='Input Tables'!$BG$35,E1='Input Tables'!$BH$35,E1='Input Tables'!$BI$35,E1='Input Tables'!$BJ$35,E1='Input Tables'!BJ35,'Input Tables'!$BL$35),('Cost Budgets'!$G$12*E6),0)","v":90},{"$f":"IF(OR(F1='Input Tables'!$BA$35,F1='Input Tables'!$BB$35, F1='Input Tables'!$BC$35,F1='Input Tables'!$BD$35, F1='Input Tables'!$BE$35,F1='Input Tables'!$BF$35,F1='Input Tables'!$BG$35,F1='Input Tables'!$BH$35,F1='Input Tables'!$BI$35,F1='Input Tables'!$BJ$35,F1='Input Tables'!BK35,'Input Tables'!$BL$35),('Cost Budgets'!$G$12*F6),0)","v":90},{"$f":"IF(OR(G1='Input Tables'!$BA$35,G1='Input Tables'!$BB$35, G1='Input Tables'!$BC$35,G1='Input Tables'!$BD$35, G1='Input Tables'!$BE$35,G1='Input Tables'!$BF$35,G1='Input Tables'!$BG$35,G1='Input Tables'!$BH$35,G1='Input Tables'!$BI$35,G1='Input Tables'!$BJ$35,G1='Input Tables'!BL35,'Input Tables'!$BL$35),('Cost Budgets'!$G$12*G6),0)","v":90},{"$f":"IF(OR(H1='Input Tables'!$BA$35,H1='Input Tables'!$BB$35, H1='Input Tables'!$BC$35,H1='Input Tables'!$BD$35, H1='Input Tables'!$BE$35,H1='Input Tables'!$BF$35,H1='Input Tables'!$BG$35,H1='Input Tables'!$BH$35,H1='Input Tables'!$BI$35,H1='Input Tables'!$BJ$35,H1='Input Tables'!BM35,'Input Tables'!$BL$35),('Cost Budgets'!$G$12*H6),0)","v":88.140495867768593},{"$f":"IF(OR(I1='Input Tables'!$BA$35,I1='Input Tables'!$BB$35, I1='Input Tables'!$BC$35,I1='Input Tables'!$BD$35, I1='Input Tables'!$BE$35,I1='Input Tables'!$BF$35,I1='Input Tables'!$BG$35,I1='Input Tables'!$BH$35,I1='Input Tables'!$BI$35,I1='Input Tables'!$BJ$35,I1='Input Tables'!BN35,'Input Tables'!$BL$35),('Cost Budgets'!$G$12*I6),0)","v":82.561983471074385},{"$f":"IF(OR(J1='Input Tables'!$BA$35,J1='Input Tables'!$BB$35, J1='Input Tables'!$BC$35,J1='Input Tables'!$BD$35, J1='Input Tables'!$BE$35,J1='Input Tables'!$BF$35,J1='Input Tables'!$BG$35,J1='Input Tables'!$BH$35,J1='Input Tables'!$BI$35,J1='Input Tables'!$BJ$35,J1='Input Tables'!BO35,'Input Tables'!$BL$35),('Cost Budgets'!$G$12*J6),0)","v":76.983471074380162},{"$f":"IF(OR(K1='Input Tables'!$BA$35,K1='Input Tables'!$BB$35, K1='Input Tables'!$BC$35,K1='Input Tables'!$BD$35, K1='Input Tables'!$BE$35,K1='Input Tables'!$BF$35,K1='Input Tables'!$BG$35,K1='Input Tables'!$BH$35,K1='Input Tables'!$BI$35,K1='Input Tables'!$BJ$35,K1='Input Tables'!BP35,'Input Tables'!$BL$35),('Cost Budgets'!$G$12*K6),0)","v":71.404958677685954},{"$f":"IF(OR(L1='Input Tables'!$BA$35,L1='Input Tables'!$BB$35, L1='Input Tables'!$BC$35,L1='Input Tables'!$BD$35, L1='Input Tables'!$BE$35,L1='Input Tables'!$BF$35,L1='Input Tables'!$BG$35,L1='Input Tables'!$BH$35,L1='Input Tables'!$BI$35,L1='Input Tables'!$BJ$35,L1='Input Tables'!BQ35,'Input Tables'!$BL$35),('Cost Budgets'!$G$12*L6),0)","v":71.404958677685954},{"$f":"IF(OR(M1='Input Tables'!$BA$35,M1='Input Tables'!$BB$35, M1='Input Tables'!$BC$35,M1='Input Tables'!$BD$35, M1='Input Tables'!$BE$35,M1='Input Tables'!$BF$35,M1='Input Tables'!$BG$35,M1='Input Tables'!$BH$35,M1='Input Tables'!$BI$35,M1='Input Tables'!$BJ$35,M1='Input Tables'!BR35,'Input Tables'!$BL$35),('Cost Budgets'!$G$12*M6),0)","v":65.826446280991732},{"$f":"IF(OR(N1='Input Tables'!$BA$35,N1='Input Tables'!$BB$35, N1='Input Tables'!$BC$35,N1='Input Tables'!$BD$35, N1='Input Tables'!$BE$35,N1='Input Tables'!$BF$35,N1='Input Tables'!$BG$35,N1='Input Tables'!$BH$35,N1='Input Tables'!$BI$35,N1='Input Tables'!$BJ$35,N1='Input Tables'!BS35,'Input Tables'!$BL$35),('Cost Budgets'!$G$12*N6),0)","v":65.826446280991732},{"$f":"IF(OR(O1='Input Tables'!$BA$35,O1='Input Tables'!$BB$35, O1='Input Tables'!$BC$35,O1='Input Tables'!$BD$35, O1='Input Tables'!$BE$35,O1='Input Tables'!$BF$35,O1='Input Tables'!$BG$35,O1='Input Tables'!$BH$35,O1='Input Tables'!$BI$35,O1='Input Tables'!$BJ$35,O1='Input Tables'!BT35,'Input Tables'!$BL$35),('Cost Budgets'!$G$12*O6),0)","v":65.826446280991732},{"$f":"IF(OR(P1='Input Tables'!$BA$35,P1='Input Tables'!$BB$35, P1='Input Tables'!$BC$35,P1='Input Tables'!$BD$35, P1='Input Tables'!$BE$35,P1='Input Tables'!$BF$35,P1='Input Tables'!$BG$35,P1='Input Tables'!$BH$35,P1='Input Tables'!$BI$35,P1='Input Tables'!$BJ$35,P1='Input Tables'!BU35,'Input Tables'!$BL$35),('Cost Budgets'!$G$12*P6),0)","v":65.826446280991732},{"$f":"IF(OR(Q1='Input Tables'!$BA$35,Q1='Input Tables'!$BB$35, Q1='Input Tables'!$BC$35,Q1='Input Tables'!$BD$35, Q1='Input Tables'!$BE$35,Q1='Input Tables'!$BF$35,Q1='Input Tables'!$BG$35,Q1='Input Tables'!$BH$35,Q1='Input Tables'!$BI$35,Q1='Input Tables'!$BJ$35,Q1='Input Tables'!BV35,'Input Tables'!$BL$35),('Cost Budgets'!$G$12*Q6),0)","v":65.826446280991732},{"$f":"IF(OR(R1='Input Tables'!$BA$35,R1='Input Tables'!$BB$35, R1='Input Tables'!$BC$35,R1='Input Tables'!$BD$35, R1='Input Tables'!$BE$35,R1='Input Tables'!$BF$35,R1='Input Tables'!$BG$35,R1='Input Tables'!$BH$35,R1='Input Tables'!$BI$35,R1='Input Tables'!$BJ$35,R1='Input Tables'!BW35,'Input Tables'!$BL$35),('Cost Budgets'!$G$12*R6),0)","v":65.826446280991732},{"$f":"IF(OR(S1='Input Tables'!$BA$35,S1='Input Tables'!$BB$35, S1='Input Tables'!$BC$35,S1='Input Tables'!$BD$35, S1='Input Tables'!$BE$35,S1='Input Tables'!$BF$35,S1='Input Tables'!$BG$35,S1='Input Tables'!$BH$35,S1='Input Tables'!$BI$35,S1='Input Tables'!$BJ$35,S1='Input Tables'!BX35,'Input Tables'!$BL$35),('Cost Budgets'!$G$12*S6),0)","v":65.826446280991732},{"$f":"IF(OR(T1='Input Tables'!$BA$35,T1='Input Tables'!$BB$35, T1='Input Tables'!$BC$35,T1='Input Tables'!$BD$35, T1='Input Tables'!$BE$35,T1='Input Tables'!$BF$35,T1='Input Tables'!$BG$35,T1='Input Tables'!$BH$35,T1='Input Tables'!$BI$35,T1='Input Tables'!$BJ$35,T1='Input Tables'!BY35,'Input Tables'!$BL$35),('Cost Budgets'!$G$12*T6),0)","v":65.826446280991732},{"$f":"IF(OR(U1='Input Tables'!$BA$35,U1='Input Tables'!$BB$35, U1='Input Tables'!$BC$35,U1='Input Tables'!$BD$35, U1='Input Tables'!$BE$35,U1='Input Tables'!$BF$35,U1='Input Tables'!$BG$35,U1='Input Tables'!$BH$35,U1='Input Tables'!$BI$35,U1='Input Tables'!$BJ$35,U1='Input Tables'!BZ35,'Input Tables'!$BL$35),('Cost Budgets'!$G$12*U6),0)","v":65.826446280991732},{"$f":"IF(OR(V1='Input Tables'!$BA$35,V1='Input Tables'!$BB$35, V1='Input Tables'!$BC$35,V1='Input Tables'!$BD$35, V1='Input Tables'!$BE$35,V1='Input Tables'!$BF$35,V1='Input Tables'!$BG$35,V1='Input Tables'!$BH$35,V1='Input Tables'!$BI$35,V1='Input Tables'!$BJ$35,V1='Input Tables'!CA35,'Input Tables'!$BL$35),('Cost Budgets'!$G$12*V6),0)","v":59.243801652892564},{"$f":"IF(OR(W1='Input Tables'!$BA$35,W1='Input Tables'!$BB$35, W1='Input Tables'!$BC$35,W1='Input Tables'!$BD$35, W1='Input Tables'!$BE$35,W1='Input Tables'!$BF$35,W1='Input Tables'!$BG$35,W1='Input Tables'!$BH$35,W1='Input Tables'!$BI$35,W1='Input Tables'!$BJ$35,W1='Input Tables'!CB35,'Input Tables'!$BL$35),('Cost Budgets'!$G$12*W6),0)","v":59.243801652892564},{"$f":"IF(OR(X1='Input Tables'!$BA$35,X1='Input Tables'!$BB$35, X1='Input Tables'!$BC$35,X1='Input Tables'!$BD$35, X1='Input Tables'!$BE$35,X1='Input Tables'!$BF$35,X1='Input Tables'!$BG$35,X1='Input Tables'!$BH$35,X1='Input Tables'!$BI$35,X1='Input Tables'!$BJ$35,X1='Input Tables'!CC35,'Input Tables'!$BL$35),('Cost Budgets'!$G$12*X6),0)","v":53.319421487603307},{"$f":"IF(OR(Y1='Input Tables'!$BA$35,Y1='Input Tables'!$BB$35, Y1='Input Tables'!$BC$35,Y1='Input Tables'!$BD$35, Y1='Input Tables'!$BE$35,Y1='Input Tables'!$BF$35,Y1='Input Tables'!$BG$35,Y1='Input Tables'!$BH$35,Y1='Input Tables'!$BI$35,Y1='Input Tables'!$BJ$35,Y1='Input Tables'!CD35,'Input Tables'!$BL$35),('Cost Budgets'!$G$12*Y6),0)","v":47.987479338842974},{"$f":"IF(OR(Z1='Input Tables'!$BA$35,Z1='Input Tables'!$BB$35, Z1='Input Tables'!$BC$35,Z1='Input Tables'!$BD$35, Z1='Input Tables'!$BE$35,Z1='Input Tables'!$BF$35,Z1='Input Tables'!$BG$35,Z1='Input Tables'!$BH$35,Z1='Input Tables'!$BI$35,Z1='Input Tables'!$BJ$35,Z1='Input Tables'!CE35,'Input Tables'!$BL$35),('Cost Budgets'!$G$12*Z6),0)","v":47.987479338842974},{"$f":"IF(OR(AA1='Input Tables'!$BA$35,AA1='Input Tables'!$BB$35, AA1='Input Tables'!$BC$35,AA1='Input Tables'!$BD$35, AA1='Input Tables'!$BE$35,AA1='Input Tables'!$BF$35,AA1='Input Tables'!$BG$35,AA1='Input Tables'!$BH$35,AA1='Input Tables'!$BI$35,AA1='Input Tables'!$BJ$35,AA1='Input Tables'!CF35,'Input Tables'!$BL$35),('Cost Budgets'!$G$12*AA6),0)","v":43.188731404958681},{"$f":"IF(OR(AB1='Input Tables'!$BA$35,AB1='Input Tables'!$BB$35, AB1='Input Tables'!$BC$35,AB1='Input Tables'!$BD$35, AB1='Input Tables'!$BE$35,AB1='Input Tables'!$BF$35,AB1='Input Tables'!$BG$35,AB1='Input Tables'!$BH$35,AB1='Input Tables'!$BI$35,AB1='Input Tables'!$BJ$35,AB1='Input Tables'!CG35,'Input Tables'!$BL$35),('Cost Budgets'!$G$12*AB6),0)","v":43.188731404958681},{"$f":"IF(OR(AC1='Input Tables'!$BA$35,AC1='Input Tables'!$BB$35, AC1='Input Tables'!$BC$35,AC1='Input Tables'!$BD$35, AC1='Input Tables'!$BE$35,AC1='Input Tables'!$BF$35,AC1='Input Tables'!$BG$35,AC1='Input Tables'!$BH$35,AC1='Input Tables'!$BI$35,AC1='Input Tables'!$BJ$35,AC1='Input Tables'!CH35,'Input Tables'!$BL$35),('Cost Budgets'!$G$12*AC6),0)","v":38.869858264462813},{"$f":"IF(OR(AD1='Input Tables'!$BA$35,AD1='Input Tables'!$BB$35, AD1='Input Tables'!$BC$35,AD1='Input Tables'!$BD$35, AD1='Input Tables'!$BE$35,AD1='Input Tables'!$BF$35,AD1='Input Tables'!$BG$35,AD1='Input Tables'!$BH$35,AD1='Input Tables'!$BI$35,AD1='Input Tables'!$BJ$35,AD1='Input Tables'!CI35,'Input Tables'!$BL$35),('Cost Budgets'!$G$12*AD6),0)","v":34.982872438016528},{"$f":"IF(OR(AE1='Input Tables'!$BA$35,AE1='Input Tables'!$BB$35, AE1='Input Tables'!$BC$35,AE1='Input Tables'!$BD$35, AE1='Input Tables'!$BE$35,AE1='Input Tables'!$BF$35,AE1='Input Tables'!$BG$35,AE1='Input Tables'!$BH$35,AE1='Input Tables'!$BI$35,AE1='Input Tables'!$BJ$35,AE1='Input Tables'!CJ35,'Input Tables'!$BL$35),('Cost Budgets'!$G$12*AE6),0)","v":34.982872438016528},{"$f":"IF(OR(AF1='Input Tables'!$BA$35,AF1='Input Tables'!$BB$35, AF1='Input Tables'!$BC$35,AF1='Input Tables'!$BD$35, AF1='Input Tables'!$BE$35,AF1='Input Tables'!$BF$35,AF1='Input Tables'!$BG$35,AF1='Input Tables'!$BH$35,AF1='Input Tables'!$BI$35,AF1='Input Tables'!$BJ$35,AF1='Input Tables'!CK35,'Input Tables'!$BL$35),('Cost Budgets'!$G$12*AF6),0)","v":31.484585194214876},{"$f":"IF(OR(AG1='Input Tables'!$BA$35,AG1='Input Tables'!$BB$35, AG1='Input Tables'!$BC$35,AG1='Input Tables'!$BD$35, AG1='Input Tables'!$BE$35,AG1='Input Tables'!$BF$35,AG1='Input Tables'!$BG$35,AG1='Input Tables'!$BH$35,AG1='Input Tables'!$BI$35,AG1='Input Tables'!$BJ$35,AG1='Input Tables'!CL35,'Input Tables'!$BL$35),('Cost Budgets'!$G$12*AG6),0)","v":31.484585194214876},{"$f":"IF(OR(AH1='Input Tables'!$BA$35,AH1='Input Tables'!$BB$35, AH1='Input Tables'!$BC$35,AH1='Input Tables'!$BD$35, AH1='Input Tables'!$BE$35,AH1='Input Tables'!$BF$35,AH1='Input Tables'!$BG$35,AH1='Input Tables'!$BH$35,AH1='Input Tables'!$BI$35,AH1='Input Tables'!$BJ$35,AH1='Input Tables'!CM35,'Input Tables'!$BL$35),('Cost Budgets'!$G$12*AH6),0)","v":28.336126674793388},{"$f":"IF(OR(AI1='Input Tables'!$BA$35,AI1='Input Tables'!$BB$35, AI1='Input Tables'!$BC$35,AI1='Input Tables'!$BD$35, AI1='Input Tables'!$BE$35,AI1='Input Tables'!$BF$35,AI1='Input Tables'!$BG$35,AI1='Input Tables'!$BH$35,AI1='Input Tables'!$BI$35,AI1='Input Tables'!$BJ$35,AI1='Input Tables'!CN35,'Input Tables'!$BL$35),('Cost Budgets'!$G$12*AI6),0)","v":28.336126674793388},{"$f":"IF(OR(AJ1='Input Tables'!$BA$35,AJ1='Input Tables'!$BB$35, AJ1='Input Tables'!$BC$35,AJ1='Input Tables'!$BD$35, AJ1='Input Tables'!$BE$35,AJ1='Input Tables'!$BF$35,AJ1='Input Tables'!$BG$35,AJ1='Input Tables'!$BH$35,AJ1='Input Tables'!$BI$35,AJ1='Input Tables'!$BJ$35,AJ1='Input Tables'!CO35,'Input Tables'!$BL$35),('Cost Budgets'!$G$12*AJ6),0)","v":25.502514007314051},{"$f":"IF(OR(AK1='Input Tables'!$BA$35,AK1='Input Tables'!$BB$35, AK1='Input Tables'!$BC$35,AK1='Input Tables'!$BD$35, AK1='Input Tables'!$BE$35,AK1='Input Tables'!$BF$35,AK1='Input Tables'!$BG$35,AK1='Input Tables'!$BH$35,AK1='Input Tables'!$BI$35,AK1='Input Tables'!$BJ$35,AK1='Input Tables'!CP35,'Input Tables'!$BL$35),('Cost Budgets'!$G$12*AK6),0)","v":25.502514007314051},{"$f":"IF(OR(AL1='Input Tables'!$BA$35,AL1='Input Tables'!$BB$35, AL1='Input Tables'!$BC$35,AL1='Input Tables'!$BD$35, AL1='Input Tables'!$BE$35,AL1='Input Tables'!$BF$35,AL1='Input Tables'!$BG$35,AL1='Input Tables'!$BH$35,AL1='Input Tables'!$BI$35,AL1='Input Tables'!$BJ$35,AL1='Input Tables'!CQ35,'Input Tables'!$BL$35),('Cost Budgets'!$G$12*AL6),0)","v":22.952262606582646},{"$f":"IF(OR(AM1='Input Tables'!$BA$35,AM1='Input Tables'!$BB$35, AM1='Input Tables'!$BC$35,AM1='Input Tables'!$BD$35, AM1='Input Tables'!$BE$35,AM1='Input Tables'!$BF$35,AM1='Input Tables'!$BG$35,AM1='Input Tables'!$BH$35,AM1='Input Tables'!$BI$35,AM1='Input Tables'!$BJ$35,AM1='Input Tables'!CR35,'Input Tables'!$BL$35),('Cost Budgets'!$G$12*AM6),0)","v":22.952262606582646},{"$f":"IF(OR(AN1='Input Tables'!$BA$35,AN1='Input Tables'!$BB$35, AN1='Input Tables'!$BC$35,AN1='Input Tables'!$BD$35, AN1='Input Tables'!$BE$35,AN1='Input Tables'!$BF$35,AN1='Input Tables'!$BG$35,AN1='Input Tables'!$BH$35,AN1='Input Tables'!$BI$35,AN1='Input Tables'!$BJ$35,AN1='Input Tables'!CS35,'Input Tables'!$BL$35),('Cost Budgets'!$G$12*AN6),0)","v":22.952262606582646},{"$f":"IF(OR(AO1='Input Tables'!$BA$35,AO1='Input Tables'!$BB$35, AO1='Input Tables'!$BC$35,AO1='Input Tables'!$BD$35, AO1='Input Tables'!$BE$35,AO1='Input Tables'!$BF$35,AO1='Input Tables'!$BG$35,AO1='Input Tables'!$BH$35,AO1='Input Tables'!$BI$35,AO1='Input Tables'!$BJ$35,AO1='Input Tables'!CT35,'Input Tables'!$BL$35),('Cost Budgets'!$G$12*AO6),0)","v":20.657036345924382},{"$f":"IF(OR(AP1='Input Tables'!$BA$35,AP1='Input Tables'!$BB$35, AP1='Input Tables'!$BC$35,AP1='Input Tables'!$BD$35, AP1='Input Tables'!$BE$35,AP1='Input Tables'!$BF$35,AP1='Input Tables'!$BG$35,AP1='Input Tables'!$BH$35,AP1='Input Tables'!$BI$35,AP1='Input Tables'!$BJ$35,AP1='Input Tables'!CU35,'Input Tables'!$BL$35),('Cost Budgets'!$G$12*AP6),0)","v":20.657036345924382},{"$f":"IF(OR(AQ1='Input Tables'!$BA$35,AQ1='Input Tables'!$BB$35, AQ1='Input Tables'!$BC$35,AQ1='Input Tables'!$BD$35, AQ1='Input Tables'!$BE$35,AQ1='Input Tables'!$BF$35,AQ1='Input Tables'!$BG$35,AQ1='Input Tables'!$BH$35,AQ1='Input Tables'!$BI$35,AQ1='Input Tables'!$BJ$35,AQ1='Input Tables'!CV35,'Input Tables'!$BL$35),('Cost Budgets'!$G$12*AQ6),0)","v":18.591332711331944},{"$f":"IF(OR(AR1='Input Tables'!$BA$35,AR1='Input Tables'!$BB$35, AR1='Input Tables'!$BC$35,AR1='Input Tables'!$BD$35, AR1='Input Tables'!$BE$35,AR1='Input Tables'!$BF$35,AR1='Input Tables'!$BG$35,AR1='Input Tables'!$BH$35,AR1='Input Tables'!$BI$35,AR1='Input Tables'!$BJ$35,AR1='Input Tables'!CW35,'Input Tables'!$BL$35),('Cost Budgets'!$G$12*AR6),0)","v":18.591332711331944},{"$f":"IF(OR(AS1='Input Tables'!$BA$35,AS1='Input Tables'!$BB$35, AS1='Input Tables'!$BC$35,AS1='Input Tables'!$BD$35, AS1='Input Tables'!$BE$35,AS1='Input Tables'!$BF$35,AS1='Input Tables'!$BG$35,AS1='Input Tables'!$BH$35,AS1='Input Tables'!$BI$35,AS1='Input Tables'!$BJ$35,AS1='Input Tables'!CX35,'Input Tables'!$BL$35),('Cost Budgets'!$G$12*AS6),0)","v":18.591332711331944},{"$f":"IF(OR(AT1='Input Tables'!$BA$35,AT1='Input Tables'!$BB$35, AT1='Input Tables'!$BC$35,AT1='Input Tables'!$BD$35, AT1='Input Tables'!$BE$35,AT1='Input Tables'!$BF$35,AT1='Input Tables'!$BG$35,AT1='Input Tables'!$BH$35,AT1='Input Tables'!$BI$35,AT1='Input Tables'!$BJ$35,AT1='Input Tables'!CY35,'Input Tables'!$BL$35),('Cost Budgets'!$G$12*AT6),0)","v":16.732199440198748},{"$f":"IF(OR(AU1='Input Tables'!$BA$35,AU1='Input Tables'!$BB$35, AU1='Input Tables'!$BC$35,AU1='Input Tables'!$BD$35, AU1='Input Tables'!$BE$35,AU1='Input Tables'!$BF$35,AU1='Input Tables'!$BG$35,AU1='Input Tables'!$BH$35,AU1='Input Tables'!$BI$35,AU1='Input Tables'!$BJ$35,AU1='Input Tables'!CZ35,'Input Tables'!$BL$35),('Cost Budgets'!$G$12*AU6),0)","v":16.732199440198748},{"$f":"IF(OR(AV1='Input Tables'!$BA$35,AV1='Input Tables'!$BB$35, AV1='Input Tables'!$BC$35,AV1='Input Tables'!$BD$35, AV1='Input Tables'!$BE$35,AV1='Input Tables'!$BF$35,AV1='Input Tables'!$BG$35,AV1='Input Tables'!$BH$35,AV1='Input Tables'!$BI$35,AV1='Input Tables'!$BJ$35,AV1='Input Tables'!DA35,'Input Tables'!$BL$35),('Cost Budgets'!$G$12*AV6),0)","v":15.058979496178873},{"$f":"IF(OR(AW1='Input Tables'!$BA$35,AW1='Input Tables'!$BB$35, AW1='Input Tables'!$BC$35,AW1='Input Tables'!$BD$35, AW1='Input Tables'!$BE$35,AW1='Input Tables'!$BF$35,AW1='Input Tables'!$BG$35,AW1='Input Tables'!$BH$35,AW1='Input Tables'!$BI$35,AW1='Input Tables'!$BJ$35,AW1='Input Tables'!DB35,'Input Tables'!$BL$35),('Cost Budgets'!$G$12*AW6),0)","v":15.058979496178873},{"$f":"IF(OR(AX1='Input Tables'!$BA$35,AX1='Input Tables'!$BB$35, AX1='Input Tables'!$BC$35,AX1='Input Tables'!$BD$35, AX1='Input Tables'!$BE$35,AX1='Input Tables'!$BF$35,AX1='Input Tables'!$BG$35,AX1='Input Tables'!$BH$35,AX1='Input Tables'!$BI$35,AX1='Input Tables'!$BJ$35,AX1='Input Tables'!DC35,'Input Tables'!$BL$35),('Cost Budgets'!$G$12*AX6),0)","v":15.058979496178873},{"$f":"IF(OR(AY1='Input Tables'!$BA$35,AY1='Input Tables'!$BB$35, AY1='Input Tables'!$BC$35,AY1='Input Tables'!$BD$35, AY1='Input Tables'!$BE$35,AY1='Input Tables'!$BF$35,AY1='Input Tables'!$BG$35,AY1='Input Tables'!$BH$35,AY1='Input Tables'!$BI$35,AY1='Input Tables'!$BJ$35,AY1='Input Tables'!DD35,'Input Tables'!$BL$35),('Cost Budgets'!$G$12*AY6),0)","v":13.553081546560986},{"$f":"IF(OR(AZ1='Input Tables'!$BA$35,AZ1='Input Tables'!$BB$35, AZ1='Input Tables'!$BC$35,AZ1='Input Tables'!$BD$35, AZ1='Input Tables'!$BE$35,AZ1='Input Tables'!$BF$35,AZ1='Input Tables'!$BG$35,AZ1='Input Tables'!$BH$35,AZ1='Input Tables'!$BI$35,AZ1='Input Tables'!$BJ$35,AZ1='Input Tables'!DE35,'Input Tables'!$BL$35),('Cost Budgets'!$G$12*AZ6),0)","v":13.553081546560986},{"$f":"IF(OR(BA1='Input Tables'!$BA$35,BA1='Input Tables'!$BB$35, BA1='Input Tables'!$BC$35,BA1='Input Tables'!$BD$35, BA1='Input Tables'!$BE$35,BA1='Input Tables'!$BF$35,BA1='Input Tables'!$BG$35,BA1='Input Tables'!$BH$35,BA1='Input Tables'!$BI$35,BA1='Input Tables'!$BJ$35,BA1='Input Tables'!DF35,'Input Tables'!$BL$35),('Cost Budgets'!$G$12*BA6),0)","v":13.553081546560986},{"$f":"IF(OR(BB1='Input Tables'!$BA$35,BB1='Input Tables'!$BB$35, BB1='Input Tables'!$BC$35,BB1='Input Tables'!$BD$35, BB1='Input Tables'!$BE$35,BB1='Input Tables'!$BF$35,BB1='Input Tables'!$BG$35,BB1='Input Tables'!$BH$35,BB1='Input Tables'!$BI$35,BB1='Input Tables'!$BJ$35,BB1='Input Tables'!DG35,'Input Tables'!$BL$35),('Cost Budgets'!$G$12*BB6),0)","v":12.197773391904887},{"$f":"IF(OR(BC1='Input Tables'!$BA$35,BC1='Input Tables'!$BB$35, BC1='Input Tables'!$BC$35,BC1='Input Tables'!$BD$35, BC1='Input Tables'!$BE$35,BC1='Input Tables'!$BF$35,BC1='Input Tables'!$BG$35,BC1='Input Tables'!$BH$35,BC1='Input Tables'!$BI$35,BC1='Input Tables'!$BJ$35,BC1='Input Tables'!DH35,'Input Tables'!$BL$35),('Cost Budgets'!$G$12*BC6),0)","v":12.197773391904887},{"$f":"IF(OR(BD1='Input Tables'!$BA$35,BD1='Input Tables'!$BB$35, BD1='Input Tables'!$BC$35,BD1='Input Tables'!$BD$35, BD1='Input Tables'!$BE$35,BD1='Input Tables'!$BF$35,BD1='Input Tables'!$BG$35,BD1='Input Tables'!$BH$35,BD1='Input Tables'!$BI$35,BD1='Input Tables'!$BJ$35,BD1='Input Tables'!DI35,'Input Tables'!$BL$35),('Cost Budgets'!$G$12*BD6),0)","v":12.197773391904887},{"$f":"IF(OR(BE1='Input Tables'!$BA$35,BE1='Input Tables'!$BB$35, BE1='Input Tables'!$BC$35,BE1='Input Tables'!$BD$35, BE1='Input Tables'!$BE$35,BE1='Input Tables'!$BF$35,BE1='Input Tables'!$BG$35,BE1='Input Tables'!$BH$35,BE1='Input Tables'!$BI$35,BE1='Input Tables'!$BJ$35,BE1='Input Tables'!DJ35,'Input Tables'!$BL$35),('Cost Budgets'!$G$12*BE6),0)","v":10.977996052714397},{"$f":"IF(OR(BF1='Input Tables'!$BA$35,BF1='Input Tables'!$BB$35, BF1='Input Tables'!$BC$35,BF1='Input Tables'!$BD$35, BF1='Input Tables'!$BE$35,BF1='Input Tables'!$BF$35,BF1='Input Tables'!$BG$35,BF1='Input Tables'!$BH$35,BF1='Input Tables'!$BI$35,BF1='Input Tables'!$BJ$35,BF1='Input Tables'!DK35,'Input Tables'!$BL$35),('Cost Budgets'!$G$12*BF6),0)","v":10.977996052714397},{"$f":"IF(OR(BG1='Input Tables'!$BA$35,BG1='Input Tables'!$BB$35, BG1='Input Tables'!$BC$35,BG1='Input Tables'!$BD$35, BG1='Input Tables'!$BE$35,BG1='Input Tables'!$BF$35,BG1='Input Tables'!$BG$35,BG1='Input Tables'!$BH$35,BG1='Input Tables'!$BI$35,BG1='Input Tables'!$BJ$35,BG1='Input Tables'!DL35,'Input Tables'!$BL$35),('Cost Budgets'!$G$12*BG6),0)","v":10.977996052714397},{"$f":"IF(OR(BH1='Input Tables'!$BA$35,BH1='Input Tables'!$BB$35, BH1='Input Tables'!$BC$35,BH1='Input Tables'!$BD$35, BH1='Input Tables'!$BE$35,BH1='Input Tables'!$BF$35,BH1='Input Tables'!$BG$35,BH1='Input Tables'!$BH$35,BH1='Input Tables'!$BI$35,BH1='Input Tables'!$BJ$35,BH1='Input Tables'!DM35,'Input Tables'!$BL$35),('Cost Budgets'!$G$12*BH6),0)","v":9.8801964474429589},{"$f":"IF(OR(BI1='Input Tables'!$BA$35,BI1='Input Tables'!$BB$35, BI1='Input Tables'!$BC$35,BI1='Input Tables'!$BD$35, BI1='Input Tables'!$BE$35,BI1='Input Tables'!$BF$35,BI1='Input Tables'!$BG$35,BI1='Input Tables'!$BH$35,BI1='Input Tables'!$BI$35,BI1='Input Tables'!$BJ$35,BI1='Input Tables'!DN35,'Input Tables'!$BL$35),('Cost Budgets'!$G$12*BI6),0)","v":9.8801964474429589},{"$f":"IF(OR(BJ1='Input Tables'!$BA$35,BJ1='Input Tables'!$BB$35, BJ1='Input Tables'!$BC$35,BJ1='Input Tables'!$BD$35, BJ1='Input Tables'!$BE$35,BJ1='Input Tables'!$BF$35,BJ1='Input Tables'!$BG$35,BJ1='Input Tables'!$BH$35,BJ1='Input Tables'!$BI$35,BJ1='Input Tables'!$BJ$35,BJ1='Input Tables'!DO35,'Input Tables'!$BL$35),('Cost Budgets'!$G$12*BJ6),0)","v":9.8801964474429589},{"$f":"IF(OR(BK1='Input Tables'!$BA$35,BK1='Input Tables'!$BB$35, BK1='Input Tables'!$BC$35,BK1='Input Tables'!$BD$35, BK1='Input Tables'!$BE$35,BK1='Input Tables'!$BF$35,BK1='Input Tables'!$BG$35,BK1='Input Tables'!$BH$35,BK1='Input Tables'!$BI$35,BK1='Input Tables'!$BJ$35,BK1='Input Tables'!DP35,'Input Tables'!$BL$35),('Cost Budgets'!$G$12*BK6),0)","v":9.8801964474429589}]
[]
[null,"Pruning",null,null,{"$f":"IF(OR(E1='Input Tables'!$BA$41, E1='Input Tables'!$BB$41,E1='Input Tables'!$BC$41, E1='Input Tables'!$BD$41,E1='Input Tables'!$BE$41,E1='Input Tables'!$BF$41,E1='Input Tables'!$BG$41,E1='Input Tables'!$BH$41,E1='Input Tables'!$BI$41,E1='Input Tables'!$BJ$41,E1='Input Tables'!$BK$41, E1='Input Tables'!$BL$41,'Input Tables'!$BM$41),('Cost Budgets'!$G$13*E6),0)","v":0},{"$f":"IF(OR(F1='Input Tables'!$BA$41, F1='Input Tables'!$BB$41,F1='Input Tables'!$BC$41, F1='Input Tables'!$BD$41,F1='Input Tables'!$BE$41,F1='Input Tables'!$BF$41,F1='Input Tables'!$BG$41,F1='Input Tables'!$BH$41,F1='Input Tables'!$BI$41,F1='Input Tables'!$BJ$41,F1='Input Tables'!$BK$41, F1='Input Tables'!$BL$41,'Input Tables'!$BM$41),('Cost Budgets'!$G$13*F6),0)","v":0},{"$f":"IF(OR(G1='Input Tables'!$BA$41, G1='Input Tables'!$BB$41,G1='Input Tables'!$BC$41, G1='Input Tables'!$BD$41,G1='Input Tables'!$BE$41,G1='Input Tables'!$BF$41,G1='Input Tables'!$BG$41,G1='Input Tables'!$BH$41,G1='Input Tables'!$BI$41,G1='Input Tables'!$BJ$41,G1='Input Tables'!$BK$41, G1='Input Tables'!$BL$41,'Input Tables'!$BM$41),('Cost Budgets'!$G$13*G6),0)","v":0},{"$f":"IF(OR(H1='Input Tables'!$BA$41, H1='Input Tables'!$BB$41,H1='Input Tables'!$BC$41, H1='Input Tables'!$BD$41,H1='Input Tables'!$BE$41,H1='Input Tables'!$BF$41,H1='Input Tables'!$BG$41,H1='Input Tables'!$BH$41,H1='Input Tables'!$BI$41,H1='Input Tables'!$BJ$41,H1='Input Tables'!$BK$41, H1='Input Tables'!$BL$41,'Input Tables'!$BM$41),('Cost Budgets'!$G$13*H6),0)","v":47.4},{"$f":"IF(OR(I1='Input Tables'!$BA$41, I1='Input Tables'!$BB$41,I1='Input Tables'!$BC$41, I1='Input Tables'!$BD$41,I1='Input Tables'!$BE$41,I1='Input Tables'!$BF$41,I1='Input Tables'!$BG$41,I1='Input Tables'!$BH$41,I1='Input Tables'!$BI$41,I1='Input Tables'!$BJ$41,I1='Input Tables'!$BK$41, I1='Input Tables'!$BL$41,'Input Tables'!$BM$41),('Cost Budgets'!$G$13*I6),0)","v":0},{"$f":"IF(OR(J1='Input Tables'!$BA$41, J1='Input Tables'!$BB$41,J1='Input Tables'!$BC$41, J1='Input Tables'!$BD$41,J1='Input Tables'!$BE$41,J1='Input Tables'!$BF$41,J1='Input Tables'!$BG$41,J1='Input Tables'!$BH$41,J1='Input Tables'!$BI$41,J1='Input Tables'!$BJ$41,J1='Input Tables'!$BK$41, J1='Input Tables'!$BL$41,'Input Tables'!$BM$41),('Cost Budgets'!$G$13*J6),0)","v":41.4},{"$f":"IF(OR(K1='Input Tables'!$BA$41, K1='Input Tables'!$BB$41,K1='Input Tables'!$BC$41, K1='Input Tables'!$BD$41,K1='Input Tables'!$BE$41,K1='Input Tables'!$BF$41,K1='Input Tables'!$BG$41,K1='Input Tables'!$BH$41,K1='Input Tables'!$BI$41,K1='Input Tables'!$BJ$41,K1='Input Tables'!$BK$41, K1='Input Tables'!$BL$41,'Input Tables'!$BM$41),('Cost Budgets'!$G$13*K6),0)","v":0},{"$f":"IF(OR(L1='Input Tables'!$BA$41, L1='Input Tables'!$BB$41,L1='Input Tables'!$BC$41, L1='Input Tables'!$BD$41,L1='Input Tables'!$BE$41,L1='Input Tables'!$BF$41,L1='Input Tables'!$BG$41,L1='Input Tables'!$BH$41,L1='Input Tables'!$BI$41,L1='Input Tables'!$BJ$41,L1='Input Tables'!$BK$41, L1='Input Tables'!$BL$41,'Input Tables'!$BM$41),('Cost Budgets'!$G$13*L6),0)","v":38.4},{"$f":"IF(OR(M1='Input Tables'!$BA$41, M1='Input Tables'!$BB$41,M1='Input Tables'!$BC$41, M1='Input Tables'!$BD$41,M1='Input Tables'!$BE$41,M1='Input Tables'!$BF$41,M1='Input Tables'!$BG$41,M1='Input Tables'!$BH$41,M1='Input Tables'!$BI$41,M1='Input Tables'!$BJ$41,M1='Input Tables'!$BK$41, M1='Input Tables'!$BL$41,'Input Tables'!$BM$41),('Cost Budgets'!$G$13*M6),0)","v":0},{"$f":"IF(OR(N1='Input Tables'!$BA$41, N1='Input Tables'!$BB$41,N1='Input Tables'!$BC$41, N1='Input Tables'!$BD$41,N1='Input Tables'!$BE$41,N1='Input Tables'!$BF$41,N1='Input Tables'!$BG$41,N1='Input Tables'!$BH$41,N1='Input Tables'!$BI$41,N1='Input Tables'!$BJ$41,N1='Input Tables'!$BK$41, N1='Input Tables'!$BL$41,'Input Tables'!$BM$41),('Cost Budgets'!$G$13*N6),0)","v":35.4},{"$f":"IF(OR(O1='Input Tables'!$BA$41, O1='Input Tables'!$BB$41,O1='Input Tables'!$BC$41, O1='Input Tables'!$BD$41,O1='Input Tables'!$BE$41,O1='Input Tables'!$BF$41,O1='Input Tables'!$BG$41,O1='Input Tables'!$BH$41,O1='Input Tables'!$BI$41,O1='Input Tables'!$BJ$41,O1='Input Tables'!$BK$41, O1='Input Tables'!$BL$41,'Input Tables'!$BM$41),('Cost Budgets'!$G$13*O6),0)","v":0},{"$f":"IF(OR(P1='Input Tables'!$BA$41, P1='Input Tables'!$BB$41,P1='Input Tables'!$BC$41, P1='Input Tables'!$BD$41,P1='Input Tables'!$BE$41,P1='Input Tables'!$BF$41,P1='Input Tables'!$BG$41,P1='Input Tables'!$BH$41,P1='Input Tables'!$BI$41,P1='Input Tables'!$BJ$41,P1='Input Tables'!$BK$41, P1='Input Tables'!$BL$41,'Input Tables'!$BM$41),('Cost Budgets'!$G$13*P6),0)","v":0},{"$f":"IF(OR(Q1='Input Tables'!$BA$41, Q1='Input Tables'!$BB$41,Q1='Input Tables'!$BC$41, Q1='Input Tables'!$BD$41,Q1='Input Tables'!$BE$41,Q1='Input Tables'!$BF$41,Q1='Input Tables'!$BG$41,Q1='Input Tables'!$BH$41,Q1='Input Tables'!$BI$41,Q1='Input Tables'!$BJ$41,Q1='Input Tables'!$BK$41, Q1='Input Tables'!$BL$41,'Input Tables'!$BM$41),('Cost Budgets'!$G$13*Q6),0)","v":0},{"$f":"IF(OR(R1='Input Tables'!$BA$41, R1='Input Tables'!$BB$41,R1='Input Tables'!$BC$41, R1='Input Tables'!$BD$41,R1='Input Tables'!$BE$41,R1='Input Tables'!$BF$41,R1='Input Tables'!$BG$41,R1='Input Tables'!$BH$41,R1='Input Tables'!$BI$41,R1='Input Tables'!$BJ$41,R1='Input Tables'!$BK$41, R1='Input Tables'!$BL$41,'Input Tables'!$BM$41),('Cost Budgets'!$G$13*R6),0)","v":0},{"$f":"IF(OR(S1='Input Tables'!$BA$41, S1='Input Tables'!$BB$41,S1='Input Tables'!$BC$41, S1='Input Tables'!$BD$41,S1='Input Tables'!$BE$41,S1='Input Tables'!$BF$41,S1='Input Tables'!$BG$41,S1='Input Tables'!$BH$41,S1='Input Tables'!$BI$41,S1='Input Tables'!$BJ$41,S1='Input Tables'!$BK$41, S1='Input Tables'!$BL$41,'Input Tables'!$BM$41),('Cost Budgets'!$G$13*S6),0)","v":0},{"$f":"IF(OR(T1='Input Tables'!$BA$41, T1='Input Tables'!$BB$41,T1='Input Tables'!$BC$41, T1='Input Tables'!$BD$41,T1='Input Tables'!$BE$41,T1='Input Tables'!$BF$41,T1='Input Tables'!$BG$41,T1='Input Tables'!$BH$41,T1='Input Tables'!$BI$41,T1='Input Tables'!$BJ$41,T1='Input Tables'!$BK$41, T1='Input Tables'!$BL$41,'Input Tables'!$BM$41),('Cost Budgets'!$G$13*T6),0)","v":0},{"$f":"IF(OR(U1='Input Tables'!$BA$41, U1='Input Tables'!$BB$41,U1='Input Tables'!$BC$41, U1='Input Tables'!$BD$41,U1='Input Tables'!$BE$41,U1='Input Tables'!$BF$41,U1='Input Tables'!$BG$41,U1='Input Tables'!$BH$41,U1='Input Tables'!$BI$41,U1='Input Tables'!$BJ$41,U1='Input Tables'!$BK$41, U1='Input Tables'!$BL$41,'Input Tables'!$BM$41),('Cost Budgets'!$G$13*U6),0)","v":0},{"$f":"IF(OR(V1='Input Tables'!$BA$41, V1='Input Tables'!$BB$41,V1='Input Tables'!$BC$41, V1='Input Tables'!$BD$41,V1='Input Tables'!$BE$41,V1='Input Tables'!$BF$41,V1='Input Tables'!$BG$41,V1='Input Tables'!$BH$41,V1='Input Tables'!$BI$41,V1='Input Tables'!$BJ$41,V1='Input Tables'!$BK$41, V1='Input Tables'!$BL$41,'Input Tables'!$BM$41),('Cost Budgets'!$G$13*V6),0)","v":0},{"$f":"IF(OR(W1='Input Tables'!$BA$41, W1='Input Tables'!$BB$41,W1='Input Tables'!$BC$41, W1='Input Tables'!$BD$41,W1='Input Tables'!$BE$41,W1='Input Tables'!$BF$41,W1='Input Tables'!$BG$41,W1='Input Tables'!$BH$41,W1='Input Tables'!$BI$41,W1='Input Tables'!$BJ$41,W1='Input Tables'!$BK$41, W1='Input Tables'!$BL$41,'Input Tables'!$BM$41),('Cost Budgets'!$G$13*W6),0)","v":0},{"$f":"IF(OR(X1='Input Tables'!$BA$41, X1='Input Tables'!$BB$41,X1='Input Tables'!$BC$41, X1='Input Tables'!$BD$41,X1='Input Tables'!$BE$41,X1='Input Tables'!$BF$41,X1='Input Tables'!$BG$41,X1='Input Tables'!$BH$41,X1='Input Tables'!$BI$41,X1='Input Tables'!$BJ$41,X1='Input Tables'!$BK$41, X1='Input Tables'!$BL$41,'Input Tables'!$BM$41),('Cost Budgets'!$G$13*X6),0)","v":0},{"$f":"IF(OR(Y1='Input Tables'!$BA$41, Y1='Input Tables'!$BB$41,Y1='Input Tables'!$BC$41, Y1='Input Tables'!$BD$41,Y1='Input Tables'!$BE$41,Y1='Input Tables'!$BF$41,Y1='Input Tables'!$BG$41,Y1='Input Tables'!$BH$41,Y1='Input Tables'!$BI$41,Y1='Input Tables'!$BJ$41,Y1='Input Tables'!$BK$41, Y1='Input Tables'!$BL$41,'Input Tables'!$BM$41),('Cost Budgets'!$G$13*Y6),0)","v":0},{"$f":"IF(OR(Z1='Input Tables'!$BA$41, Z1='Input Tables'!$BB$41,Z1='Input Tables'!$BC$41, Z1='Input Tables'!$BD$41,Z1='Input Tables'!$BE$41,Z1='Input Tables'!$BF$41,Z1='Input Tables'!$BG$41,Z1='Input Tables'!$BH$41,Z1='Input Tables'!$BI$41,Z1='Input Tables'!$BJ$41,Z1='Input Tables'!$BK$41, Z1='Input Tables'!$BL$41,'Input Tables'!$BM$41),('Cost Budgets'!$G$13*Z6),0)","v":0},{"$f":"IF(OR(AA1='Input Tables'!$BA$41, AA1='Input Tables'!$BB$41,AA1='Input Tables'!$BC$41, AA1='Input Tables'!$BD$41,AA1='Input Tables'!$BE$41,AA1='Input Tables'!$BF$41,AA1='Input Tables'!$BG$41,AA1='Input Tables'!$BH$41,AA1='Input Tables'!$BI$41,AA1='Input Tables'!$BJ$41,AA1='Input Tables'!$BK$41, AA1='Input Tables'!$BL$41,'Input Tables'!$BM$41),('Cost Budgets'!$G$13*AA6),0)","v":0},{"$f":"IF(OR(AB1='Input Tables'!$BA$41, AB1='Input Tables'!$BB$41,AB1='Input Tables'!$BC$41, AB1='Input Tables'!$BD$41,AB1='Input Tables'!$BE$41,AB1='Input Tables'!$BF$41,AB1='Input Tables'!$BG$41,AB1='Input Tables'!$BH$41,AB1='Input Tables'!$BI$41,AB1='Input Tables'!$BJ$41,AB1='Input Tables'!$BK$41, AB1='Input Tables'!$BL$41,'Input Tables'!$BM$41),('Cost Budgets'!$G$13*AB6),0)","v":0},{"$f":"IF(OR(AC1='Input Tables'!$BA$41, AC1='Input Tables'!$BB$41,AC1='Input Tables'!$BC$41, AC1='Input Tables'!$BD$41,AC1='Input Tables'!$BE$41,AC1='Input Tables'!$BF$41,AC1='Input Tables'!$BG$41,AC1='Input Tables'!$BH$41,AC1='Input Tables'!$BI$41,AC1='Input Tables'!$BJ$41,AC1='Input Tables'!$BK$41, AC1='Input Tables'!$BL$41,'Input Tables'!$BM$41),('Cost Budgets'!$G$13*AC6),0)","v":0},{"$f":"IF(OR(AD1='Input Tables'!$BA$41, AD1='Input Tables'!$BB$41,AD1='Input Tables'!$BC$41, AD1='Input Tables'!$BD$41,AD1='Input Tables'!$BE$41,AD1='Input Tables'!$BF$41,AD1='Input Tables'!$BG$41,AD1='Input Tables'!$BH$41,AD1='Input Tables'!$BI$41,AD1='Input Tables'!$BJ$41,AD1='Input Tables'!$BK$41, AD1='Input Tables'!$BL$41,'Input Tables'!$BM$41),('Cost Budgets'!$G$13*AD6),0)","v":0},{"$f":"IF(OR(AE1='Input Tables'!$BA$41, AE1='Input Tables'!$BB$41,AE1='Input Tables'!$BC$41, AE1='Input Tables'!$BD$41,AE1='Input Tables'!$BE$41,AE1='Input Tables'!$BF$41,AE1='Input Tables'!$BG$41,AE1='Input Tables'!$BH$41,AE1='Input Tables'!$BI$41,AE1='Input Tables'!$BJ$41,AE1='Input Tables'!$BK$41, AE1='Input Tables'!$BL$41,'Input Tables'!$BM$41),('Cost Budgets'!$G$13*AE6),0)","v":0},{"$f":"IF(OR(AF1='Input Tables'!$BA$41, AF1='Input Tables'!$BB$41,AF1='Input Tables'!$BC$41, AF1='Input Tables'!$BD$41,AF1='Input Tables'!$BE$41,AF1='Input Tables'!$BF$41,AF1='Input Tables'!$BG$41,AF1='Input Tables'!$BH$41,AF1='Input Tables'!$BI$41,AF1='Input Tables'!$BJ$41,AF1='Input Tables'!$BK$41, AF1='Input Tables'!$BL$41,'Input Tables'!$BM$41),('Cost Budgets'!$G$13*AF6),0)","v":0},{"$f":"IF(OR(AG1='Input Tables'!$BA$41, AG1='Input Tables'!$BB$41,AG1='Input Tables'!$BC$41, AG1='Input Tables'!$BD$41,AG1='Input Tables'!$BE$41,AG1='Input Tables'!$BF$41,AG1='Input Tables'!$BG$41,AG1='Input Tables'!$BH$41,AG1='Input Tables'!$BI$41,AG1='Input Tables'!$BJ$41,AG1='Input Tables'!$BK$41, AG1='Input Tables'!$BL$41,'Input Tables'!$BM$41),('Cost Budgets'!$G$13*AG6),0)","v":0},{"$f":"IF(OR(AH1='Input Tables'!$BA$41, AH1='Input Tables'!$BB$41,AH1='Input Tables'!$BC$41, AH1='Input Tables'!$BD$41,AH1='Input Tables'!$BE$41,AH1='Input Tables'!$BF$41,AH1='Input Tables'!$BG$41,AH1='Input Tables'!$BH$41,AH1='Input Tables'!$BI$41,AH1='Input Tables'!$BJ$41,AH1='Input Tables'!$BK$41, AH1='Input Tables'!$BL$41,'Input Tables'!$BM$41),('Cost Budgets'!$G$13*AH6),0)","v":0},{"$f":"IF(OR(AI1='Input Tables'!$BA$41, AI1='Input Tables'!$BB$41,AI1='Input Tables'!$BC$41, AI1='Input Tables'!$BD$41,AI1='Input Tables'!$BE$41,AI1='Input Tables'!$BF$41,AI1='Input Tables'!$BG$41,AI1='Input Tables'!$BH$41,AI1='Input Tables'!$BI$41,AI1='Input Tables'!$BJ$41,AI1='Input Tables'!$BK$41, AI1='Input Tables'!$BL$41,'Input Tables'!$BM$41),('Cost Budgets'!$G$13*AI6),0)","v":0},{"$f":"IF(OR(AJ1='Input Tables'!$BA$41, AJ1='Input Tables'!$BB$41,AJ1='Input Tables'!$BC$41, AJ1='Input Tables'!$BD$41,AJ1='Input Tables'!$BE$41,AJ1='Input Tables'!$BF$41,AJ1='Input Tables'!$BG$41,AJ1='Input Tables'!$BH$41,AJ1='Input Tables'!$BI$41,AJ1='Input Tables'!$BJ$41,AJ1='Input Tables'!$BK$41, AJ1='Input Tables'!$BL$41,'Input Tables'!$BM$41),('Cost Budgets'!$G$13*AJ6),0)","v":0},{"$f":"IF(OR(AK1='Input Tables'!$BA$41, AK1='Input Tables'!$BB$41,AK1='Input Tables'!$BC$41, AK1='Input Tables'!$BD$41,AK1='Input Tables'!$BE$41,AK1='Input Tables'!$BF$41,AK1='Input Tables'!$BG$41,AK1='Input Tables'!$BH$41,AK1='Input Tables'!$BI$41,AK1='Input Tables'!$BJ$41,AK1='Input Tables'!$BK$41, AK1='Input Tables'!$BL$41,'Input Tables'!$BM$41),('Cost Budgets'!$G$13*AK6),0)","v":0},{"$f":"IF(OR(AL1='Input Tables'!$BA$41, AL1='Input Tables'!$BB$41,AL1='Input Tables'!$BC$41, AL1='Input Tables'!$BD$41,AL1='Input Tables'!$BE$41,AL1='Input Tables'!$BF$41,AL1='Input Tables'!$BG$41,AL1='Input Tables'!$BH$41,AL1='Input Tables'!$BI$41,AL1='Input Tables'!$BJ$41,AL1='Input Tables'!$BK$41, AL1='Input Tables'!$BL$41,'Input Tables'!$BM$41),('Cost Budgets'!$G$13*AL6),0)","v":0},{"$f":"IF(OR(AM1='Input Tables'!$BA$41, AM1='Input Tables'!$BB$41,AM1='Input Tables'!$BC$41, AM1='Input Tables'!$BD$41,AM1='Input Tables'!$BE$41,AM1='Input Tables'!$BF$41,AM1='Input Tables'!$BG$41,AM1='Input Tables'!$BH$41,AM1='Input Tables'!$BI$41,AM1='Input Tables'!$BJ$41,AM1='Input Tables'!$BK$41, AM1='Input Tables'!$BL$41,'Input Tables'!$BM$41),('Cost Budgets'!$G$13*AM6),0)","v":0},{"$f":"IF(OR(AN1='Input Tables'!$BA$41, AN1='Input Tables'!$BB$41,AN1='Input Tables'!$BC$41, AN1='Input Tables'!$BD$41,AN1='Input Tables'!$BE$41,AN1='Input Tables'!$BF$41,AN1='Input Tables'!$BG$41,AN1='Input Tables'!$BH$41,AN1='Input Tables'!$BI$41,AN1='Input Tables'!$BJ$41,AN1='Input Tables'!$BK$41, AN1='Input Tables'!$BL$41,'Input Tables'!$BM$41),('Cost Budgets'!$G$13*AN6),0)","v":0},{"$f":"IF(OR(AO1='Input Tables'!$BA$41, AO1='Input Tables'!$BB$41,AO1='Input Tables'!$BC$41, AO1='Input Tables'!$BD$41,AO1='Input Tables'!$BE$41,AO1='Input Tables'!$BF$41,AO1='Input Tables'!$BG$41,AO1='Input Tables'!$BH$41,AO1='Input Tables'!$BI$41,AO1='Input Tables'!$BJ$41,AO1='Input Tables'!$BK$41, AO1='Input Tables'!$BL$41,'Input Tables'!$BM$41),('Cost Budgets'!$G$13*AO6),0)","v":0},{"$f":"IF(OR(AP1='Input Tables'!$BA$41, AP1='Input Tables'!$BB$41,AP1='Input Tables'!$BC$41, AP1='Input Tables'!$BD$41,AP1='Input Tables'!$BE$41,AP1='Input Tables'!$BF$41,AP1='Input Tables'!$BG$41,AP1='Input Tables'!$BH$41,AP1='Input Tables'!$BI$41,AP1='Input Tables'!$BJ$41,AP1='Input Tables'!$BK$41, AP1='Input Tables'!$BL$41,'Input Tables'!$BM$41),('Cost Budgets'!$G$13*AP6),0)","v":0},{"$f":"IF(OR(AQ1='Input Tables'!$BA$41, AQ1='Input Tables'!$BB$41,AQ1='Input Tables'!$BC$41, AQ1='Input Tables'!$BD$41,AQ1='Input Tables'!$BE$41,AQ1='Input Tables'!$BF$41,AQ1='Input Tables'!$BG$41,AQ1='Input Tables'!$BH$41,AQ1='Input Tables'!$BI$41,AQ1='Input Tables'!$BJ$41,AQ1='Input Tables'!$BK$41, AQ1='Input Tables'!$BL$41,'Input Tables'!$BM$41),('Cost Budgets'!$G$13*AQ6),0)","v":0},{"$f":"IF(OR(AR1='Input Tables'!$BA$41, AR1='Input Tables'!$BB$41,AR1='Input Tables'!$BC$41, AR1='Input Tables'!$BD$41,AR1='Input Tables'!$BE$41,AR1='Input Tables'!$BF$41,AR1='Input Tables'!$BG$41,AR1='Input Tables'!$BH$41,AR1='Input Tables'!$BI$41,AR1='Input Tables'!$BJ$41,AR1='Input Tables'!$BK$41, AR1='Input Tables'!$BL$41,'Input Tables'!$BM$41),('Cost Budgets'!$G$13*AR6),0)","v":0},{"$f":"IF(OR(AS1='Input Tables'!$BA$41, AS1='Input Tables'!$BB$41,AS1='Input Tables'!$BC$41, AS1='Input Tables'!$BD$41,AS1='Input Tables'!$BE$41,AS1='Input Tables'!$BF$41,AS1='Input Tables'!$BG$41,AS1='Input Tables'!$BH$41,AS1='Input Tables'!$BI$41,AS1='Input Tables'!$BJ$41,AS1='Input Tables'!$BK$41, AS1='Input Tables'!$BL$41,'Input Tables'!$BM$41),('Cost Budgets'!$G$13*AS6),0)","v":0},{"$f":"IF(OR(AT1='Input Tables'!$BA$41, AT1='Input Tables'!$BB$41,AT1='Input Tables'!$BC$41, AT1='Input Tables'!$BD$41,AT1='Input Tables'!$BE$41,AT1='Input Tables'!$BF$41,AT1='Input Tables'!$BG$41,AT1='Input Tables'!$BH$41,AT1='Input Tables'!$BI$41,AT1='Input Tables'!$BJ$41,AT1='Input Tables'!$BK$41, AT1='Input Tables'!$BL$41,'Input Tables'!$BM$41),('Cost Budgets'!$G$13*AT6),0)","v":0},{"$f":"IF(OR(AU1='Input Tables'!$BA$41, AU1='Input Tables'!$BB$41,AU1='Input Tables'!$BC$41, AU1='Input Tables'!$BD$41,AU1='Input Tables'!$BE$41,AU1='Input Tables'!$BF$41,AU1='Input Tables'!$BG$41,AU1='Input Tables'!$BH$41,AU1='Input Tables'!$BI$41,AU1='Input Tables'!$BJ$41,AU1='Input Tables'!$BK$41, AU1='Input Tables'!$BL$41,'Input Tables'!$BM$41),('Cost Budgets'!$G$13*AU6),0)","v":0},{"$f":"IF(OR(AV1='Input Tables'!$BA$41, AV1='Input Tables'!$BB$41,AV1='Input Tables'!$BC$41, AV1='Input Tables'!$BD$41,AV1='Input Tables'!$BE$41,AV1='Input Tables'!$BF$41,AV1='Input Tables'!$BG$41,AV1='Input Tables'!$BH$41,AV1='Input Tables'!$BI$41,AV1='Input Tables'!$BJ$41,AV1='Input Tables'!$BK$41, AV1='Input Tables'!$BL$41,'Input Tables'!$BM$41),('Cost Budgets'!$G$13*AV6),0)","v":0},{"$f":"IF(OR(AW1='Input Tables'!$BA$41, AW1='Input Tables'!$BB$41,AW1='Input Tables'!$BC$41, AW1='Input Tables'!$BD$41,AW1='Input Tables'!$BE$41,AW1='Input Tables'!$BF$41,AW1='Input Tables'!$BG$41,AW1='Input Tables'!$BH$41,AW1='Input Tables'!$BI$41,AW1='Input Tables'!$BJ$41,AW1='Input Tables'!$BK$41, AW1='Input Tables'!$BL$41,'Input Tables'!$BM$41),('Cost Budgets'!$G$13*AW6),0)","v":0},{"$f":"IF(OR(AX1='Input Tables'!$BA$41, AX1='Input Tables'!$BB$41,AX1='Input Tables'!$BC$41, AX1='Input Tables'!$BD$41,AX1='Input Tables'!$BE$41,AX1='Input Tables'!$BF$41,AX1='Input Tables'!$BG$41,AX1='Input Tables'!$BH$41,AX1='Input Tables'!$BI$41,AX1='Input Tables'!$BJ$41,AX1='Input Tables'!$BK$41, AX1='Input Tables'!$BL$41,'Input Tables'!$BM$41),('Cost Budgets'!$G$13*AX6),0)","v":0},{"$f":"IF(OR(AY1='Input Tables'!$BA$41, AY1='Input Tables'!$BB$41,AY1='Input Tables'!$BC$41, AY1='Input Tables'!$BD$41,AY1='Input Tables'!$BE$41,AY1='Input Tables'!$BF$41,AY1='Input Tables'!$BG$41,AY1='Input Tables'!$BH$41,AY1='Input Tables'!$BI$41,AY1='Input Tables'!$BJ$41,AY1='Input Tables'!$BK$41, AY1='Input Tables'!$BL$41,'Input Tables'!$BM$41),('Cost Budgets'!$G$13*AY6),0)","v":0},{"$f":"IF(OR(AZ1='Input Tables'!$BA$41, AZ1='Input Tables'!$BB$41,AZ1='Input Tables'!$BC$41, AZ1='Input Tables'!$BD$41,AZ1='Input Tables'!$BE$41,AZ1='Input Tables'!$BF$41,AZ1='Input Tables'!$BG$41,AZ1='Input Tables'!$BH$41,AZ1='Input Tables'!$BI$41,AZ1='Input Tables'!$BJ$41,AZ1='Input Tables'!$BK$41, AZ1='Input Tables'!$BL$41,'Input Tables'!$BM$41),('Cost Budgets'!$G$13*AZ6),0)","v":0},{"$f":"IF(OR(BA1='Input Tables'!$BA$41, BA1='Input Tables'!$BB$41,BA1='Input Tables'!$BC$41, BA1='Input Tables'!$BD$41,BA1='Input Tables'!$BE$41,BA1='Input Tables'!$BF$41,BA1='Input Tables'!$BG$41,BA1='Input Tables'!$BH$41,BA1='Input Tables'!$BI$41,BA1='Input Tables'!$BJ$41,BA1='Input Tables'!$BK$41, BA1='Input Tables'!$BL$41,'Input Tables'!$BM$41),('Cost Budgets'!$G$13*BA6),0)","v":0},{"$f":"IF(OR(BB1='Input Tables'!$BA$41, BB1='Input Tables'!$BB$41,BB1='Input Tables'!$BC$41, BB1='Input Tables'!$BD$41,BB1='Input Tables'!$BE$41,BB1='Input Tables'!$BF$41,BB1='Input Tables'!$BG$41,BB1='Input Tables'!$BH$41,BB1='Input Tables'!$BI$41,BB1='Input Tables'!$BJ$41,BB1='Input Tables'!$BK$41, BB1='Input Tables'!$BL$41,'Input Tables'!$BM$41),('Cost Budgets'!$G$13*BB6),0)","v":0},{"$f":"IF(OR(BC1='Input Tables'!$BA$41, BC1='Input Tables'!$BB$41,BC1='Input Tables'!$BC$41, BC1='Input Tables'!$BD$41,BC1='Input Tables'!$BE$41,BC1='Input Tables'!$BF$41,BC1='Input Tables'!$BG$41,BC1='Input Tables'!$BH$41,BC1='Input Tables'!$BI$41,BC1='Input Tables'!$BJ$41,BC1='Input Tables'!$BK$41, BC1='Input Tables'!$BL$41,'Input Tables'!$BM$41),('Cost Budgets'!$G$13*BC6),0)","v":0},{"$f":"IF(OR(BD1='Input Tables'!$BA$41, BD1='Input Tables'!$BB$41,BD1='Input Tables'!$BC$41, BD1='Input Tables'!$BD$41,BD1='Input Tables'!$BE$41,BD1='Input Tables'!$BF$41,BD1='Input Tables'!$BG$41,BD1='Input Tables'!$BH$41,BD1='Input Tables'!$BI$41,BD1='Input Tables'!$BJ$41,BD1='Input Tables'!$BK$41, BD1='Input Tables'!$BL$41,'Input Tables'!$BM$41),('Cost Budgets'!$G$13*BD6),0)","v":0},{"$f":"IF(OR(BE1='Input Tables'!$BA$41, BE1='Input Tables'!$BB$41,BE1='Input Tables'!$BC$41, BE1='Input Tables'!$BD$41,BE1='Input Tables'!$BE$41,BE1='Input Tables'!$BF$41,BE1='Input Tables'!$BG$41,BE1='Input Tables'!$BH$41,BE1='Input Tables'!$BI$41,BE1='Input Tables'!$BJ$41,BE1='Input Tables'!$BK$41, BE1='Input Tables'!$BL$41,'Input Tables'!$BM$41),('Cost Budgets'!$G$13*BE6),0)","v":0},{"$f":"IF(OR(BF1='Input Tables'!$BA$41, BF1='Input Tables'!$BB$41,BF1='Input Tables'!$BC$41, BF1='Input Tables'!$BD$41,BF1='Input Tables'!$BE$41,BF1='Input Tables'!$BF$41,BF1='Input Tables'!$BG$41,BF1='Input Tables'!$BH$41,BF1='Input Tables'!$BI$41,BF1='Input Tables'!$BJ$41,BF1='Input Tables'!$BK$41, BF1='Input Tables'!$BL$41,'Input Tables'!$BM$41),('Cost Budgets'!$G$13*BF6),0)","v":0},{"$f":"IF(OR(BG1='Input Tables'!$BA$41, BG1='Input Tables'!$BB$41,BG1='Input Tables'!$BC$41, BG1='Input Tables'!$BD$41,BG1='Input Tables'!$BE$41,BG1='Input Tables'!$BF$41,BG1='Input Tables'!$BG$41,BG1='Input Tables'!$BH$41,BG1='Input Tables'!$BI$41,BG1='Input Tables'!$BJ$41,BG1='Input Tables'!$BK$41, BG1='Input Tables'!$BL$41,'Input Tables'!$BM$41),('Cost Budgets'!$G$13*BG6),0)","v":0},{"$f":"IF(OR(BH1='Input Tables'!$BA$41, BH1='Input Tables'!$BB$41,BH1='Input Tables'!$BC$41, BH1='Input Tables'!$BD$41,BH1='Input Tables'!$BE$41,BH1='Input Tables'!$BF$41,BH1='Input Tables'!$BG$41,BH1='Input Tables'!$BH$41,BH1='Input Tables'!$BI$41,BH1='Input Tables'!$BJ$41,BH1='Input Tables'!$BK$41, BH1='Input Tables'!$BL$41,'Input Tables'!$BM$41),('Cost Budgets'!$G$13*BH6),0)","v":0},{"$f":"IF(OR(BI1='Input Tables'!$BA$41, BI1='Input Tables'!$BB$41,BI1='Input Tables'!$BC$41, BI1='Input Tables'!$BD$41,BI1='Input Tables'!$BE$41,BI1='Input Tables'!$BF$41,BI1='Input Tables'!$BG$41,BI1='Input Tables'!$BH$41,BI1='Input Tables'!$BI$41,BI1='Input Tables'!$BJ$41,BI1='Input Tables'!$BK$41, BI1='Input Tables'!$BL$41,'Input Tables'!$BM$41),('Cost Budgets'!$G$13*BI6),0)","v":0},{"$f":"IF(OR(BJ1='Input Tables'!$BA$41, BJ1='Input Tables'!$BB$41,BJ1='Input Tables'!$BC$41, BJ1='Input Tables'!$BD$41,BJ1='Input Tables'!$BE$41,BJ1='Input Tables'!$BF$41,BJ1='Input Tables'!$BG$41,BJ1='Input Tables'!$BH$41,BJ1='Input Tables'!$BI$41,BJ1='Input Tables'!$BJ$41,BJ1='Input Tables'!$BK$41, BJ1='Input Tables'!$BL$41,'Input Tables'!$BM$41),('Cost Budgets'!$G$13*BJ6),0)","v":0},{"$f":"IF(OR(BK1='Input Tables'!$BA$41, BK1='Input Tables'!$BB$41,BK1='Input Tables'!$BC$41, BK1='Input Tables'!$BD$41,BK1='Input Tables'!$BE$41,BK1='Input Tables'!$BF$41,BK1='Input Tables'!$BG$41,BK1='Input Tables'!$BH$41,BK1='Input Tables'!$BI$41,BK1='Input Tables'!$BJ$41,BK1='Input Tables'!$BK$41, BK1='Input Tables'!$BL$41,'Input Tables'!$BM$41),('Cost Budgets'!$G$13*BK6),0)","v":0}]
[]
[null,"Weed Control",null,null,{"$f":"IF(OR(E1='Input Tables'!$BA$47, E1='Input Tables'!$BB$47,E1='Input Tables'!$BC$47, E1='Input Tables'!$BD$47,E1='Input Tables'!$BE$47,E1='Input Tables'!$BF$47,E1='Input Tables'!$BG$47,E1='Input Tables'!$BH$47,E1='Input Tables'!$BI$47,E1='Input Tables'!$BJ$47,E1='Input Tables'!$BK$47, E1='Input Tables'!$BL$47,'Input Tables'!$BM$47),('Cost Budgets'!$G$14*E6),0)","v":120},{"$f":"IF(OR(F1='Input Tables'!$BA$47, F1='Input Tables'!$BB$47,F1='Input Tables'!$BC$47, F1='Input Tables'!$BD$47,F1='Input Tables'!$BE$47,F1='Input Tables'!$BF$47,F1='Input Tables'!$BG$47,F1='Input Tables'!$BH$47,F1='Input Tables'!$BI$47,F1='Input Tables'!$BJ$47,F1='Input Tables'!$BK$47, F1='Input Tables'!$BL$47,'Input Tables'!$BM$47),('Cost Budgets'!$G$14*F6),0)","v":0},{"$f":"IF(OR(G1='Input Tables'!$BA$47, G1='Input Tables'!$BB$47,G1='Input Tables'!$BC$47, G1='Input Tables'!$BD$47,G1='Input Tables'!$BE$47,G1='Input Tables'!$BF$47,G1='Input Tables'!$BG$47,G1='Input Tables'!$BH$47,G1='Input Tables'!$BI$47,G1='Input Tables'!$BJ$47,G1='Input Tables'!$BK$47, G1='Input Tables'!$BL$47,'Input Tables'!$BM$47),('Cost Budgets'!$G$14*G6),0)","v":0},{"$f":"IF(OR(H1='Input Tables'!$BA$47, H1='Input Tables'!$BB$47,H1='Input Tables'!$BC$47, H1='Input Tables'!$BD$47,H1='Input Tables'!$BE$47,H1='Input Tables'!$BF$47,H1='Input Tables'!$BG$47,H1='Input Tables'!$BH$47,H1='Input Tables'!$BI$47,H1='Input Tables'!$BJ$47,H1='Input Tables'!$BK$47, H1='Input Tables'!$BL$47,'Input Tables'!$BM$47),('Cost Budgets'!$G$14*H6),0)","v":0},{"$f":"IF(OR(I1='Input Tables'!$BA$47, I1='Input Tables'!$BB$47,I1='Input Tables'!$BC$47, I1='Input Tables'!$BD$47,I1='Input Tables'!$BE$47,I1='Input Tables'!$BF$47,I1='Input Tables'!$BG$47,I1='Input Tables'!$BH$47,I1='Input Tables'!$BI$47,I1='Input Tables'!$BJ$47,I1='Input Tables'!$BK$47, I1='Input Tables'!$BL$47,'Input Tables'!$BM$47),('Cost Budgets'!$G$14*I6),0)","v":0},{"$f":"IF(OR(J1='Input Tables'!$BA$47, J1='Input Tables'!$BB$47,J1='Input Tables'!$BC$47, J1='Input Tables'!$BD$47,J1='Input Tables'!$BE$47,J1='Input Tables'!$BF$47,J1='Input Tables'!$BG$47,J1='Input Tables'!$BH$47,J1='Input Tables'!$BI$47,J1='Input Tables'!$BJ$47,J1='Input Tables'!$BK$47, J1='Input Tables'!$BL$47,'Input Tables'!$BM$47),('Cost Budgets'!$G$14*J6),0)","v":102.64462809917356},{"$f":"IF(OR(K1='Input Tables'!$BA$47, K1='Input Tables'!$BB$47,K1='Input Tables'!$BC$47, K1='Input Tables'!$BD$47,K1='Input Tables'!$BE$47,K1='Input Tables'!$BF$47,K1='Input Tables'!$BG$47,K1='Input Tables'!$BH$47,K1='Input Tables'!$BI$47,K1='Input Tables'!$BJ$47,K1='Input Tables'!$BK$47, K1='Input Tables'!$BL$47,'Input Tables'!$BM$47),('Cost Budgets'!$G$14*K6),0)","v":0},{"$f":"IF(OR(L1='Input Tables'!$BA$47, L1='Input Tables'!$BB$47,L1='Input Tables'!$BC$47, L1='Input Tables'!$BD$47,L1='Input Tables'!$BE$47,L1='Input Tables'!$BF$47,L1='Input Tables'!$BG$47,L1='Input Tables'!$BH$47,L1='Input Tables'!$BI$47,L1='Input Tables'!$BJ$47,L1='Input Tables'!$BK$47, L1='Input Tables'!$BL$47,'Input Tables'!$BM$47),('Cost Budgets'!$G$14*L6),0)","v":0},{"$f":"IF(OR(M1='Input Tables'!$BA$47, M1='Input Tables'!$BB$47,M1='Input Tables'!$BC$47, M1='Input Tables'!$BD$47,M1='Input Tables'!$BE$47,M1='Input Tables'!$BF$47,M1='Input Tables'!$BG$47,M1='Input Tables'!$BH$47,M1='Input Tables'!$BI$47,M1='Input Tables'!$BJ$47,M1='Input Tables'!$BK$47, M1='Input Tables'!$BL$47,'Input Tables'!$BM$47),('Cost Budgets'!$G$14*M6),0)","v":0},{"$f":"IF(OR(N1='Input Tables'!$BA$47, N1='Input Tables'!$BB$47,N1='Input Tables'!$BC$47, N1='Input Tables'!$BD$47,N1='Input Tables'!$BE$47,N1='Input Tables'!$BF$47,N1='Input Tables'!$BG$47,N1='Input Tables'!$BH$47,N1='Input Tables'!$BI$47,N1='Input Tables'!$BJ$47,N1='Input Tables'!$BK$47, N1='Input Tables'!$BL$47,'Input Tables'!$BM$47),('Cost Budgets'!$G$14*N6),0)","v":0},{"$f":"IF(OR(O1='Input Tables'!$BA$47, O1='Input Tables'!$BB$47,O1='Input Tables'!$BC$47, O1='Input Tables'!$BD$47,O1='Input Tables'!$BE$47,O1='Input Tables'!$BF$47,O1='Input Tables'!$BG$47,O1='Input Tables'!$BH$47,O1='Input Tables'!$BI$47,O1='Input Tables'!$BJ$47,O1='Input Tables'!$BK$47, O1='Input Tables'!$BL$47,'Input Tables'!$BM$47),('Cost Budgets'!$G$14*O6),0)","v":0},{"$f":"IF(OR(P1='Input Tables'!$BA$47, P1='Input Tables'!$BB$47,P1='Input Tables'!$BC$47, P1='Input Tables'!$BD$47,P1='Input Tables'!$BE$47,P1='Input Tables'!$BF$47,P1='Input Tables'!$BG$47,P1='Input Tables'!$BH$47,P1='Input Tables'!$BI$47,P1='Input Tables'!$BJ$47,P1='Input Tables'!$BK$47, P1='Input Tables'!$BL$47,'Input Tables'!$BM$47),('Cost Budgets'!$G$14*P6),0)","v":0},{"$f":"IF(OR(Q1='Input Tables'!$BA$47, Q1='Input Tables'!$BB$47,Q1='Input Tables'!$BC$47, Q1='Input Tables'!$BD$47,Q1='Input Tables'!$BE$47,Q1='Input Tables'!$BF$47,Q1='Input Tables'!$BG$47,Q1='Input Tables'!$BH$47,Q1='Input Tables'!$BI$47,Q1='Input Tables'!$BJ$47,Q1='Input Tables'!$BK$47, Q1='Input Tables'!$BL$47,'Input Tables'!$BM$47),('Cost Budgets'!$G$14*Q6),0)","v":0},{"$f":"IF(OR(R1='Input Tables'!$BA$47, R1='Input Tables'!$BB$47,R1='Input Tables'!$BC$47, R1='Input Tables'!$BD$47,R1='Input Tables'!$BE$47,R1='Input Tables'!$BF$47,R1='Input Tables'!$BG$47,R1='Input Tables'!$BH$47,R1='Input Tables'!$BI$47,R1='Input Tables'!$BJ$47,R1='Input Tables'!$BK$47, R1='Input Tables'!$BL$47,'Input Tables'!$BM$47),('Cost Budgets'!$G$14*R6),0)","v":0},{"$f":"IF(OR(S1='Input Tables'!$BA$47, S1='Input Tables'!$BB$47,S1='Input Tables'!$BC$47, S1='Input Tables'!$BD$47,S1='Input Tables'!$BE$47,S1='Input Tables'!$BF$47,S1='Input Tables'!$BG$47,S1='Input Tables'!$BH$47,S1='Input Tables'!$BI$47,S1='Input Tables'!$BJ$47,S1='Input Tables'!$BK$47, S1='Input Tables'!$BL$47,'Input Tables'!$BM$47),('Cost Budgets'!$G$14*S6),0)","v":0},{"$f":"IF(OR(T1='Input Tables'!$BA$47, T1='Input Tables'!$BB$47,T1='Input Tables'!$BC$47, T1='Input Tables'!$BD$47,T1='Input Tables'!$BE$47,T1='Input Tables'!$BF$47,T1='Input Tables'!$BG$47,T1='Input Tables'!$BH$47,T1='Input Tables'!$BI$47,T1='Input Tables'!$BJ$47,T1='Input Tables'!$BK$47, T1='Input Tables'!$BL$47,'Input Tables'!$BM$47),('Cost Budgets'!$G$14*T6),0)","v":0},{"$f":"IF(OR(U1='Input Tables'!$BA$47, U1='Input Tables'!$BB$47,U1='Input Tables'!$BC$47, U1='Input Tables'!$BD$47,U1='Input Tables'!$BE$47,U1='Input Tables'!$BF$47,U1='Input Tables'!$BG$47,U1='Input Tables'!$BH$47,U1='Input Tables'!$BI$47,U1='Input Tables'!$BJ$47,U1='Input Tables'!$BK$47, U1='Input Tables'!$BL$47,'Input Tables'!$BM$47),('Cost Budgets'!$G$14*U6),0)","v":0},{"$f":"IF(OR(V1='Input Tables'!$BA$47, V1='Input Tables'!$BB$47,V1='Input Tables'!$BC$47, V1='Input Tables'!$BD$47,V1='Input Tables'!$BE$47,V1='Input Tables'!$BF$47,V1='Input Tables'!$BG$47,V1='Input Tables'!$BH$47,V1='Input Tables'!$BI$47,V1='Input Tables'!$BJ$47,V1='Input Tables'!$BK$47, V1='Input Tables'!$BL$47,'Input Tables'!$BM$47),('Cost Budgets'!$G$14*V6),0)","v":0},{"$f":"IF(OR(W1='Input Tables'!$BA$47, W1='Input Tables'!$BB$47,W1='Input Tables'!$BC$47, W1='Input Tables'!$BD$47,W1='Input Tables'!$BE$47,W1='Input Tables'!$BF$47,W1='Input Tables'!$BG$47,W1='Input Tables'!$BH$47,W1='Input Tables'!$BI$47,W1='Input Tables'!$BJ$47,W1='Input Tables'!$BK$47, W1='Input Tables'!$BL$47,'Input Tables'!$BM$47),('Cost Budgets'!$G$14*W6),0)","v":0},{"$f":"IF(OR(X1='Input Tables'!$BA$47, X1='Input Tables'!$BB$47,X1='Input Tables'!$BC$47, X1='Input Tables'!$BD$47,X1='Input Tables'!$BE$47,X1='Input Tables'!$BF$47,X1='Input Tables'!$BG$47,X1='Input Tables'!$BH$47,X1='Input Tables'!$BI$47,X1='Input Tables'!$BJ$47,X1='Input Tables'!$BK$47, X1='Input Tables'!$BL$47,'Input Tables'!$BM$47),('Cost Budgets'!$G$14*X6),0)","v":0},{"$f":"IF(OR(Y1='Input Tables'!$BA$47, Y1='Input Tables'!$BB$47,Y1='Input Tables'!$BC$47, Y1='Input Tables'!$BD$47,Y1='Input Tables'!$BE$47,Y1='Input Tables'!$BF$47,Y1='Input Tables'!$BG$47,Y1='Input Tables'!$BH$47,Y1='Input Tables'!$BI$47,Y1='Input Tables'!$BJ$47,Y1='Input Tables'!$BK$47, Y1='Input Tables'!$BL$47,'Input Tables'!$BM$47),('Cost Budgets'!$G$14*Y6),0)","v":0},{"$f":"IF(OR(Z1='Input Tables'!$BA$47, Z1='Input Tables'!$BB$47,Z1='Input Tables'!$BC$47, Z1='Input Tables'!$BD$47,Z1='Input Tables'!$BE$47,Z1='Input Tables'!$BF$47,Z1='Input Tables'!$BG$47,Z1='Input Tables'!$BH$47,Z1='Input Tables'!$BI$47,Z1='Input Tables'!$BJ$47,Z1='Input Tables'!$BK$47, Z1='Input Tables'!$BL$47,'Input Tables'!$BM$47),('Cost Budgets'!$G$14*Z6),0)","v":0},{"$f":"IF(OR(AA1='Input Tables'!$BA$47, AA1='Input Tables'!$BB$47,AA1='Input Tables'!$BC$47, AA1='Input Tables'!$BD$47,AA1='Input Tables'!$BE$47,AA1='Input Tables'!$BF$47,AA1='Input Tables'!$BG$47,AA1='Input Tables'!$BH$47,AA1='Input Tables'!$BI$47,AA1='Input Tables'!$BJ$47,AA1='Input Tables'!$BK$47, AA1='Input Tables'!$BL$47,'Input Tables'!$BM$47),('Cost Budgets'!$G$14*AA6),0)","v":0},{"$f":"IF(OR(AB1='Input Tables'!$BA$47, AB1='Input Tables'!$BB$47,AB1='Input Tables'!$BC$47, AB1='Input Tables'!$BD$47,AB1='Input Tables'!$BE$47,AB1='Input Tables'!$BF$47,AB1='Input Tables'!$BG$47,AB1='Input Tables'!$BH$47,AB1='Input Tables'!$BI$47,AB1='Input Tables'!$BJ$47,AB1='Input Tables'!$BK$47, AB1='Input Tables'!$BL$47,'Input Tables'!$BM$47),('Cost Budgets'!$G$14*AB6),0)","v":0},{"$f":"IF(OR(AC1='Input Tables'!$BA$47, AC1='Input Tables'!$BB$47,AC1='Input Tables'!$BC$47, AC1='Input Tables'!$BD$47,AC1='Input Tables'!$BE$47,AC1='Input Tables'!$BF$47,AC1='Input Tables'!$BG$47,AC1='Input Tables'!$BH$47,AC1='Input Tables'!$BI$47,AC1='Input Tables'!$BJ$47,AC1='Input Tables'!$BK$47, AC1='Input Tables'!$BL$47,'Input Tables'!$BM$47),('Cost Budgets'!$G$14*AC6),0)","v":0},{"$f":"IF(OR(AD1='Input Tables'!$BA$47, AD1='Input Tables'!$BB$47,AD1='Input Tables'!$BC$47, AD1='Input Tables'!$BD$47,AD1='Input Tables'!$BE$47,AD1='Input Tables'!$BF$47,AD1='Input Tables'!$BG$47,AD1='Input Tables'!$BH$47,AD1='Input Tables'!$BI$47,AD1='Input Tables'!$BJ$47,AD1='Input Tables'!$BK$47, AD1='Input Tables'!$BL$47,'Input Tables'!$BM$47),('Cost Budgets'!$G$14*AD6),0)","v":0},{"$f":"IF(OR(AE1='Input Tables'!$BA$47, AE1='Input Tables'!$BB$47,AE1='Input Tables'!$BC$47, AE1='Input Tables'!$BD$47,AE1='Input Tables'!$BE$47,AE1='Input Tables'!$BF$47,AE1='Input Tables'!$BG$47,AE1='Input Tables'!$BH$47,AE1='Input Tables'!$BI$47,AE1='Input Tables'!$BJ$47,AE1='Input Tables'!$BK$47, AE1='Input Tables'!$BL$47,'Input Tables'!$BM$47),('Cost Budgets'!$G$14*AE6),0)","v":0},{"$f":"IF(OR(AF1='Input Tables'!$BA$47, AF1='Input Tables'!$BB$47,AF1='Input Tables'!$BC$47, AF1='Input Tables'!$BD$47,AF1='Input Tables'!$BE$47,AF1='Input Tables'!$BF$47,AF1='Input Tables'!$BG$47,AF1='Input Tables'!$BH$47,AF1='Input Tables'!$BI$47,AF1='Input Tables'!$BJ$47,AF1='Input Tables'!$BK$47, AF1='Input Tables'!$BL$47,'Input Tables'!$BM$47),('Cost Budgets'!$G$14*AF6),0)","v":0},{"$f":"IF(OR(AG1='Input Tables'!$BA$47, AG1='Input Tables'!$BB$47,AG1='Input Tables'!$BC$47, AG1='Input Tables'!$BD$47,AG1='Input Tables'!$BE$47,AG1='Input Tables'!$BF$47,AG1='Input Tables'!$BG$47,AG1='Input Tables'!$BH$47,AG1='Input Tables'!$BI$47,AG1='Input Tables'!$BJ$47,AG1='Input Tables'!$BK$47, AG1='Input Tables'!$BL$47,'Input Tables'!$BM$47),('Cost Budgets'!$G$14*AG6),0)","v":0},{"$f":"IF(OR(AH1='Input Tables'!$BA$47, AH1='Input Tables'!$BB$47,AH1='Input Tables'!$BC$47, AH1='Input Tables'!$BD$47,AH1='Input Tables'!$BE$47,AH1='Input Tables'!$BF$47,AH1='Input Tables'!$BG$47,AH1='Input Tables'!$BH$47,AH1='Input Tables'!$BI$47,AH1='Input Tables'!$BJ$47,AH1='Input Tables'!$BK$47, AH1='Input Tables'!$BL$47,'Input Tables'!$BM$47),('Cost Budgets'!$G$14*AH6),0)","v":0},{"$f":"IF(OR(AI1='Input Tables'!$BA$47, AI1='Input Tables'!$BB$47,AI1='Input Tables'!$BC$47, AI1='Input Tables'!$BD$47,AI1='Input Tables'!$BE$47,AI1='Input Tables'!$BF$47,AI1='Input Tables'!$BG$47,AI1='Input Tables'!$BH$47,AI1='Input Tables'!$BI$47,AI1='Input Tables'!$BJ$47,AI1='Input Tables'!$BK$47, AI1='Input Tables'!$BL$47,'Input Tables'!$BM$47),('Cost Budgets'!$G$14*AI6),0)","v":0},{"$f":"IF(OR(AJ1='Input Tables'!$BA$47, AJ1='Input Tables'!$BB$47,AJ1='Input Tables'!$BC$47, AJ1='Input Tables'!$BD$47,AJ1='Input Tables'!$BE$47,AJ1='Input Tables'!$BF$47,AJ1='Input Tables'!$BG$47,AJ1='Input Tables'!$BH$47,AJ1='Input Tables'!$BI$47,AJ1='Input Tables'!$BJ$47,AJ1='Input Tables'!$BK$47, AJ1='Input Tables'!$BL$47,'Input Tables'!$BM$47),('Cost Budgets'!$G$14*AJ6),0)","v":0},{"$f":"IF(OR(AK1='Input Tables'!$BA$47, AK1='Input Tables'!$BB$47,AK1='Input Tables'!$BC$47, AK1='Input Tables'!$BD$47,AK1='Input Tables'!$BE$47,AK1='Input Tables'!$BF$47,AK1='Input Tables'!$BG$47,AK1='Input Tables'!$BH$47,AK1='Input Tables'!$BI$47,AK1='Input Tables'!$BJ$47,AK1='Input Tables'!$BK$47, AK1='Input Tables'!$BL$47,'Input Tables'!$BM$47),('Cost Budgets'!$G$14*AK6),0)","v":0},{"$f":"IF(OR(AL1='Input Tables'!$BA$47, AL1='Input Tables'!$BB$47,AL1='Input Tables'!$BC$47, AL1='Input Tables'!$BD$47,AL1='Input Tables'!$BE$47,AL1='Input Tables'!$BF$47,AL1='Input Tables'!$BG$47,AL1='Input Tables'!$BH$47,AL1='Input Tables'!$BI$47,AL1='Input Tables'!$BJ$47,AL1='Input Tables'!$BK$47, AL1='Input Tables'!$BL$47,'Input Tables'!$BM$47),('Cost Budgets'!$G$14*AL6),0)","v":0},{"$f":"IF(OR(AM1='Input Tables'!$BA$47, AM1='Input Tables'!$BB$47,AM1='Input Tables'!$BC$47, AM1='Input Tables'!$BD$47,AM1='Input Tables'!$BE$47,AM1='Input Tables'!$BF$47,AM1='Input Tables'!$BG$47,AM1='Input Tables'!$BH$47,AM1='Input Tables'!$BI$47,AM1='Input Tables'!$BJ$47,AM1='Input Tables'!$BK$47, AM1='Input Tables'!$BL$47,'Input Tables'!$BM$47),('Cost Budgets'!$G$14*AM6),0)","v":0},{"$f":"IF(OR(AN1='Input Tables'!$BA$47, AN1='Input Tables'!$BB$47,AN1='Input Tables'!$BC$47, AN1='Input Tables'!$BD$47,AN1='Input Tables'!$BE$47,AN1='Input Tables'!$BF$47,AN1='Input Tables'!$BG$47,AN1='Input Tables'!$BH$47,AN1='Input Tables'!$BI$47,AN1='Input Tables'!$BJ$47,AN1='Input Tables'!$BK$47, AN1='Input Tables'!$BL$47,'Input Tables'!$BM$47),('Cost Budgets'!$G$14*AN6),0)","v":0},{"$f":"IF(OR(AO1='Input Tables'!$BA$47, AO1='Input Tables'!$BB$47,AO1='Input Tables'!$BC$47, AO1='Input Tables'!$BD$47,AO1='Input Tables'!$BE$47,AO1='Input Tables'!$BF$47,AO1='Input Tables'!$BG$47,AO1='Input Tables'!$BH$47,AO1='Input Tables'!$BI$47,AO1='Input Tables'!$BJ$47,AO1='Input Tables'!$BK$47, AO1='Input Tables'!$BL$47,'Input Tables'!$BM$47),('Cost Budgets'!$G$14*AO6),0)","v":0},{"$f":"IF(OR(AP1='Input Tables'!$BA$47, AP1='Input Tables'!$BB$47,AP1='Input Tables'!$BC$47, AP1='Input Tables'!$BD$47,AP1='Input Tables'!$BE$47,AP1='Input Tables'!$BF$47,AP1='Input Tables'!$BG$47,AP1='Input Tables'!$BH$47,AP1='Input Tables'!$BI$47,AP1='Input Tables'!$BJ$47,AP1='Input Tables'!$BK$47, AP1='Input Tables'!$BL$47,'Input Tables'!$BM$47),('Cost Budgets'!$G$14*AP6),0)","v":0},{"$f":"IF(OR(AQ1='Input Tables'!$BA$47, AQ1='Input Tables'!$BB$47,AQ1='Input Tables'!$BC$47, AQ1='Input Tables'!$BD$47,AQ1='Input Tables'!$BE$47,AQ1='Input Tables'!$BF$47,AQ1='Input Tables'!$BG$47,AQ1='Input Tables'!$BH$47,AQ1='Input Tables'!$BI$47,AQ1='Input Tables'!$BJ$47,AQ1='Input Tables'!$BK$47, AQ1='Input Tables'!$BL$47,'Input Tables'!$BM$47),('Cost Budgets'!$G$14*AQ6),0)","v":0},{"$f":"IF(OR(AR1='Input Tables'!$BA$47, AR1='Input Tables'!$BB$47,AR1='Input Tables'!$BC$47, AR1='Input Tables'!$BD$47,AR1='Input Tables'!$BE$47,AR1='Input Tables'!$BF$47,AR1='Input Tables'!$BG$47,AR1='Input Tables'!$BH$47,AR1='Input Tables'!$BI$47,AR1='Input Tables'!$BJ$47,AR1='Input Tables'!$BK$47, AR1='Input Tables'!$BL$47,'Input Tables'!$BM$47),('Cost Budgets'!$G$14*AR6),0)","v":0},{"$f":"IF(OR(AS1='Input Tables'!$BA$47, AS1='Input Tables'!$BB$47,AS1='Input Tables'!$BC$47, AS1='Input Tables'!$BD$47,AS1='Input Tables'!$BE$47,AS1='Input Tables'!$BF$47,AS1='Input Tables'!$BG$47,AS1='Input Tables'!$BH$47,AS1='Input Tables'!$BI$47,AS1='Input Tables'!$BJ$47,AS1='Input Tables'!$BK$47, AS1='Input Tables'!$BL$47,'Input Tables'!$BM$47),('Cost Budgets'!$G$14*AS6),0)","v":0},{"$f":"IF(OR(AT1='Input Tables'!$BA$47, AT1='Input Tables'!$BB$47,AT1='Input Tables'!$BC$47, AT1='Input Tables'!$BD$47,AT1='Input Tables'!$BE$47,AT1='Input Tables'!$BF$47,AT1='Input Tables'!$BG$47,AT1='Input Tables'!$BH$47,AT1='Input Tables'!$BI$47,AT1='Input Tables'!$BJ$47,AT1='Input Tables'!$BK$47, AT1='Input Tables'!$BL$47,'Input Tables'!$BM$47),('Cost Budgets'!$G$14*AT6),0)","v":0},{"$f":"IF(OR(AU1='Input Tables'!$BA$47, AU1='Input Tables'!$BB$47,AU1='Input Tables'!$BC$47, AU1='Input Tables'!$BD$47,AU1='Input Tables'!$BE$47,AU1='Input Tables'!$BF$47,AU1='Input Tables'!$BG$47,AU1='Input Tables'!$BH$47,AU1='Input Tables'!$BI$47,AU1='Input Tables'!$BJ$47,AU1='Input Tables'!$BK$47, AU1='Input Tables'!$BL$47,'Input Tables'!$BM$47),('Cost Budgets'!$G$14*AU6),0)","v":0},{"$f":"IF(OR(AV1='Input Tables'!$BA$47, AV1='Input Tables'!$BB$47,AV1='Input Tables'!$BC$47, AV1='Input Tables'!$BD$47,AV1='Input Tables'!$BE$47,AV1='Input Tables'!$BF$47,AV1='Input Tables'!$BG$47,AV1='Input Tables'!$BH$47,AV1='Input Tables'!$BI$47,AV1='Input Tables'!$BJ$47,AV1='Input Tables'!$BK$47, AV1='Input Tables'!$BL$47,'Input Tables'!$BM$47),('Cost Budgets'!$G$14*AV6),0)","v":0},{"$f":"IF(OR(AW1='Input Tables'!$BA$47, AW1='Input Tables'!$BB$47,AW1='Input Tables'!$BC$47, AW1='Input Tables'!$BD$47,AW1='Input Tables'!$BE$47,AW1='Input Tables'!$BF$47,AW1='Input Tables'!$BG$47,AW1='Input Tables'!$BH$47,AW1='Input Tables'!$BI$47,AW1='Input Tables'!$BJ$47,AW1='Input Tables'!$BK$47, AW1='Input Tables'!$BL$47,'Input Tables'!$BM$47),('Cost Budgets'!$G$14*AW6),0)","v":0},{"$f":"IF(OR(AX1='Input Tables'!$BA$47, AX1='Input Tables'!$BB$47,AX1='Input Tables'!$BC$47, AX1='Input Tables'!$BD$47,AX1='Input Tables'!$BE$47,AX1='Input Tables'!$BF$47,AX1='Input Tables'!$BG$47,AX1='Input Tables'!$BH$47,AX1='Input Tables'!$BI$47,AX1='Input Tables'!$BJ$47,AX1='Input Tables'!$BK$47, AX1='Input Tables'!$BL$47,'Input Tables'!$BM$47),('Cost Budgets'!$G$14*AX6),0)","v":0},{"$f":"IF(OR(AY1='Input Tables'!$BA$47, AY1='Input Tables'!$BB$47,AY1='Input Tables'!$BC$47, AY1='Input Tables'!$BD$47,AY1='Input Tables'!$BE$47,AY1='Input Tables'!$BF$47,AY1='Input Tables'!$BG$47,AY1='Input Tables'!$BH$47,AY1='Input Tables'!$BI$47,AY1='Input Tables'!$BJ$47,AY1='Input Tables'!$BK$47, AY1='Input Tables'!$BL$47,'Input Tables'!$BM$47),('Cost Budgets'!$G$14*AY6),0)","v":0},{"$f":"IF(OR(AZ1='Input Tables'!$BA$47, AZ1='Input Tables'!$BB$47,AZ1='Input Tables'!$BC$47, AZ1='Input Tables'!$BD$47,AZ1='Input Tables'!$BE$47,AZ1='Input Tables'!$BF$47,AZ1='Input Tables'!$BG$47,AZ1='Input Tables'!$BH$47,AZ1='Input Tables'!$BI$47,AZ1='Input Tables'!$BJ$47,AZ1='Input Tables'!$BK$47, AZ1='Input Tables'!$BL$47,'Input Tables'!$BM$47),('Cost Budgets'!$G$14*AZ6),0)","v":0},{"$f":"IF(OR(BA1='Input Tables'!$BA$47, BA1='Input Tables'!$BB$47,BA1='Input Tables'!$BC$47, BA1='Input Tables'!$BD$47,BA1='Input Tables'!$BE$47,BA1='Input Tables'!$BF$47,BA1='Input Tables'!$BG$47,BA1='Input Tables'!$BH$47,BA1='Input Tables'!$BI$47,BA1='Input Tables'!$BJ$47,BA1='Input Tables'!$BK$47, BA1='Input Tables'!$BL$47,'Input Tables'!$BM$47),('Cost Budgets'!$G$14*BA6),0)","v":0},{"$f":"IF(OR(BB1='Input Tables'!$BA$47, BB1='Input Tables'!$BB$47,BB1='Input Tables'!$BC$47, BB1='Input Tables'!$BD$47,BB1='Input Tables'!$BE$47,BB1='Input Tables'!$BF$47,BB1='Input Tables'!$BG$47,BB1='Input Tables'!$BH$47,BB1='Input Tables'!$BI$47,BB1='Input Tables'!$BJ$47,BB1='Input Tables'!$BK$47, BB1='Input Tables'!$BL$47,'Input Tables'!$BM$47),('Cost Budgets'!$G$14*BB6),0)","v":0},{"$f":"IF(OR(BC1='Input Tables'!$BA$47, BC1='Input Tables'!$BB$47,BC1='Input Tables'!$BC$47, BC1='Input Tables'!$BD$47,BC1='Input Tables'!$BE$47,BC1='Input Tables'!$BF$47,BC1='Input Tables'!$BG$47,BC1='Input Tables'!$BH$47,BC1='Input Tables'!$BI$47,BC1='Input Tables'!$BJ$47,BC1='Input Tables'!$BK$47, BC1='Input Tables'!$BL$47,'Input Tables'!$BM$47),('Cost Budgets'!$G$14*BC6),0)","v":0},{"$f":"IF(OR(BD1='Input Tables'!$BA$47, BD1='Input Tables'!$BB$47,BD1='Input Tables'!$BC$47, BD1='Input Tables'!$BD$47,BD1='Input Tables'!$BE$47,BD1='Input Tables'!$BF$47,BD1='Input Tables'!$BG$47,BD1='Input Tables'!$BH$47,BD1='Input Tables'!$BI$47,BD1='Input Tables'!$BJ$47,BD1='Input Tables'!$BK$47, BD1='Input Tables'!$BL$47,'Input Tables'!$BM$47),('Cost Budgets'!$G$14*BD6),0)","v":0},{"$f":"IF(OR(BE1='Input Tables'!$BA$47, BE1='Input Tables'!$BB$47,BE1='Input Tables'!$BC$47, BE1='Input Tables'!$BD$47,BE1='Input Tables'!$BE$47,BE1='Input Tables'!$BF$47,BE1='Input Tables'!$BG$47,BE1='Input Tables'!$BH$47,BE1='Input Tables'!$BI$47,BE1='Input Tables'!$BJ$47,BE1='Input Tables'!$BK$47, BE1='Input Tables'!$BL$47,'Input Tables'!$BM$47),('Cost Budgets'!$G$14*BE6),0)","v":0},{"$f":"IF(OR(BF1='Input Tables'!$BA$47, BF1='Input Tables'!$BB$47,BF1='Input Tables'!$BC$47, BF1='Input Tables'!$BD$47,BF1='Input Tables'!$BE$47,BF1='Input Tables'!$BF$47,BF1='Input Tables'!$BG$47,BF1='Input Tables'!$BH$47,BF1='Input Tables'!$BI$47,BF1='Input Tables'!$BJ$47,BF1='Input Tables'!$BK$47, BF1='Input Tables'!$BL$47,'Input Tables'!$BM$47),('Cost Budgets'!$G$14*BF6),0)","v":0},{"$f":"IF(OR(BG1='Input Tables'!$BA$47, BG1='Input Tables'!$BB$47,BG1='Input Tables'!$BC$47, BG1='Input Tables'!$BD$47,BG1='Input Tables'!$BE$47,BG1='Input Tables'!$BF$47,BG1='Input Tables'!$BG$47,BG1='Input Tables'!$BH$47,BG1='Input Tables'!$BI$47,BG1='Input Tables'!$BJ$47,BG1='Input Tables'!$BK$47, BG1='Input Tables'!$BL$47,'Input Tables'!$BM$47),('Cost Budgets'!$G$14*BG6),0)","v":0},{"$f":"IF(OR(BH1='Input Tables'!$BA$47, BH1='Input Tables'!$BB$47,BH1='Input Tables'!$BC$47, BH1='Input Tables'!$BD$47,BH1='Input Tables'!$BE$47,BH1='Input Tables'!$BF$47,BH1='Input Tables'!$BG$47,BH1='Input Tables'!$BH$47,BH1='Input Tables'!$BI$47,BH1='Input Tables'!$BJ$47,BH1='Input Tables'!$BK$47, BH1='Input Tables'!$BL$47,'Input Tables'!$BM$47),('Cost Budgets'!$G$14*BH6),0)","v":0},{"$f":"IF(OR(BI1='Input Tables'!$BA$47, BI1='Input Tables'!$BB$47,BI1='Input Tables'!$BC$47, BI1='Input Tables'!$BD$47,BI1='Input Tables'!$BE$47,BI1='Input Tables'!$BF$47,BI1='Input Tables'!$BG$47,BI1='Input Tables'!$BH$47,BI1='Input Tables'!$BI$47,BI1='Input Tables'!$BJ$47,BI1='Input Tables'!$BK$47, BI1='Input Tables'!$BL$47,'Input Tables'!$BM$47),('Cost Budgets'!$G$14*BI6),0)","v":0},{"$f":"IF(OR(BJ1='Input Tables'!$BA$47, BJ1='Input Tables'!$BB$47,BJ1='Input Tables'!$BC$47, BJ1='Input Tables'!$BD$47,BJ1='Input Tables'!$BE$47,BJ1='Input Tables'!$BF$47,BJ1='Input Tables'!$BG$47,BJ1='Input Tables'!$BH$47,BJ1='Input Tables'!$BI$47,BJ1='Input Tables'!$BJ$47,BJ1='Input Tables'!$BK$47, BJ1='Input Tables'!$BL$47,'Input Tables'!$BM$47),('Cost Budgets'!$G$14*BJ6),0)","v":0},{"$f":"IF(OR(BK1='Input Tables'!$BA$47, BK1='Input Tables'!$BB$47,BK1='Input Tables'!$BC$47, BK1='Input Tables'!$BD$47,BK1='Input Tables'!$BE$47,BK1='Input Tables'!$BF$47,BK1='Input Tables'!$BG$47,BK1='Input Tables'!$BH$47,BK1='Input Tables'!$BI$47,BK1='Input Tables'!$BJ$47,BK1='Input Tables'!$BK$47, BK1='Input Tables'!$BL$47,'Input Tables'!$BM$47),('Cost Budgets'!$G$14*BK6),0)","v":0}]
[]
[null,"Pest Control",null,null,{"$f":"IF(OR(E1='Input Tables'!$BA$54, E1='Input Tables'!$BB$54,E1='Input Tables'!$BC$54, E1='Input Tables'!$BD$54,E1='Input Tables'!$BE$54,E1='Input Tables'!$BF$54,E1='Input Tables'!$BG$54,E1='Input Tables'!$BH$54,E1='Input Tables'!$BI$54,E1='Input Tables'!$BJ$54,E1='Input Tables'!$BK$54, E1='Input Tables'!$BL$54,'Input Tables'!$BM$54),('Cost Budgets'!$G$15*E6),0)","v":0},{"$f":"IF(OR(F1='Input Tables'!$BA$54, F1='Input Tables'!$BB$54,F1='Input Tables'!$BC$54, F1='Input Tables'!$BD$54,F1='Input Tables'!$BE$54,F1='Input Tables'!$BF$54,F1='Input Tables'!$BG$54,F1='Input Tables'!$BH$54,F1='Input Tables'!$BI$54,F1='Input Tables'!$BJ$54,F1='Input Tables'!$BK$54, F1='Input Tables'!$BL$54,'Input Tables'!$BM$54),('Cost Budgets'!$G$15*F6),0)","v":0},{"$f":"IF(OR(G1='Input Tables'!$BA$54, G1='Input Tables'!$BB$54,G1='Input Tables'!$BC$54, G1='Input Tables'!$BD$54,G1='Input Tables'!$BE$54,G1='Input Tables'!$BF$54,G1='Input Tables'!$BG$54,G1='Input Tables'!$BH$54,G1='Input Tables'!$BI$54,G1='Input Tables'!$BJ$54,G1='Input Tables'!$BK$54, G1='Input Tables'!$BL$54,'Input Tables'!$BM$54),('Cost Budgets'!$G$15*G6),0)","v":0},{"$f":"IF(OR(H1='Input Tables'!$BA$54, H1='Input Tables'!$BB$54,H1='Input Tables'!$BC$54, H1='Input Tables'!$BD$54,H1='Input Tables'!$BE$54,H1='Input Tables'!$BF$54,H1='Input Tables'!$BG$54,H1='Input Tables'!$BH$54,H1='Input Tables'!$BI$54,H1='Input Tables'!$BJ$54,H1='Input Tables'!$BK$54, H1='Input Tables'!$BL$54,'Input Tables'!$BM$54),('Cost Budgets'!$G$15*H6),0)","v":9.2136198347107428},{"$f":"IF(OR(I1='Input Tables'!$BA$54, I1='Input Tables'!$BB$54,I1='Input Tables'!$BC$54, I1='Input Tables'!$BD$54,I1='Input Tables'!$BE$54,I1='Input Tables'!$BF$54,I1='Input Tables'!$BG$54,I1='Input Tables'!$BH$54,I1='Input Tables'!$BI$54,I1='Input Tables'!$BJ$54,I1='Input Tables'!$BK$54, I1='Input Tables'!$BL$54,'Input Tables'!$BM$54),('Cost Budgets'!$G$15*I6),0)","v":0},{"$f":"IF(OR(J1='Input Tables'!$BA$54, J1='Input Tables'!$BB$54,J1='Input Tables'!$BC$54, J1='Input Tables'!$BD$54,J1='Input Tables'!$BE$54,J1='Input Tables'!$BF$54,J1='Input Tables'!$BG$54,J1='Input Tables'!$BH$54,J1='Input Tables'!$BI$54,J1='Input Tables'!$BJ$54,J1='Input Tables'!$BK$54, J1='Input Tables'!$BL$54,'Input Tables'!$BM$54),('Cost Budgets'!$G$15*J6),0)","v":0},{"$f":"IF(OR(K1='Input Tables'!$BA$54, K1='Input Tables'!$BB$54,K1='Input Tables'!$BC$54, K1='Input Tables'!$BD$54,K1='Input Tables'!$BE$54,K1='Input Tables'!$BF$54,K1='Input Tables'!$BG$54,K1='Input Tables'!$BH$54,K1='Input Tables'!$BI$54,K1='Input Tables'!$BJ$54,K1='Input Tables'!$BK$54, K1='Input Tables'!$BL$54,'Input Tables'!$BM$54),('Cost Budgets'!$G$15*K6),0)","v":7.4641983471074376},{"$f":"IF(OR(L1='Input Tables'!$BA$54, L1='Input Tables'!$BB$54,L1='Input Tables'!$BC$54, L1='Input Tables'!$BD$54,L1='Input Tables'!$BE$54,L1='Input Tables'!$BF$54,L1='Input Tables'!$BG$54,L1='Input Tables'!$BH$54,L1='Input Tables'!$BI$54,L1='Input Tables'!$BJ$54,L1='Input Tables'!$BK$54, L1='Input Tables'!$BL$54,'Input Tables'!$BM$54),('Cost Budgets'!$G$15*L6),0)","v":0},{"$f":"IF(OR(M1='Input Tables'!$BA$54, M1='Input Tables'!$BB$54,M1='Input Tables'!$BC$54, M1='Input Tables'!$BD$54,M1='Input Tables'!$BE$54,M1='Input Tables'!$BF$54,M1='Input Tables'!$BG$54,M1='Input Tables'!$BH$54,M1='Input Tables'!$BI$54,M1='Input Tables'!$BJ$54,M1='Input Tables'!$BK$54, M1='Input Tables'!$BL$54,'Input Tables'!$BM$54),('Cost Budgets'!$G$15*M6),0)","v":0},{"$f":"IF(OR(N1='Input Tables'!$BA$54, N1='Input Tables'!$BB$54,N1='Input Tables'!$BC$54, N1='Input Tables'!$BD$54,N1='Input Tables'!$BE$54,N1='Input Tables'!$BF$54,N1='Input Tables'!$BG$54,N1='Input Tables'!$BH$54,N1='Input Tables'!$BI$54,N1='Input Tables'!$BJ$54,N1='Input Tables'!$BK$54, N1='Input Tables'!$BL$54,'Input Tables'!$BM$54),('Cost Budgets'!$G$15*N6),0)","v":6.8810578512396692},{"$f":"IF(OR(O1='Input Tables'!$BA$54, O1='Input Tables'!$BB$54,O1='Input Tables'!$BC$54, O1='Input Tables'!$BD$54,O1='Input Tables'!$BE$54,O1='Input Tables'!$BF$54,O1='Input Tables'!$BG$54,O1='Input Tables'!$BH$54,O1='Input Tables'!$BI$54,O1='Input Tables'!$BJ$54,O1='Input Tables'!$BK$54, O1='Input Tables'!$BL$54,'Input Tables'!$BM$54),('Cost Budgets'!$G$15*O6),0)","v":0},{"$f":"IF(OR(P1='Input Tables'!$BA$54, P1='Input Tables'!$BB$54,P1='Input Tables'!$BC$54, P1='Input Tables'!$BD$54,P1='Input Tables'!$BE$54,P1='Input Tables'!$BF$54,P1='Input Tables'!$BG$54,P1='Input Tables'!$BH$54,P1='Input Tables'!$BI$54,P1='Input Tables'!$BJ$54,P1='Input Tables'!$BK$54, P1='Input Tables'!$BL$54,'Input Tables'!$BM$54),('Cost Budgets'!$G$15*P6),0)","v":0},{"$f":"IF(OR(Q1='Input Tables'!$BA$54, Q1='Input Tables'!$BB$54,Q1='Input Tables'!$BC$54, Q1='Input Tables'!$BD$54,Q1='Input Tables'!$BE$54,Q1='Input Tables'!$BF$54,Q1='Input Tables'!$BG$54,Q1='Input Tables'!$BH$54,Q1='Input Tables'!$BI$54,Q1='Input Tables'!$BJ$54,Q1='Input Tables'!$BK$54, Q1='Input Tables'!$BL$54,'Input Tables'!$BM$54),('Cost Budgets'!$G$15*Q6),0)","v":6.8810578512396692},{"$f":"IF(OR(R1='Input Tables'!$BA$54, R1='Input Tables'!$BB$54,R1='Input Tables'!$BC$54, R1='Input Tables'!$BD$54,R1='Input Tables'!$BE$54,R1='Input Tables'!$BF$54,R1='Input Tables'!$BG$54,R1='Input Tables'!$BH$54,R1='Input Tables'!$BI$54,R1='Input Tables'!$BJ$54,R1='Input Tables'!$BK$54, R1='Input Tables'!$BL$54,'Input Tables'!$BM$54),('Cost Budgets'!$G$15*R6),0)","v":0},{"$f":"IF(OR(S1='Input Tables'!$BA$54, S1='Input Tables'!$BB$54,S1='Input Tables'!$BC$54, S1='Input Tables'!$BD$54,S1='Input Tables'!$BE$54,S1='Input Tables'!$BF$54,S1='Input Tables'!$BG$54,S1='Input Tables'!$BH$54,S1='Input Tables'!$BI$54,S1='Input Tables'!$BJ$54,S1='Input Tables'!$BK$54, S1='Input Tables'!$BL$54,'Input Tables'!$BM$54),('Cost Budgets'!$G$15*S6),0)","v":0},{"$f":"IF(OR(T1='Input Tables'!$BA$54, T1='Input Tables'!$BB$54,T1='Input Tables'!$BC$54, T1='Input Tables'!$BD$54,T1='Input Tables'!$BE$54,T1='Input Tables'!$BF$54,T1='Input Tables'!$BG$54,T1='Input Tables'!$BH$54,T1='Input Tables'!$BI$54,T1='Input Tables'!$BJ$54,T1='Input Tables'!$BK$54, T1='Input Tables'!$BL$54,'Input Tables'!$BM$54),('Cost Budgets'!$G$15*T6),0)","v":0},{"$f":"IF(OR(U1='Input Tables'!$BA$54, U1='Input Tables'!$BB$54,U1='Input Tables'!$BC$54, U1='Input Tables'!$BD$54,U1='Input Tables'!$BE$54,U1='Input Tables'!$BF$54,U1='Input Tables'!$BG$54,U1='Input Tables'!$BH$54,U1='Input Tables'!$BI$54,U1='Input Tables'!$BJ$54,U1='Input Tables'!$BK$54, U1='Input Tables'!$BL$54,'Input Tables'!$BM$54),('Cost Budgets'!$G$15*U6),0)","v":0},{"$f":"IF(OR(V1='Input Tables'!$BA$54, V1='Input Tables'!$BB$54,V1='Input Tables'!$BC$54, V1='Input Tables'!$BD$54,V1='Input Tables'!$BE$54,V1='Input Tables'!$BF$54,V1='Input Tables'!$BG$54,V1='Input Tables'!$BH$54,V1='Input Tables'!$BI$54,V1='Input Tables'!$BJ$54,V1='Input Tables'!$BK$54, V1='Input Tables'!$BL$54,'Input Tables'!$BM$54),('Cost Budgets'!$G$15*V6),0)","v":0},{"$f":"IF(OR(W1='Input Tables'!$BA$54, W1='Input Tables'!$BB$54,W1='Input Tables'!$BC$54, W1='Input Tables'!$BD$54,W1='Input Tables'!$BE$54,W1='Input Tables'!$BF$54,W1='Input Tables'!$BG$54,W1='Input Tables'!$BH$54,W1='Input Tables'!$BI$54,W1='Input Tables'!$BJ$54,W1='Input Tables'!$BK$54, W1='Input Tables'!$BL$54,'Input Tables'!$BM$54),('Cost Budgets'!$G$15*W6),0)","v":0},{"$f":"IF(OR(X1='Input Tables'!$BA$54, X1='Input Tables'!$BB$54,X1='Input Tables'!$BC$54, X1='Input Tables'!$BD$54,X1='Input Tables'!$BE$54,X1='Input Tables'!$BF$54,X1='Input Tables'!$BG$54,X1='Input Tables'!$BH$54,X1='Input Tables'!$BI$54,X1='Input Tables'!$BJ$54,X1='Input Tables'!$BK$54, X1='Input Tables'!$BL$54,'Input Tables'!$BM$54),('Cost Budgets'!$G$15*X6),0)","v":0},{"$f":"IF(OR(Y1='Input Tables'!$BA$54, Y1='Input Tables'!$BB$54,Y1='Input Tables'!$BC$54, Y1='Input Tables'!$BD$54,Y1='Input Tables'!$BE$54,Y1='Input Tables'!$BF$54,Y1='Input Tables'!$BG$54,Y1='Input Tables'!$BH$54,Y1='Input Tables'!$BI$54,Y1='Input Tables'!$BJ$54,Y1='Input Tables'!$BK$54, Y1='Input Tables'!$BL$54,'Input Tables'!$BM$54),('Cost Budgets'!$G$15*Y6),0)","v":0},{"$f":"IF(OR(Z1='Input Tables'!$BA$54, Z1='Input Tables'!$BB$54,Z1='Input Tables'!$BC$54, Z1='Input Tables'!$BD$54,Z1='Input Tables'!$BE$54,Z1='Input Tables'!$BF$54,Z1='Input Tables'!$BG$54,Z1='Input Tables'!$BH$54,Z1='Input Tables'!$BI$54,Z1='Input Tables'!$BJ$54,Z1='Input Tables'!$BK$54, Z1='Input Tables'!$BL$54,'Input Tables'!$BM$54),('Cost Budgets'!$G$15*Z6),0)","v":0},{"$f":"IF(OR(AA1='Input Tables'!$BA$54, AA1='Input Tables'!$BB$54,AA1='Input Tables'!$BC$54, AA1='Input Tables'!$BD$54,AA1='Input Tables'!$BE$54,AA1='Input Tables'!$BF$54,AA1='Input Tables'!$BG$54,AA1='Input Tables'!$BH$54,AA1='Input Tables'!$BI$54,AA1='Input Tables'!$BJ$54,AA1='Input Tables'!$BK$54, AA1='Input Tables'!$BL$54,'Input Tables'!$BM$54),('Cost Budgets'!$G$15*AA6),0)","v":0},{"$f":"IF(OR(AB1='Input Tables'!$BA$54, AB1='Input Tables'!$BB$54,AB1='Input Tables'!$BC$54, AB1='Input Tables'!$BD$54,AB1='Input Tables'!$BE$54,AB1='Input Tables'!$BF$54,AB1='Input Tables'!$BG$54,AB1='Input Tables'!$BH$54,AB1='Input Tables'!$BI$54,AB1='Input Tables'!$BJ$54,AB1='Input Tables'!$BK$54, AB1='Input Tables'!$BL$54,'Input Tables'!$BM$54),('Cost Budgets'!$G$15*AB6),0)","v":0},{"$f":"IF(OR(AC1='Input Tables'!$BA$54, AC1='Input Tables'!$BB$54,AC1='Input Tables'!$BC$54, AC1='Input Tables'!$BD$54,AC1='Input Tables'!$BE$54,AC1='Input Tables'!$BF$54,AC1='Input Tables'!$BG$54,AC1='Input Tables'!$BH$54,AC1='Input Tables'!$BI$54,AC1='Input Tables'!$BJ$54,AC1='Input Tables'!$BK$54, AC1='Input Tables'!$BL$54,'Input Tables'!$BM$54),('Cost Budgets'!$G$15*AC6),0)","v":0},{"$f":"IF(OR(AD1='Input Tables'!$BA$54, AD1='Input Tables'!$BB$54,AD1='Input Tables'!$BC$54, AD1='Input Tables'!$BD$54,AD1='Input Tables'!$BE$54,AD1='Input Tables'!$BF$54,AD1='Input Tables'!$BG$54,AD1='Input Tables'!$BH$54,AD1='Input Tables'!$BI$54,AD1='Input Tables'!$BJ$54,AD1='Input Tables'!$BK$54, AD1='Input Tables'!$BL$54,'Input Tables'!$BM$54),('Cost Budgets'!$G$15*AD6),0)","v":0},{"$f":"IF(OR(AE1='Input Tables'!$BA$54, AE1='Input Tables'!$BB$54,AE1='Input Tables'!$BC$54, AE1='Input Tables'!$BD$54,AE1='Input Tables'!$BE$54,AE1='Input Tables'!$BF$54,AE1='Input Tables'!$BG$54,AE1='Input Tables'!$BH$54,AE1='Input Tables'!$BI$54,AE1='Input Tables'!$BJ$54,AE1='Input Tables'!$BK$54, AE1='Input Tables'!$BL$54,'Input Tables'!$BM$54),('Cost Budgets'!$G$15*AE6),0)","v":0},{"$f":"IF(OR(AF1='Input Tables'!$BA$54, AF1='Input Tables'!$BB$54,AF1='Input Tables'!$BC$54, AF1='Input Tables'!$BD$54,AF1='Input Tables'!$BE$54,AF1='Input Tables'!$BF$54,AF1='Input Tables'!$BG$54,AF1='Input Tables'!$BH$54,AF1='Input Tables'!$BI$54,AF1='Input Tables'!$BJ$54,AF1='Input Tables'!$BK$54, AF1='Input Tables'!$BL$54,'Input Tables'!$BM$54),('Cost Budgets'!$G$15*AF6),0)","v":0},{"$f":"IF(OR(AG1='Input Tables'!$BA$54, AG1='Input Tables'!$BB$54,AG1='Input Tables'!$BC$54, AG1='Input Tables'!$BD$54,AG1='Input Tables'!$BE$54,AG1='Input Tables'!$BF$54,AG1='Input Tables'!$BG$54,AG1='Input Tables'!$BH$54,AG1='Input Tables'!$BI$54,AG1='Input Tables'!$BJ$54,AG1='Input Tables'!$BK$54, AG1='Input Tables'!$BL$54,'Input Tables'!$BM$54),('Cost Budgets'!$G$15*AG6),0)","v":0},{"$f":"IF(OR(AH1='Input Tables'!$BA$54, AH1='Input Tables'!$BB$54,AH1='Input Tables'!$BC$54, AH1='Input Tables'!$BD$54,AH1='Input Tables'!$BE$54,AH1='Input Tables'!$BF$54,AH1='Input Tables'!$BG$54,AH1='Input Tables'!$BH$54,AH1='Input Tables'!$BI$54,AH1='Input Tables'!$BJ$54,AH1='Input Tables'!$BK$54, AH1='Input Tables'!$BL$54,'Input Tables'!$BM$54),('Cost Budgets'!$G$15*AH6),0)","v":0},{"$f":"IF(OR(AI1='Input Tables'!$BA$54, AI1='Input Tables'!$BB$54,AI1='Input Tables'!$BC$54, AI1='Input Tables'!$BD$54,AI1='Input Tables'!$BE$54,AI1='Input Tables'!$BF$54,AI1='Input Tables'!$BG$54,AI1='Input Tables'!$BH$54,AI1='Input Tables'!$BI$54,AI1='Input Tables'!$BJ$54,AI1='Input Tables'!$BK$54, AI1='Input Tables'!$BL$54,'Input Tables'!$BM$54),('Cost Budgets'!$G$15*AI6),0)","v":0},{"$f":"IF(OR(AJ1='Input Tables'!$BA$54, AJ1='Input Tables'!$BB$54,AJ1='Input Tables'!$BC$54, AJ1='Input Tables'!$BD$54,AJ1='Input Tables'!$BE$54,AJ1='Input Tables'!$BF$54,AJ1='Input Tables'!$BG$54,AJ1='Input Tables'!$BH$54,AJ1='Input Tables'!$BI$54,AJ1='Input Tables'!$BJ$54,AJ1='Input Tables'!$BK$54, AJ1='Input Tables'!$BL$54,'Input Tables'!$BM$54),('Cost Budgets'!$G$15*AJ6),0)","v":0},{"$f":"IF(OR(AK1='Input Tables'!$BA$54, AK1='Input Tables'!$BB$54,AK1='Input Tables'!$BC$54, AK1='Input Tables'!$BD$54,AK1='Input Tables'!$BE$54,AK1='Input Tables'!$BF$54,AK1='Input Tables'!$BG$54,AK1='Input Tables'!$BH$54,AK1='Input Tables'!$BI$54,AK1='Input Tables'!$BJ$54,AK1='Input Tables'!$BK$54, AK1='Input Tables'!$BL$54,'Input Tables'!$BM$54),('Cost Budgets'!$G$15*AK6),0)","v":0},{"$f":"IF(OR(AL1='Input Tables'!$BA$54, AL1='Input Tables'!$BB$54,AL1='Input Tables'!$BC$54, AL1='Input Tables'!$BD$54,AL1='Input Tables'!$BE$54,AL1='Input Tables'!$BF$54,AL1='Input Tables'!$BG$54,AL1='Input Tables'!$BH$54,AL1='Input Tables'!$BI$54,AL1='Input Tables'!$BJ$54,AL1='Input Tables'!$BK$54, AL1='Input Tables'!$BL$54,'Input Tables'!$BM$54),('Cost Budgets'!$G$15*AL6),0)","v":0},{"$f":"IF(OR(AM1='Input Tables'!$BA$54, AM1='Input Tables'!$BB$54,AM1='Input Tables'!$BC$54, AM1='Input Tables'!$BD$54,AM1='Input Tables'!$BE$54,AM1='Input Tables'!$BF$54,AM1='Input Tables'!$BG$54,AM1='Input Tables'!$BH$54,AM1='Input Tables'!$BI$54,AM1='Input Tables'!$BJ$54,AM1='Input Tables'!$BK$54, AM1='Input Tables'!$BL$54,'Input Tables'!$BM$54),('Cost Budgets'!$G$15*AM6),0)","v":0},{"$f":"IF(OR(AN1='Input Tables'!$BA$54, AN1='Input Tables'!$BB$54,AN1='Input Tables'!$BC$54, AN1='Input Tables'!$BD$54,AN1='Input Tables'!$BE$54,AN1='Input Tables'!$BF$54,AN1='Input Tables'!$BG$54,AN1='Input Tables'!$BH$54,AN1='Input Tables'!$BI$54,AN1='Input Tables'!$BJ$54,AN1='Input Tables'!$BK$54, AN1='Input Tables'!$BL$54,'Input Tables'!$BM$54),('Cost Budgets'!$G$15*AN6),0)","v":0},{"$f":"IF(OR(AO1='Input Tables'!$BA$54, AO1='Input Tables'!$BB$54,AO1='Input Tables'!$BC$54, AO1='Input Tables'!$BD$54,AO1='Input Tables'!$BE$54,AO1='Input Tables'!$BF$54,AO1='Input Tables'!$BG$54,AO1='Input Tables'!$BH$54,AO1='Input Tables'!$BI$54,AO1='Input Tables'!$BJ$54,AO1='Input Tables'!$BK$54, AO1='Input Tables'!$BL$54,'Input Tables'!$BM$54),('Cost Budgets'!$G$15*AO6),0)","v":0},{"$f":"IF(OR(AP1='Input Tables'!$BA$54, AP1='Input Tables'!$BB$54,AP1='Input Tables'!$BC$54, AP1='Input Tables'!$BD$54,AP1='Input Tables'!$BE$54,AP1='Input Tables'!$BF$54,AP1='Input Tables'!$BG$54,AP1='Input Tables'!$BH$54,AP1='Input Tables'!$BI$54,AP1='Input Tables'!$BJ$54,AP1='Input Tables'!$BK$54, AP1='Input Tables'!$BL$54,'Input Tables'!$BM$54),('Cost Budgets'!$G$15*AP6),0)","v":0},{"$f":"IF(OR(AQ1='Input Tables'!$BA$54, AQ1='Input Tables'!$BB$54,AQ1='Input Tables'!$BC$54, AQ1='Input Tables'!$BD$54,AQ1='Input Tables'!$BE$54,AQ1='Input Tables'!$BF$54,AQ1='Input Tables'!$BG$54,AQ1='Input Tables'!$BH$54,AQ1='Input Tables'!$BI$54,AQ1='Input Tables'!$BJ$54,AQ1='Input Tables'!$BK$54, AQ1='Input Tables'!$BL$54,'Input Tables'!$BM$54),('Cost Budgets'!$G$15*AQ6),0)","v":0},{"$f":"IF(OR(AR1='Input Tables'!$BA$54, AR1='Input Tables'!$BB$54,AR1='Input Tables'!$BC$54, AR1='Input Tables'!$BD$54,AR1='Input Tables'!$BE$54,AR1='Input Tables'!$BF$54,AR1='Input Tables'!$BG$54,AR1='Input Tables'!$BH$54,AR1='Input Tables'!$BI$54,AR1='Input Tables'!$BJ$54,AR1='Input Tables'!$BK$54, AR1='Input Tables'!$BL$54,'Input Tables'!$BM$54),('Cost Budgets'!$G$15*AR6),0)","v":0},{"$f":"IF(OR(AS1='Input Tables'!$BA$54, AS1='Input Tables'!$BB$54,AS1='Input Tables'!$BC$54, AS1='Input Tables'!$BD$54,AS1='Input Tables'!$BE$54,AS1='Input Tables'!$BF$54,AS1='Input Tables'!$BG$54,AS1='Input Tables'!$BH$54,AS1='Input Tables'!$BI$54,AS1='Input Tables'!$BJ$54,AS1='Input Tables'!$BK$54, AS1='Input Tables'!$BL$54,'Input Tables'!$BM$54),('Cost Budgets'!$G$15*AS6),0)","v":0},{"$f":"IF(OR(AT1='Input Tables'!$BA$54, AT1='Input Tables'!$BB$54,AT1='Input Tables'!$BC$54, AT1='Input Tables'!$BD$54,AT1='Input Tables'!$BE$54,AT1='Input Tables'!$BF$54,AT1='Input Tables'!$BG$54,AT1='Input Tables'!$BH$54,AT1='Input Tables'!$BI$54,AT1='Input Tables'!$BJ$54,AT1='Input Tables'!$BK$54, AT1='Input Tables'!$BL$54,'Input Tables'!$BM$54),('Cost Budgets'!$G$15*AT6),0)","v":0},{"$f":"IF(OR(AU1='Input Tables'!$BA$54, AU1='Input Tables'!$BB$54,AU1='Input Tables'!$BC$54, AU1='Input Tables'!$BD$54,AU1='Input Tables'!$BE$54,AU1='Input Tables'!$BF$54,AU1='Input Tables'!$BG$54,AU1='Input Tables'!$BH$54,AU1='Input Tables'!$BI$54,AU1='Input Tables'!$BJ$54,AU1='Input Tables'!$BK$54, AU1='Input Tables'!$BL$54,'Input Tables'!$BM$54),('Cost Budgets'!$G$15*AU6),0)","v":0},{"$f":"IF(OR(AV1='Input Tables'!$BA$54, AV1='Input Tables'!$BB$54,AV1='Input Tables'!$BC$54, AV1='Input Tables'!$BD$54,AV1='Input Tables'!$BE$54,AV1='Input Tables'!$BF$54,AV1='Input Tables'!$BG$54,AV1='Input Tables'!$BH$54,AV1='Input Tables'!$BI$54,AV1='Input Tables'!$BJ$54,AV1='Input Tables'!$BK$54, AV1='Input Tables'!$BL$54,'Input Tables'!$BM$54),('Cost Budgets'!$G$15*AV6),0)","v":0},{"$f":"IF(OR(AW1='Input Tables'!$BA$54, AW1='Input Tables'!$BB$54,AW1='Input Tables'!$BC$54, AW1='Input Tables'!$BD$54,AW1='Input Tables'!$BE$54,AW1='Input Tables'!$BF$54,AW1='Input Tables'!$BG$54,AW1='Input Tables'!$BH$54,AW1='Input Tables'!$BI$54,AW1='Input Tables'!$BJ$54,AW1='Input Tables'!$BK$54, AW1='Input Tables'!$BL$54,'Input Tables'!$BM$54),('Cost Budgets'!$G$15*AW6),0)","v":0},{"$f":"IF(OR(AX1='Input Tables'!$BA$54, AX1='Input Tables'!$BB$54,AX1='Input Tables'!$BC$54, AX1='Input Tables'!$BD$54,AX1='Input Tables'!$BE$54,AX1='Input Tables'!$BF$54,AX1='Input Tables'!$BG$54,AX1='Input Tables'!$BH$54,AX1='Input Tables'!$BI$54,AX1='Input Tables'!$BJ$54,AX1='Input Tables'!$BK$54, AX1='Input Tables'!$BL$54,'Input Tables'!$BM$54),('Cost Budgets'!$G$15*AX6),0)","v":0},{"$f":"IF(OR(AY1='Input Tables'!$BA$54, AY1='Input Tables'!$BB$54,AY1='Input Tables'!$BC$54, AY1='Input Tables'!$BD$54,AY1='Input Tables'!$BE$54,AY1='Input Tables'!$BF$54,AY1='Input Tables'!$BG$54,AY1='Input Tables'!$BH$54,AY1='Input Tables'!$BI$54,AY1='Input Tables'!$BJ$54,AY1='Input Tables'!$BK$54, AY1='Input Tables'!$BL$54,'Input Tables'!$BM$54),('Cost Budgets'!$G$15*AY6),0)","v":0},{"$f":"IF(OR(AZ1='Input Tables'!$BA$54, AZ1='Input Tables'!$BB$54,AZ1='Input Tables'!$BC$54, AZ1='Input Tables'!$BD$54,AZ1='Input Tables'!$BE$54,AZ1='Input Tables'!$BF$54,AZ1='Input Tables'!$BG$54,AZ1='Input Tables'!$BH$54,AZ1='Input Tables'!$BI$54,AZ1='Input Tables'!$BJ$54,AZ1='Input Tables'!$BK$54, AZ1='Input Tables'!$BL$54,'Input Tables'!$BM$54),('Cost Budgets'!$G$15*AZ6),0)","v":0},{"$f":"IF(OR(BA1='Input Tables'!$BA$54, BA1='Input Tables'!$BB$54,BA1='Input Tables'!$BC$54, BA1='Input Tables'!$BD$54,BA1='Input Tables'!$BE$54,BA1='Input Tables'!$BF$54,BA1='Input Tables'!$BG$54,BA1='Input Tables'!$BH$54,BA1='Input Tables'!$BI$54,BA1='Input Tables'!$BJ$54,BA1='Input Tables'!$BK$54, BA1='Input Tables'!$BL$54,'Input Tables'!$BM$54),('Cost Budgets'!$G$15*BA6),0)","v":0},{"$f":"IF(OR(BB1='Input Tables'!$BA$54, BB1='Input Tables'!$BB$54,BB1='Input Tables'!$BC$54, BB1='Input Tables'!$BD$54,BB1='Input Tables'!$BE$54,BB1='Input Tables'!$BF$54,BB1='Input Tables'!$BG$54,BB1='Input Tables'!$BH$54,BB1='Input Tables'!$BI$54,BB1='Input Tables'!$BJ$54,BB1='Input Tables'!$BK$54, BB1='Input Tables'!$BL$54,'Input Tables'!$BM$54),('Cost Budgets'!$G$15*BB6),0)","v":0},{"$f":"IF(OR(BC1='Input Tables'!$BA$54, BC1='Input Tables'!$BB$54,BC1='Input Tables'!$BC$54, BC1='Input Tables'!$BD$54,BC1='Input Tables'!$BE$54,BC1='Input Tables'!$BF$54,BC1='Input Tables'!$BG$54,BC1='Input Tables'!$BH$54,BC1='Input Tables'!$BI$54,BC1='Input Tables'!$BJ$54,BC1='Input Tables'!$BK$54, BC1='Input Tables'!$BL$54,'Input Tables'!$BM$54),('Cost Budgets'!$G$15*BC6),0)","v":0},{"$f":"IF(OR(BD1='Input Tables'!$BA$54, BD1='Input Tables'!$BB$54,BD1='Input Tables'!$BC$54, BD1='Input Tables'!$BD$54,BD1='Input Tables'!$BE$54,BD1='Input Tables'!$BF$54,BD1='Input Tables'!$BG$54,BD1='Input Tables'!$BH$54,BD1='Input Tables'!$BI$54,BD1='Input Tables'!$BJ$54,BD1='Input Tables'!$BK$54, BD1='Input Tables'!$BL$54,'Input Tables'!$BM$54),('Cost Budgets'!$G$15*BD6),0)","v":0},{"$f":"IF(OR(BE1='Input Tables'!$BA$54, BE1='Input Tables'!$BB$54,BE1='Input Tables'!$BC$54, BE1='Input Tables'!$BD$54,BE1='Input Tables'!$BE$54,BE1='Input Tables'!$BF$54,BE1='Input Tables'!$BG$54,BE1='Input Tables'!$BH$54,BE1='Input Tables'!$BI$54,BE1='Input Tables'!$BJ$54,BE1='Input Tables'!$BK$54, BE1='Input Tables'!$BL$54,'Input Tables'!$BM$54),('Cost Budgets'!$G$15*BE6),0)","v":0},{"$f":"IF(OR(BF1='Input Tables'!$BA$54, BF1='Input Tables'!$BB$54,BF1='Input Tables'!$BC$54, BF1='Input Tables'!$BD$54,BF1='Input Tables'!$BE$54,BF1='Input Tables'!$BF$54,BF1='Input Tables'!$BG$54,BF1='Input Tables'!$BH$54,BF1='Input Tables'!$BI$54,BF1='Input Tables'!$BJ$54,BF1='Input Tables'!$BK$54, BF1='Input Tables'!$BL$54,'Input Tables'!$BM$54),('Cost Budgets'!$G$15*BF6),0)","v":0},{"$f":"IF(OR(BG1='Input Tables'!$BA$54, BG1='Input Tables'!$BB$54,BG1='Input Tables'!$BC$54, BG1='Input Tables'!$BD$54,BG1='Input Tables'!$BE$54,BG1='Input Tables'!$BF$54,BG1='Input Tables'!$BG$54,BG1='Input Tables'!$BH$54,BG1='Input Tables'!$BI$54,BG1='Input Tables'!$BJ$54,BG1='Input Tables'!$BK$54, BG1='Input Tables'!$BL$54,'Input Tables'!$BM$54),('Cost Budgets'!$G$15*BG6),0)","v":0},{"$f":"IF(OR(BH1='Input Tables'!$BA$54, BH1='Input Tables'!$BB$54,BH1='Input Tables'!$BC$54, BH1='Input Tables'!$BD$54,BH1='Input Tables'!$BE$54,BH1='Input Tables'!$BF$54,BH1='Input Tables'!$BG$54,BH1='Input Tables'!$BH$54,BH1='Input Tables'!$BI$54,BH1='Input Tables'!$BJ$54,BH1='Input Tables'!$BK$54, BH1='Input Tables'!$BL$54,'Input Tables'!$BM$54),('Cost Budgets'!$G$15*BH6),0)","v":0},{"$f":"IF(OR(BI1='Input Tables'!$BA$54, BI1='Input Tables'!$BB$54,BI1='Input Tables'!$BC$54, BI1='Input Tables'!$BD$54,BI1='Input Tables'!$BE$54,BI1='Input Tables'!$BF$54,BI1='Input Tables'!$BG$54,BI1='Input Tables'!$BH$54,BI1='Input Tables'!$BI$54,BI1='Input Tables'!$BJ$54,BI1='Input Tables'!$BK$54, BI1='Input Tables'!$BL$54,'Input Tables'!$BM$54),('Cost Budgets'!$G$15*BI6),0)","v":0},{"$f":"IF(OR(BJ1='Input Tables'!$BA$54, BJ1='Input Tables'!$BB$54,BJ1='Input Tables'!$BC$54, BJ1='Input Tables'!$BD$54,BJ1='Input Tables'!$BE$54,BJ1='Input Tables'!$BF$54,BJ1='Input Tables'!$BG$54,BJ1='Input Tables'!$BH$54,BJ1='Input Tables'!$BI$54,BJ1='Input Tables'!$BJ$54,BJ1='Input Tables'!$BK$54, BJ1='Input Tables'!$BL$54,'Input Tables'!$BM$54),('Cost Budgets'!$G$15*BJ6),0)","v":0},{"$f":"IF(OR(BK1='Input Tables'!$BA$54, BK1='Input Tables'!$BB$54,BK1='Input Tables'!$BC$54, BK1='Input Tables'!$BD$54,BK1='Input Tables'!$BE$54,BK1='Input Tables'!$BF$54,BK1='Input Tables'!$BG$54,BK1='Input Tables'!$BH$54,BK1='Input Tables'!$BI$54,BK1='Input Tables'!$BJ$54,BK1='Input Tables'!$BK$54, BK1='Input Tables'!$BL$54,'Input Tables'!$BM$54),('Cost Budgets'!$G$15*BK6),0)","v":0}]
[]
[null,"Disease Control",null,null,{"$f":"IF(OR(E1='Input Tables'!$BA$68, E1='Input Tables'!$BB$68,E1='Input Tables'!$BC$68, E1='Input Tables'!$BD$68,E1='Input Tables'!$BE$68,E1='Input Tables'!$BF$68,E1='Input Tables'!$BG$68,E1='Input Tables'!$BH$68,E1='Input Tables'!$BI$68,E1='Input Tables'!$BJ$68,E1='Input Tables'!$BK$68, E1='Input Tables'!$BL$68,'Input Tables'!$BM$68),('Cost Budgets'!$G$16*E6),0)","v":0},{"$f":"IF(OR(F1='Input Tables'!$BA$68, F1='Input Tables'!$BB$68,F1='Input Tables'!$BC$68, F1='Input Tables'!$BD$68,F1='Input Tables'!$BE$68,F1='Input Tables'!$BF$68,F1='Input Tables'!$BG$68,F1='Input Tables'!$BH$68,F1='Input Tables'!$BI$68,F1='Input Tables'!$BJ$68,F1='Input Tables'!$BK$68, F1='Input Tables'!$BL$68,'Input Tables'!$BM$68),('Cost Budgets'!$G$16*F6),0)","v":0},{"$f":"IF(OR(G1='Input Tables'!$BA$68, G1='Input Tables'!$BB$68,G1='Input Tables'!$BC$68, G1='Input Tables'!$BD$68,G1='Input Tables'!$BE$68,G1='Input Tables'!$BF$68,G1='Input Tables'!$BG$68,G1='Input Tables'!$BH$68,G1='Input Tables'!$BI$68,G1='Input Tables'!$BJ$68,G1='Input Tables'!$BK$68, G1='Input Tables'!$BL$68,'Input Tables'!$BM$68),('Cost Budgets'!$G$16*G6),0)","v":0},{"$f":"IF(OR(H1='Input Tables'!$BA$68, H1='Input Tables'!$BB$68,H1='Input Tables'!$BC$68, H1='Input Tables'!$BD$68,H1='Input Tables'!$BE$68,H1='Input Tables'!$BF$68,H1='Input Tables'!$BG$68,H1='Input Tables'!$BH$68,H1='Input Tables'!$BI$68,H1='Input Tables'!$BJ$68,H1='Input Tables'!$BK$68, H1='Input Tables'!$BL$68,'Input Tables'!$BM$68),('Cost Budgets'!$G$16*H6),0)","v":0},{"$f":"IF(OR(I1='Input Tables'!$BA$68, I1='Input Tables'!$BB$68,I1='Input Tables'!$BC$68, I1='Input Tables'!$BD$68,I1='Input Tables'!$BE$68,I1='Input Tables'!$BF$68,I1='Input Tables'!$BG$68,I1='Input Tables'!$BH$68,I1='Input Tables'!$BI$68,I1='Input Tables'!$BJ$68,I1='Input Tables'!$BK$68, I1='Input Tables'!$BL$68,'Input Tables'!$BM$68),('Cost Budgets'!$G$16*I6),0)","v":0},{"$f":"IF(OR(J1='Input Tables'!$BA$68, J1='Input Tables'!$BB$68,J1='Input Tables'!$BC$68, J1='Input Tables'!$BD$68,J1='Input Tables'!$BE$68,J1='Input Tables'!$BF$68,J1='Input Tables'!$BG$68,J1='Input Tables'!$BH$68,J1='Input Tables'!$BI$68,J1='Input Tables'!$BJ$68,J1='Input Tables'!$BK$68, J1='Input Tables'!$BL$68,'Input Tables'!$BM$68),('Cost Budgets'!$G$16*J6),0)","v":0},{"$f":"IF(OR(K1='Input Tables'!$BA$68, K1='Input Tables'!$BB$68,K1='Input Tables'!$BC$68, K1='Input Tables'!$BD$68,K1='Input Tables'!$BE$68,K1='Input Tables'!$BF$68,K1='Input Tables'!$BG$68,K1='Input Tables'!$BH$68,K1='Input Tables'!$BI$68,K1='Input Tables'!$BJ$68,K1='Input Tables'!$BK$68, K1='Input Tables'!$BL$68,'Input Tables'!$BM$68),('Cost Budgets'!$G$16*K6),0)","v":0},{"$f":"IF(OR(L1='Input Tables'!$BA$68, L1='Input Tables'!$BB$68,L1='Input Tables'!$BC$68, L1='Input Tables'!$BD$68,L1='Input Tables'!$BE$68,L1='Input Tables'!$BF$68,L1='Input Tables'!$BG$68,L1='Input Tables'!$BH$68,L1='Input Tables'!$BI$68,L1='Input Tables'!$BJ$68,L1='Input Tables'!$BK$68, L1='Input Tables'!$BL$68,'Input Tables'!$BM$68),('Cost Budgets'!$G$16*L6),0)","v":0},{"$f":"IF(OR(M1='Input Tables'!$BA$68, M1='Input Tables'!$BB$68,M1='Input Tables'!$BC$68, M1='Input Tables'!$BD$68,M1='Input Tables'!$BE$68,M1='Input Tables'!$BF$68,M1='Input Tables'!$BG$68,M1='Input Tables'!$BH$68,M1='Input Tables'!$BI$68,M1='Input Tables'!$BJ$68,M1='Input Tables'!$BK$68, M1='Input Tables'!$BL$68,'Input Tables'!$BM$68),('Cost Budgets'!$G$16*M6),0)","v":0},{"$f":"IF(OR(N1='Input Tables'!$BA$68, N1='Input Tables'!$BB$68,N1='Input Tables'!$BC$68, N1='Input Tables'!$BD$68,N1='Input Tables'!$BE$68,N1='Input Tables'!$BF$68,N1='Input Tables'!$BG$68,N1='Input Tables'!$BH$68,N1='Input Tables'!$BI$68,N1='Input Tables'!$BJ$68,N1='Input Tables'!$BK$68, N1='Input Tables'!$BL$68,'Input Tables'!$BM$68),('Cost Budgets'!$G$16*N6),0)","v":0},{"$f":"IF(OR(O1='Input Tables'!$BA$68, O1='Input Tables'!$BB$68,O1='Input Tables'!$BC$68, O1='Input Tables'!$BD$68,O1='Input Tables'!$BE$68,O1='Input Tables'!$BF$68,O1='Input Tables'!$BG$68,O1='Input Tables'!$BH$68,O1='Input Tables'!$BI$68,O1='Input Tables'!$BJ$68,O1='Input Tables'!$BK$68, O1='Input Tables'!$BL$68,'Input Tables'!$BM$68),('Cost Budgets'!$G$16*O6),0)","v":0},{"$f":"IF(OR(P1='Input Tables'!$BA$68, P1='Input Tables'!$BB$68,P1='Input Tables'!$BC$68, P1='Input Tables'!$BD$68,P1='Input Tables'!$BE$68,P1='Input Tables'!$BF$68,P1='Input Tables'!$BG$68,P1='Input Tables'!$BH$68,P1='Input Tables'!$BI$68,P1='Input Tables'!$BJ$68,P1='Input Tables'!$BK$68, P1='Input Tables'!$BL$68,'Input Tables'!$BM$68),('Cost Budgets'!$G$16*P6),0)","v":0},{"$f":"IF(OR(Q1='Input Tables'!$BA$68, Q1='Input Tables'!$BB$68,Q1='Input Tables'!$BC$68, Q1='Input Tables'!$BD$68,Q1='Input Tables'!$BE$68,Q1='Input Tables'!$BF$68,Q1='Input Tables'!$BG$68,Q1='Input Tables'!$BH$68,Q1='Input Tables'!$BI$68,Q1='Input Tables'!$BJ$68,Q1='Input Tables'!$BK$68, Q1='Input Tables'!$BL$68,'Input Tables'!$BM$68),('Cost Budgets'!$G$16*Q6),0)","v":0},{"$f":"IF(OR(R1='Input Tables'!$BA$68, R1='Input Tables'!$BB$68,R1='Input Tables'!$BC$68, R1='Input Tables'!$BD$68,R1='Input Tables'!$BE$68,R1='Input Tables'!$BF$68,R1='Input Tables'!$BG$68,R1='Input Tables'!$BH$68,R1='Input Tables'!$BI$68,R1='Input Tables'!$BJ$68,R1='Input Tables'!$BK$68, R1='Input Tables'!$BL$68,'Input Tables'!$BM$68),('Cost Budgets'!$G$16*R6),0)","v":0},{"$f":"IF(OR(S1='Input Tables'!$BA$68, S1='Input Tables'!$BB$68,S1='Input Tables'!$BC$68, S1='Input Tables'!$BD$68,S1='Input Tables'!$BE$68,S1='Input Tables'!$BF$68,S1='Input Tables'!$BG$68,S1='Input Tables'!$BH$68,S1='Input Tables'!$BI$68,S1='Input Tables'!$BJ$68,S1='Input Tables'!$BK$68, S1='Input Tables'!$BL$68,'Input Tables'!$BM$68),('Cost Budgets'!$G$16*S6),0)","v":0},{"$f":"IF(OR(T1='Input Tables'!$BA$68, T1='Input Tables'!$BB$68,T1='Input Tables'!$BC$68, T1='Input Tables'!$BD$68,T1='Input Tables'!$BE$68,T1='Input Tables'!$BF$68,T1='Input Tables'!$BG$68,T1='Input Tables'!$BH$68,T1='Input Tables'!$BI$68,T1='Input Tables'!$BJ$68,T1='Input Tables'!$BK$68, T1='Input Tables'!$BL$68,'Input Tables'!$BM$68),('Cost Budgets'!$G$16*T6),0)","v":0},{"$f":"IF(OR(U1='Input Tables'!$BA$68, U1='Input Tables'!$BB$68,U1='Input Tables'!$BC$68, U1='Input Tables'!$BD$68,U1='Input Tables'!$BE$68,U1='Input Tables'!$BF$68,U1='Input Tables'!$BG$68,U1='Input Tables'!$BH$68,U1='Input Tables'!$BI$68,U1='Input Tables'!$BJ$68,U1='Input Tables'!$BK$68, U1='Input Tables'!$BL$68,'Input Tables'!$BM$68),('Cost Budgets'!$G$16*U6),0)","v":0},{"$f":"IF(OR(V1='Input Tables'!$BA$68, V1='Input Tables'!$BB$68,V1='Input Tables'!$BC$68, V1='Input Tables'!$BD$68,V1='Input Tables'!$BE$68,V1='Input Tables'!$BF$68,V1='Input Tables'!$BG$68,V1='Input Tables'!$BH$68,V1='Input Tables'!$BI$68,V1='Input Tables'!$BJ$68,V1='Input Tables'!$BK$68, V1='Input Tables'!$BL$68,'Input Tables'!$BM$68),('Cost Budgets'!$G$16*V6),0)","v":0},{"$f":"IF(OR(W1='Input Tables'!$BA$68, W1='Input Tables'!$BB$68,W1='Input Tables'!$BC$68, W1='Input Tables'!$BD$68,W1='Input Tables'!$BE$68,W1='Input Tables'!$BF$68,W1='Input Tables'!$BG$68,W1='Input Tables'!$BH$68,W1='Input Tables'!$BI$68,W1='Input Tables'!$BJ$68,W1='Input Tables'!$BK$68, W1='Input Tables'!$BL$68,'Input Tables'!$BM$68),('Cost Budgets'!$G$16*W6),0)","v":0},{"$f":"IF(OR(X1='Input Tables'!$BA$68, X1='Input Tables'!$BB$68,X1='Input Tables'!$BC$68, X1='Input Tables'!$BD$68,X1='Input Tables'!$BE$68,X1='Input Tables'!$BF$68,X1='Input Tables'!$BG$68,X1='Input Tables'!$BH$68,X1='Input Tables'!$BI$68,X1='Input Tables'!$BJ$68,X1='Input Tables'!$BK$68, X1='Input Tables'!$BL$68,'Input Tables'!$BM$68),('Cost Budgets'!$G$16*X6),0)","v":0},{"$f":"IF(OR(Y1='Input Tables'!$BA$68, Y1='Input Tables'!$BB$68,Y1='Input Tables'!$BC$68, Y1='Input Tables'!$BD$68,Y1='Input Tables'!$BE$68,Y1='Input Tables'!$BF$68,Y1='Input Tables'!$BG$68,Y1='Input Tables'!$BH$68,Y1='Input Tables'!$BI$68,Y1='Input Tables'!$BJ$68,Y1='Input Tables'!$BK$68, Y1='Input Tables'!$BL$68,'Input Tables'!$BM$68),('Cost Budgets'!$G$16*Y6),0)","v":0},{"$f":"IF(OR(Z1='Input Tables'!$BA$68, Z1='Input Tables'!$BB$68,Z1='Input Tables'!$BC$68, Z1='Input Tables'!$BD$68,Z1='Input Tables'!$BE$68,Z1='Input Tables'!$BF$68,Z1='Input Tables'!$BG$68,Z1='Input Tables'!$BH$68,Z1='Input Tables'!$BI$68,Z1='Input Tables'!$BJ$68,Z1='Input Tables'!$BK$68, Z1='Input Tables'!$BL$68,'Input Tables'!$BM$68),('Cost Budgets'!$G$16*Z6),0)","v":0},{"$f":"IF(OR(AA1='Input Tables'!$BA$68, AA1='Input Tables'!$BB$68,AA1='Input Tables'!$BC$68, AA1='Input Tables'!$BD$68,AA1='Input Tables'!$BE$68,AA1='Input Tables'!$BF$68,AA1='Input Tables'!$BG$68,AA1='Input Tables'!$BH$68,AA1='Input Tables'!$BI$68,AA1='Input Tables'!$BJ$68,AA1='Input Tables'!$BK$68, AA1='Input Tables'!$BL$68,'Input Tables'!$BM$68),('Cost Budgets'!$G$16*AA6),0)","v":0},{"$f":"IF(OR(AB1='Input Tables'!$BA$68, AB1='Input Tables'!$BB$68,AB1='Input Tables'!$BC$68, AB1='Input Tables'!$BD$68,AB1='Input Tables'!$BE$68,AB1='Input Tables'!$BF$68,AB1='Input Tables'!$BG$68,AB1='Input Tables'!$BH$68,AB1='Input Tables'!$BI$68,AB1='Input Tables'!$BJ$68,AB1='Input Tables'!$BK$68, AB1='Input Tables'!$BL$68,'Input Tables'!$BM$68),('Cost Budgets'!$G$16*AB6),0)","v":0},{"$f":"IF(OR(AC1='Input Tables'!$BA$68, AC1='Input Tables'!$BB$68,AC1='Input Tables'!$BC$68, AC1='Input Tables'!$BD$68,AC1='Input Tables'!$BE$68,AC1='Input Tables'!$BF$68,AC1='Input Tables'!$BG$68,AC1='Input Tables'!$BH$68,AC1='Input Tables'!$BI$68,AC1='Input Tables'!$BJ$68,AC1='Input Tables'!$BK$68, AC1='Input Tables'!$BL$68,'Input Tables'!$BM$68),('Cost Budgets'!$G$16*AC6),0)","v":0},{"$f":"IF(OR(AD1='Input Tables'!$BA$68, AD1='Input Tables'!$BB$68,AD1='Input Tables'!$BC$68, AD1='Input Tables'!$BD$68,AD1='Input Tables'!$BE$68,AD1='Input Tables'!$BF$68,AD1='Input Tables'!$BG$68,AD1='Input Tables'!$BH$68,AD1='Input Tables'!$BI$68,AD1='Input Tables'!$BJ$68,AD1='Input Tables'!$BK$68, AD1='Input Tables'!$BL$68,'Input Tables'!$BM$68),('Cost Budgets'!$G$16*AD6),0)","v":0},{"$f":"IF(OR(AE1='Input Tables'!$BA$68, AE1='Input Tables'!$BB$68,AE1='Input Tables'!$BC$68, AE1='Input Tables'!$BD$68,AE1='Input Tables'!$BE$68,AE1='Input Tables'!$BF$68,AE1='Input Tables'!$BG$68,AE1='Input Tables'!$BH$68,AE1='Input Tables'!$BI$68,AE1='Input Tables'!$BJ$68,AE1='Input Tables'!$BK$68, AE1='Input Tables'!$BL$68,'Input Tables'!$BM$68),('Cost Budgets'!$G$16*AE6),0)","v":0},{"$f":"IF(OR(AF1='Input Tables'!$BA$68, AF1='Input Tables'!$BB$68,AF1='Input Tables'!$BC$68, AF1='Input Tables'!$BD$68,AF1='Input Tables'!$BE$68,AF1='Input Tables'!$BF$68,AF1='Input Tables'!$BG$68,AF1='Input Tables'!$BH$68,AF1='Input Tables'!$BI$68,AF1='Input Tables'!$BJ$68,AF1='Input Tables'!$BK$68, AF1='Input Tables'!$BL$68,'Input Tables'!$BM$68),('Cost Budgets'!$G$16*AF6),0)","v":0},{"$f":"IF(OR(AG1='Input Tables'!$BA$68, AG1='Input Tables'!$BB$68,AG1='Input Tables'!$BC$68, AG1='Input Tables'!$BD$68,AG1='Input Tables'!$BE$68,AG1='Input Tables'!$BF$68,AG1='Input Tables'!$BG$68,AG1='Input Tables'!$BH$68,AG1='Input Tables'!$BI$68,AG1='Input Tables'!$BJ$68,AG1='Input Tables'!$BK$68, AG1='Input Tables'!$BL$68,'Input Tables'!$BM$68),('Cost Budgets'!$G$16*AG6),0)","v":0},{"$f":"IF(OR(AH1='Input Tables'!$BA$68, AH1='Input Tables'!$BB$68,AH1='Input Tables'!$BC$68, AH1='Input Tables'!$BD$68,AH1='Input Tables'!$BE$68,AH1='Input Tables'!$BF$68,AH1='Input Tables'!$BG$68,AH1='Input Tables'!$BH$68,AH1='Input Tables'!$BI$68,AH1='Input Tables'!$BJ$68,AH1='Input Tables'!$BK$68, AH1='Input Tables'!$BL$68,'Input Tables'!$BM$68),('Cost Budgets'!$G$16*AH6),0)","v":0},{"$f":"IF(OR(AI1='Input Tables'!$BA$68, AI1='Input Tables'!$BB$68,AI1='Input Tables'!$BC$68, AI1='Input Tables'!$BD$68,AI1='Input Tables'!$BE$68,AI1='Input Tables'!$BF$68,AI1='Input Tables'!$BG$68,AI1='Input Tables'!$BH$68,AI1='Input Tables'!$BI$68,AI1='Input Tables'!$BJ$68,AI1='Input Tables'!$BK$68, AI1='Input Tables'!$BL$68,'Input Tables'!$BM$68),('Cost Budgets'!$G$16*AI6),0)","v":0},{"$f":"IF(OR(AJ1='Input Tables'!$BA$68, AJ1='Input Tables'!$BB$68,AJ1='Input Tables'!$BC$68, AJ1='Input Tables'!$BD$68,AJ1='Input Tables'!$BE$68,AJ1='Input Tables'!$BF$68,AJ1='Input Tables'!$BG$68,AJ1='Input Tables'!$BH$68,AJ1='Input Tables'!$BI$68,AJ1='Input Tables'!$BJ$68,AJ1='Input Tables'!$BK$68, AJ1='Input Tables'!$BL$68,'Input Tables'!$BM$68),('Cost Budgets'!$G$16*AJ6),0)","v":0},{"$f":"IF(OR(AK1='Input Tables'!$BA$68, AK1='Input Tables'!$BB$68,AK1='Input Tables'!$BC$68, AK1='Input Tables'!$BD$68,AK1='Input Tables'!$BE$68,AK1='Input Tables'!$BF$68,AK1='Input Tables'!$BG$68,AK1='Input Tables'!$BH$68,AK1='Input Tables'!$BI$68,AK1='Input Tables'!$BJ$68,AK1='Input Tables'!$BK$68, AK1='Input Tables'!$BL$68,'Input Tables'!$BM$68),('Cost Budgets'!$G$16*AK6),0)","v":0},{"$f":"IF(OR(AL1='Input Tables'!$BA$68, AL1='Input Tables'!$BB$68,AL1='Input Tables'!$BC$68, AL1='Input Tables'!$BD$68,AL1='Input Tables'!$BE$68,AL1='Input Tables'!$BF$68,AL1='Input Tables'!$BG$68,AL1='Input Tables'!$BH$68,AL1='Input Tables'!$BI$68,AL1='Input Tables'!$BJ$68,AL1='Input Tables'!$BK$68, AL1='Input Tables'!$BL$68,'Input Tables'!$BM$68),('Cost Budgets'!$G$16*AL6),0)","v":0},{"$f":"IF(OR(AM1='Input Tables'!$BA$68, AM1='Input Tables'!$BB$68,AM1='Input Tables'!$BC$68, AM1='Input Tables'!$BD$68,AM1='Input Tables'!$BE$68,AM1='Input Tables'!$BF$68,AM1='Input Tables'!$BG$68,AM1='Input Tables'!$BH$68,AM1='Input Tables'!$BI$68,AM1='Input Tables'!$BJ$68,AM1='Input Tables'!$BK$68, AM1='Input Tables'!$BL$68,'Input Tables'!$BM$68),('Cost Budgets'!$G$16*AM6),0)","v":0},{"$f":"IF(OR(AN1='Input Tables'!$BA$68, AN1='Input Tables'!$BB$68,AN1='Input Tables'!$BC$68, AN1='Input Tables'!$BD$68,AN1='Input Tables'!$BE$68,AN1='Input Tables'!$BF$68,AN1='Input Tables'!$BG$68,AN1='Input Tables'!$BH$68,AN1='Input Tables'!$BI$68,AN1='Input Tables'!$BJ$68,AN1='Input Tables'!$BK$68, AN1='Input Tables'!$BL$68,'Input Tables'!$BM$68),('Cost Budgets'!$G$16*AN6),0)","v":0},{"$f":"IF(OR(AO1='Input Tables'!$BA$68, AO1='Input Tables'!$BB$68,AO1='Input Tables'!$BC$68, AO1='Input Tables'!$BD$68,AO1='Input Tables'!$BE$68,AO1='Input Tables'!$BF$68,AO1='Input Tables'!$BG$68,AO1='Input Tables'!$BH$68,AO1='Input Tables'!$BI$68,AO1='Input Tables'!$BJ$68,AO1='Input Tables'!$BK$68, AO1='Input Tables'!$BL$68,'Input Tables'!$BM$68),('Cost Budgets'!$G$16*AO6),0)","v":0},{"$f":"IF(OR(AP1='Input Tables'!$BA$68, AP1='Input Tables'!$BB$68,AP1='Input Tables'!$BC$68, AP1='Input Tables'!$BD$68,AP1='Input Tables'!$BE$68,AP1='Input Tables'!$BF$68,AP1='Input Tables'!$BG$68,AP1='Input Tables'!$BH$68,AP1='Input Tables'!$BI$68,AP1='Input Tables'!$BJ$68,AP1='Input Tables'!$BK$68, AP1='Input Tables'!$BL$68,'Input Tables'!$BM$68),('Cost Budgets'!$G$16*AP6),0)","v":0},{"$f":"IF(OR(AQ1='Input Tables'!$BA$68, AQ1='Input Tables'!$BB$68,AQ1='Input Tables'!$BC$68, AQ1='Input Tables'!$BD$68,AQ1='Input Tables'!$BE$68,AQ1='Input Tables'!$BF$68,AQ1='Input Tables'!$BG$68,AQ1='Input Tables'!$BH$68,AQ1='Input Tables'!$BI$68,AQ1='Input Tables'!$BJ$68,AQ1='Input Tables'!$BK$68, AQ1='Input Tables'!$BL$68,'Input Tables'!$BM$68),('Cost Budgets'!$G$16*AQ6),0)","v":0},{"$f":"IF(OR(AR1='Input Tables'!$BA$68, AR1='Input Tables'!$BB$68,AR1='Input Tables'!$BC$68, AR1='Input Tables'!$BD$68,AR1='Input Tables'!$BE$68,AR1='Input Tables'!$BF$68,AR1='Input Tables'!$BG$68,AR1='Input Tables'!$BH$68,AR1='Input Tables'!$BI$68,AR1='Input Tables'!$BJ$68,AR1='Input Tables'!$BK$68, AR1='Input Tables'!$BL$68,'Input Tables'!$BM$68),('Cost Budgets'!$G$16*AR6),0)","v":0},{"$f":"IF(OR(AS1='Input Tables'!$BA$68, AS1='Input Tables'!$BB$68,AS1='Input Tables'!$BC$68, AS1='Input Tables'!$BD$68,AS1='Input Tables'!$BE$68,AS1='Input Tables'!$BF$68,AS1='Input Tables'!$BG$68,AS1='Input Tables'!$BH$68,AS1='Input Tables'!$BI$68,AS1='Input Tables'!$BJ$68,AS1='Input Tables'!$BK$68, AS1='Input Tables'!$BL$68,'Input Tables'!$BM$68),('Cost Budgets'!$G$16*AS6),0)","v":0},{"$f":"IF(OR(AT1='Input Tables'!$BA$68, AT1='Input Tables'!$BB$68,AT1='Input Tables'!$BC$68, AT1='Input Tables'!$BD$68,AT1='Input Tables'!$BE$68,AT1='Input Tables'!$BF$68,AT1='Input Tables'!$BG$68,AT1='Input Tables'!$BH$68,AT1='Input Tables'!$BI$68,AT1='Input Tables'!$BJ$68,AT1='Input Tables'!$BK$68, AT1='Input Tables'!$BL$68,'Input Tables'!$BM$68),('Cost Budgets'!$G$16*AT6),0)","v":0},{"$f":"IF(OR(AU1='Input Tables'!$BA$68, AU1='Input Tables'!$BB$68,AU1='Input Tables'!$BC$68, AU1='Input Tables'!$BD$68,AU1='Input Tables'!$BE$68,AU1='Input Tables'!$BF$68,AU1='Input Tables'!$BG$68,AU1='Input Tables'!$BH$68,AU1='Input Tables'!$BI$68,AU1='Input Tables'!$BJ$68,AU1='Input Tables'!$BK$68, AU1='Input Tables'!$BL$68,'Input Tables'!$BM$68),('Cost Budgets'!$G$16*AU6),0)","v":0},{"$f":"IF(OR(AV1='Input Tables'!$BA$68, AV1='Input Tables'!$BB$68,AV1='Input Tables'!$BC$68, AV1='Input Tables'!$BD$68,AV1='Input Tables'!$BE$68,AV1='Input Tables'!$BF$68,AV1='Input Tables'!$BG$68,AV1='Input Tables'!$BH$68,AV1='Input Tables'!$BI$68,AV1='Input Tables'!$BJ$68,AV1='Input Tables'!$BK$68, AV1='Input Tables'!$BL$68,'Input Tables'!$BM$68),('Cost Budgets'!$G$16*AV6),0)","v":0},{"$f":"IF(OR(AW1='Input Tables'!$BA$68, AW1='Input Tables'!$BB$68,AW1='Input Tables'!$BC$68, AW1='Input Tables'!$BD$68,AW1='Input Tables'!$BE$68,AW1='Input Tables'!$BF$68,AW1='Input Tables'!$BG$68,AW1='Input Tables'!$BH$68,AW1='Input Tables'!$BI$68,AW1='Input Tables'!$BJ$68,AW1='Input Tables'!$BK$68, AW1='Input Tables'!$BL$68,'Input Tables'!$BM$68),('Cost Budgets'!$G$16*AW6),0)","v":0},{"$f":"IF(OR(AX1='Input Tables'!$BA$68, AX1='Input Tables'!$BB$68,AX1='Input Tables'!$BC$68, AX1='Input Tables'!$BD$68,AX1='Input Tables'!$BE$68,AX1='Input Tables'!$BF$68,AX1='Input Tables'!$BG$68,AX1='Input Tables'!$BH$68,AX1='Input Tables'!$BI$68,AX1='Input Tables'!$BJ$68,AX1='Input Tables'!$BK$68, AX1='Input Tables'!$BL$68,'Input Tables'!$BM$68),('Cost Budgets'!$G$16*AX6),0)","v":0},{"$f":"IF(OR(AY1='Input Tables'!$BA$68, AY1='Input Tables'!$BB$68,AY1='Input Tables'!$BC$68, AY1='Input Tables'!$BD$68,AY1='Input Tables'!$BE$68,AY1='Input Tables'!$BF$68,AY1='Input Tables'!$BG$68,AY1='Input Tables'!$BH$68,AY1='Input Tables'!$BI$68,AY1='Input Tables'!$BJ$68,AY1='Input Tables'!$BK$68, AY1='Input Tables'!$BL$68,'Input Tables'!$BM$68),('Cost Budgets'!$G$16*AY6),0)","v":0},{"$f":"IF(OR(AZ1='Input Tables'!$BA$68, AZ1='Input Tables'!$BB$68,AZ1='Input Tables'!$BC$68, AZ1='Input Tables'!$BD$68,AZ1='Input Tables'!$BE$68,AZ1='Input Tables'!$BF$68,AZ1='Input Tables'!$BG$68,AZ1='Input Tables'!$BH$68,AZ1='Input Tables'!$BI$68,AZ1='Input Tables'!$BJ$68,AZ1='Input Tables'!$BK$68, AZ1='Input Tables'!$BL$68,'Input Tables'!$BM$68),('Cost Budgets'!$G$16*AZ6),0)","v":0},{"$f":"IF(OR(BA1='Input Tables'!$BA$68, BA1='Input Tables'!$BB$68,BA1='Input Tables'!$BC$68, BA1='Input Tables'!$BD$68,BA1='Input Tables'!$BE$68,BA1='Input Tables'!$BF$68,BA1='Input Tables'!$BG$68,BA1='Input Tables'!$BH$68,BA1='Input Tables'!$BI$68,BA1='Input Tables'!$BJ$68,BA1='Input Tables'!$BK$68, BA1='Input Tables'!$BL$68,'Input Tables'!$BM$68),('Cost Budgets'!$G$16*BA6),0)","v":0},{"$f":"IF(OR(BB1='Input Tables'!$BA$68, BB1='Input Tables'!$BB$68,BB1='Input Tables'!$BC$68, BB1='Input Tables'!$BD$68,BB1='Input Tables'!$BE$68,BB1='Input Tables'!$BF$68,BB1='Input Tables'!$BG$68,BB1='Input Tables'!$BH$68,BB1='Input Tables'!$BI$68,BB1='Input Tables'!$BJ$68,BB1='Input Tables'!$BK$68, BB1='Input Tables'!$BL$68,'Input Tables'!$BM$68),('Cost Budgets'!$G$16*BB6),0)","v":0},{"$f":"IF(OR(BC1='Input Tables'!$BA$68, BC1='Input Tables'!$BB$68,BC1='Input Tables'!$BC$68, BC1='Input Tables'!$BD$68,BC1='Input Tables'!$BE$68,BC1='Input Tables'!$BF$68,BC1='Input Tables'!$BG$68,BC1='Input Tables'!$BH$68,BC1='Input Tables'!$BI$68,BC1='Input Tables'!$BJ$68,BC1='Input Tables'!$BK$68, BC1='Input Tables'!$BL$68,'Input Tables'!$BM$68),('Cost Budgets'!$G$16*BC6),0)","v":0},{"$f":"IF(OR(BD1='Input Tables'!$BA$68, BD1='Input Tables'!$BB$68,BD1='Input Tables'!$BC$68, BD1='Input Tables'!$BD$68,BD1='Input Tables'!$BE$68,BD1='Input Tables'!$BF$68,BD1='Input Tables'!$BG$68,BD1='Input Tables'!$BH$68,BD1='Input Tables'!$BI$68,BD1='Input Tables'!$BJ$68,BD1='Input Tables'!$BK$68, BD1='Input Tables'!$BL$68,'Input Tables'!$BM$68),('Cost Budgets'!$G$16*BD6),0)","v":0},{"$f":"IF(OR(BE1='Input Tables'!$BA$68, BE1='Input Tables'!$BB$68,BE1='Input Tables'!$BC$68, BE1='Input Tables'!$BD$68,BE1='Input Tables'!$BE$68,BE1='Input Tables'!$BF$68,BE1='Input Tables'!$BG$68,BE1='Input Tables'!$BH$68,BE1='Input Tables'!$BI$68,BE1='Input Tables'!$BJ$68,BE1='Input Tables'!$BK$68, BE1='Input Tables'!$BL$68,'Input Tables'!$BM$68),('Cost Budgets'!$G$16*BE6),0)","v":0},{"$f":"IF(OR(BF1='Input Tables'!$BA$68, BF1='Input Tables'!$BB$68,BF1='Input Tables'!$BC$68, BF1='Input Tables'!$BD$68,BF1='Input Tables'!$BE$68,BF1='Input Tables'!$BF$68,BF1='Input Tables'!$BG$68,BF1='Input Tables'!$BH$68,BF1='Input Tables'!$BI$68,BF1='Input Tables'!$BJ$68,BF1='Input Tables'!$BK$68, BF1='Input Tables'!$BL$68,'Input Tables'!$BM$68),('Cost Budgets'!$G$16*BF6),0)","v":0},{"$f":"IF(OR(BG1='Input Tables'!$BA$68, BG1='Input Tables'!$BB$68,BG1='Input Tables'!$BC$68, BG1='Input Tables'!$BD$68,BG1='Input Tables'!$BE$68,BG1='Input Tables'!$BF$68,BG1='Input Tables'!$BG$68,BG1='Input Tables'!$BH$68,BG1='Input Tables'!$BI$68,BG1='Input Tables'!$BJ$68,BG1='Input Tables'!$BK$68, BG1='Input Tables'!$BL$68,'Input Tables'!$BM$68),('Cost Budgets'!$G$16*BG6),0)","v":0},{"$f":"IF(OR(BH1='Input Tables'!$BA$68, BH1='Input Tables'!$BB$68,BH1='Input Tables'!$BC$68, BH1='Input Tables'!$BD$68,BH1='Input Tables'!$BE$68,BH1='Input Tables'!$BF$68,BH1='Input Tables'!$BG$68,BH1='Input Tables'!$BH$68,BH1='Input Tables'!$BI$68,BH1='Input Tables'!$BJ$68,BH1='Input Tables'!$BK$68, BH1='Input Tables'!$BL$68,'Input Tables'!$BM$68),('Cost Budgets'!$G$16*BH6),0)","v":0},{"$f":"IF(OR(BI1='Input Tables'!$BA$68, BI1='Input Tables'!$BB$68,BI1='Input Tables'!$BC$68, BI1='Input Tables'!$BD$68,BI1='Input Tables'!$BE$68,BI1='Input Tables'!$BF$68,BI1='Input Tables'!$BG$68,BI1='Input Tables'!$BH$68,BI1='Input Tables'!$BI$68,BI1='Input Tables'!$BJ$68,BI1='Input Tables'!$BK$68, BI1='Input Tables'!$BL$68,'Input Tables'!$BM$68),('Cost Budgets'!$G$16*BI6),0)","v":0},{"$f":"IF(OR(BJ1='Input Tables'!$BA$68, BJ1='Input Tables'!$BB$68,BJ1='Input Tables'!$BC$68, BJ1='Input Tables'!$BD$68,BJ1='Input Tables'!$BE$68,BJ1='Input Tables'!$BF$68,BJ1='Input Tables'!$BG$68,BJ1='Input Tables'!$BH$68,BJ1='Input Tables'!$BI$68,BJ1='Input Tables'!$BJ$68,BJ1='Input Tables'!$BK$68, BJ1='Input Tables'!$BL$68,'Input Tables'!$BM$68),('Cost Budgets'!$G$16*BJ6),0)","v":0},{"$f":"IF(OR(BK1='Input Tables'!$BA$68, BK1='Input Tables'!$BB$68,BK1='Input Tables'!$BC$68, BK1='Input Tables'!$BD$68,BK1='Input Tables'!$BE$68,BK1='Input Tables'!$BF$68,BK1='Input Tables'!$BG$68,BK1='Input Tables'!$BH$68,BK1='Input Tables'!$BI$68,BK1='Input Tables'!$BJ$68,BK1='Input Tables'!$BK$68, BK1='Input Tables'!$BL$68,'Input Tables'!$BM$68),('Cost Budgets'!$G$16*BK6),0)","v":0}]
[]
[null,"Deer Control",null,null,{"$f":"IFERROR(IF(OR(E1='Input Tables'!$BA$76, E1='Input Tables'!$BB$76,E1='Input Tables'!$BC$76, E1='Input Tables'!$BD$76,E1='Input Tables'!$BE$76,E1='Input Tables'!$BF$76,E1='Input Tables'!$BG$76,E1='Input Tables'!$BH$76,E1='Input Tables'!$BI$76,E1='Input Tables'!$BJ$76,E1='Input Tables'!$BK$76, E1='Input Tables'!$BL$76,'Input Tables'!$BM$76),('Cost Budgets'!$G$17*E6),0),0)","v":349.44},{"$f":"IFERROR(IF(OR(F1='Input Tables'!$BA$76, F1='Input Tables'!$BB$76,F1='Input Tables'!$BC$76, F1='Input Tables'!$BD$76,F1='Input Tables'!$BE$76,F1='Input Tables'!$BF$76,F1='Input Tables'!$BG$76,F1='Input Tables'!$BH$76,F1='Input Tables'!$BI$76,F1='Input Tables'!$BJ$76,F1='Input Tables'!$BK$76, F1='Input Tables'!$BL$76,'Input Tables'!$BM$76),('Cost Budgets'!$G$17*F6),0),0)","v":0},{"$f":"IFERROR(IF(OR(G1='Input Tables'!$BA$76, G1='Input Tables'!$BB$76,G1='Input Tables'!$BC$76, G1='Input Tables'!$BD$76,G1='Input Tables'!$BE$76,G1='Input Tables'!$BF$76,G1='Input Tables'!$BG$76,G1='Input Tables'!$BH$76,G1='Input Tables'!$BI$76,G1='Input Tables'!$BJ$76,G1='Input Tables'!$BK$76, G1='Input Tables'!$BL$76,'Input Tables'!$BM$76),('Cost Budgets'!$G$17*G6),0),0)","v":0},{"$f":"IFERROR(IF(OR(H1='Input Tables'!$BA$76, H1='Input Tables'!$BB$76,H1='Input Tables'!$BC$76, H1='Input Tables'!$BD$76,H1='Input Tables'!$BE$76,H1='Input Tables'!$BF$76,H1='Input Tables'!$BG$76,H1='Input Tables'!$BH$76,H1='Input Tables'!$BI$76,H1='Input Tables'!$BJ$76,H1='Input Tables'!$BK$76, H1='Input Tables'!$BL$76,'Input Tables'!$BM$76),('Cost Budgets'!$G$17*H6),0),0)","v":342.22016528925622},{"$f":"IFERROR(IF(OR(I1='Input Tables'!$BA$76, I1='Input Tables'!$BB$76,I1='Input Tables'!$BC$76, I1='Input Tables'!$BD$76,I1='Input Tables'!$BE$76,I1='Input Tables'!$BF$76,I1='Input Tables'!$BG$76,I1='Input Tables'!$BH$76,I1='Input Tables'!$BI$76,I1='Input Tables'!$BJ$76,I1='Input Tables'!$BK$76, I1='Input Tables'!$BL$76,'Input Tables'!$BM$76),('Cost Budgets'!$G$17*I6),0),0)","v":0},{"$f":"IFERROR(IF(OR(J1='Input Tables'!$BA$76, J1='Input Tables'!$BB$76,J1='Input Tables'!$BC$76, J1='Input Tables'!$BD$76,J1='Input Tables'!$BE$76,J1='Input Tables'!$BF$76,J1='Input Tables'!$BG$76,J1='Input Tables'!$BH$76,J1='Input Tables'!$BI$76,J1='Input Tables'!$BJ$76,J1='Input Tables'!$BK$76, J1='Input Tables'!$BL$76,'Input Tables'!$BM$76),('Cost Budgets'!$G$17*J6),0),0)","v":0},{"$f":"IFERROR(IF(OR(K1='Input Tables'!$BA$76, K1='Input Tables'!$BB$76,K1='Input Tables'!$BC$76, K1='Input Tables'!$BD$76,K1='Input Tables'!$BE$76,K1='Input Tables'!$BF$76,K1='Input Tables'!$BG$76,K1='Input Tables'!$BH$76,K1='Input Tables'!$BI$76,K1='Input Tables'!$BJ$76,K1='Input Tables'!$BK$76, K1='Input Tables'!$BL$76,'Input Tables'!$BM$76),('Cost Budgets'!$G$17*K6),0),0)","v":277.241652892562},{"$f":"IFERROR(IF(OR(L1='Input Tables'!$BA$76, L1='Input Tables'!$BB$76,L1='Input Tables'!$BC$76, L1='Input Tables'!$BD$76,L1='Input Tables'!$BE$76,L1='Input Tables'!$BF$76,L1='Input Tables'!$BG$76,L1='Input Tables'!$BH$76,L1='Input Tables'!$BI$76,L1='Input Tables'!$BJ$76,L1='Input Tables'!$BK$76, L1='Input Tables'!$BL$76,'Input Tables'!$BM$76),('Cost Budgets'!$G$17*L6),0),0)","v":0},{"$f":"IFERROR(IF(OR(M1='Input Tables'!$BA$76, M1='Input Tables'!$BB$76,M1='Input Tables'!$BC$76, M1='Input Tables'!$BD$76,M1='Input Tables'!$BE$76,M1='Input Tables'!$BF$76,M1='Input Tables'!$BG$76,M1='Input Tables'!$BH$76,M1='Input Tables'!$BI$76,M1='Input Tables'!$BJ$76,M1='Input Tables'!$BK$76, M1='Input Tables'!$BL$76,'Input Tables'!$BM$76),('Cost Budgets'!$G$17*M6),0),0)","v":0},{"$f":"IFERROR(IF(OR(N1='Input Tables'!$BA$76, N1='Input Tables'!$BB$76,N1='Input Tables'!$BC$76, N1='Input Tables'!$BD$76,N1='Input Tables'!$BE$76,N1='Input Tables'!$BF$76,N1='Input Tables'!$BG$76,N1='Input Tables'!$BH$76,N1='Input Tables'!$BI$76,N1='Input Tables'!$BJ$76,N1='Input Tables'!$BK$76, N1='Input Tables'!$BL$76,'Input Tables'!$BM$76),('Cost Budgets'!$G$17*N6),0),0)","v":255.5821487603306},{"$f":"IFERROR(IF(OR(O1='Input Tables'!$BA$76, O1='Input Tables'!$BB$76,O1='Input Tables'!$BC$76, O1='Input Tables'!$BD$76,O1='Input Tables'!$BE$76,O1='Input Tables'!$BF$76,O1='Input Tables'!$BG$76,O1='Input Tables'!$BH$76,O1='Input Tables'!$BI$76,O1='Input Tables'!$BJ$76,O1='Input Tables'!$BK$76, O1='Input Tables'!$BL$76,'Input Tables'!$BM$76),('Cost Budgets'!$G$17*O6),0),0)","v":0},{"$f":"IFERROR(IF(OR(P1='Input Tables'!$BA$76, P1='Input Tables'!$BB$76,P1='Input Tables'!$BC$76, P1='Input Tables'!$BD$76,P1='Input Tables'!$BE$76,P1='Input Tables'!$BF$76,P1='Input Tables'!$BG$76,P1='Input Tables'!$BH$76,P1='Input Tables'!$BI$76,P1='Input Tables'!$BJ$76,P1='Input Tables'!$BK$76, P1='Input Tables'!$BL$76,'Input Tables'!$BM$76),('Cost Budgets'!$G$17*P6),0),0)","v":0},{"$f":"IFERROR(IF(OR(Q1='Input Tables'!$BA$76, Q1='Input Tables'!$BB$76,Q1='Input Tables'!$BC$76, Q1='Input Tables'!$BD$76,Q1='Input Tables'!$BE$76,Q1='Input Tables'!$BF$76,Q1='Input Tables'!$BG$76,Q1='Input Tables'!$BH$76,Q1='Input Tables'!$BI$76,Q1='Input Tables'!$BJ$76,Q1='Input Tables'!$BK$76, Q1='Input Tables'!$BL$76,'Input Tables'!$BM$76),('Cost Budgets'!$G$17*Q6),0),0)","v":255.5821487603306},{"$f":"IFERROR(IF(OR(R1='Input Tables'!$BA$76, R1='Input Tables'!$BB$76,R1='Input Tables'!$BC$76, R1='Input Tables'!$BD$76,R1='Input Tables'!$BE$76,R1='Input Tables'!$BF$76,R1='Input Tables'!$BG$76,R1='Input Tables'!$BH$76,R1='Input Tables'!$BI$76,R1='Input Tables'!$BJ$76,R1='Input Tables'!$BK$76, R1='Input Tables'!$BL$76,'Input Tables'!$BM$76),('Cost Budgets'!$G$17*R6),0),0)","v":0},{"$f":"IFERROR(IF(OR(S1='Input Tables'!$BA$76, S1='Input Tables'!$BB$76,S1='Input Tables'!$BC$76, S1='Input Tables'!$BD$76,S1='Input Tables'!$BE$76,S1='Input Tables'!$BF$76,S1='Input Tables'!$BG$76,S1='Input Tables'!$BH$76,S1='Input Tables'!$BI$76,S1='Input Tables'!$BJ$76,S1='Input Tables'!$BK$76, S1='Input Tables'!$BL$76,'Input Tables'!$BM$76),('Cost Budgets'!$G$17*S6),0),0)","v":0},{"$f":"IFERROR(IF(OR(T1='Input Tables'!$BA$76, T1='Input Tables'!$BB$76,T1='Input Tables'!$BC$76, T1='Input Tables'!$BD$76,T1='Input Tables'!$BE$76,T1='Input Tables'!$BF$76,T1='Input Tables'!$BG$76,T1='Input Tables'!$BH$76,T1='Input Tables'!$BI$76,T1='Input Tables'!$BJ$76,T1='Input Tables'!$BK$76, T1='Input Tables'!$BL$76,'Input Tables'!$BM$76),('Cost Budgets'!$G$17*T6),0),0)","v":0},{"$f":"IFERROR(IF(OR(U1='Input Tables'!$BA$76, U1='Input Tables'!$BB$76,U1='Input Tables'!$BC$76, U1='Input Tables'!$BD$76,U1='Input Tables'!$BE$76,U1='Input Tables'!$BF$76,U1='Input Tables'!$BG$76,U1='Input Tables'!$BH$76,U1='Input Tables'!$BI$76,U1='Input Tables'!$BJ$76,U1='Input Tables'!$BK$76, U1='Input Tables'!$BL$76,'Input Tables'!$BM$76),('Cost Budgets'!$G$17*U6),0),0)","v":0},{"$f":"IFERROR(IF(OR(V1='Input Tables'!$BA$76, V1='Input Tables'!$BB$76,V1='Input Tables'!$BC$76, V1='Input Tables'!$BD$76,V1='Input Tables'!$BE$76,V1='Input Tables'!$BF$76,V1='Input Tables'!$BG$76,V1='Input Tables'!$BH$76,V1='Input Tables'!$BI$76,V1='Input Tables'!$BJ$76,V1='Input Tables'!$BK$76, V1='Input Tables'!$BL$76,'Input Tables'!$BM$76),('Cost Budgets'!$G$17*V6),0),0)","v":0},{"$f":"IFERROR(IF(OR(W1='Input Tables'!$BA$76, W1='Input Tables'!$BB$76,W1='Input Tables'!$BC$76, W1='Input Tables'!$BD$76,W1='Input Tables'!$BE$76,W1='Input Tables'!$BF$76,W1='Input Tables'!$BG$76,W1='Input Tables'!$BH$76,W1='Input Tables'!$BI$76,W1='Input Tables'!$BJ$76,W1='Input Tables'!$BK$76, W1='Input Tables'!$BL$76,'Input Tables'!$BM$76),('Cost Budgets'!$G$17*W6),0),0)","v":0},{"$f":"IFERROR(IF(OR(X1='Input Tables'!$BA$76, X1='Input Tables'!$BB$76,X1='Input Tables'!$BC$76, X1='Input Tables'!$BD$76,X1='Input Tables'!$BE$76,X1='Input Tables'!$BF$76,X1='Input Tables'!$BG$76,X1='Input Tables'!$BH$76,X1='Input Tables'!$BI$76,X1='Input Tables'!$BJ$76,X1='Input Tables'!$BK$76, X1='Input Tables'!$BL$76,'Input Tables'!$BM$76),('Cost Budgets'!$G$17*X6),0),0)","v":0},{"$f":"IFERROR(IF(OR(Y1='Input Tables'!$BA$76, Y1='Input Tables'!$BB$76,Y1='Input Tables'!$BC$76, Y1='Input Tables'!$BD$76,Y1='Input Tables'!$BE$76,Y1='Input Tables'!$BF$76,Y1='Input Tables'!$BG$76,Y1='Input Tables'!$BH$76,Y1='Input Tables'!$BI$76,Y1='Input Tables'!$BJ$76,Y1='Input Tables'!$BK$76, Y1='Input Tables'!$BL$76,'Input Tables'!$BM$76),('Cost Budgets'!$G$17*Y6),0),0)","v":0},{"$f":"IFERROR(IF(OR(Z1='Input Tables'!$BA$76, Z1='Input Tables'!$BB$76,Z1='Input Tables'!$BC$76, Z1='Input Tables'!$BD$76,Z1='Input Tables'!$BE$76,Z1='Input Tables'!$BF$76,Z1='Input Tables'!$BG$76,Z1='Input Tables'!$BH$76,Z1='Input Tables'!$BI$76,Z1='Input Tables'!$BJ$76,Z1='Input Tables'!$BK$76, Z1='Input Tables'!$BL$76,'Input Tables'!$BM$76),('Cost Budgets'!$G$17*Z6),0),0)","v":0},{"$f":"IFERROR(IF(OR(AA1='Input Tables'!$BA$76, AA1='Input Tables'!$BB$76,AA1='Input Tables'!$BC$76, AA1='Input Tables'!$BD$76,AA1='Input Tables'!$BE$76,AA1='Input Tables'!$BF$76,AA1='Input Tables'!$BG$76,AA1='Input Tables'!$BH$76,AA1='Input Tables'!$BI$76,AA1='Input Tables'!$BJ$76,AA1='Input Tables'!$BK$76, AA1='Input Tables'!$BL$76,'Input Tables'!$BM$76),('Cost Budgets'!$G$17*AA6),0),0)","v":0},{"$f":"IFERROR(IF(OR(AB1='Input Tables'!$BA$76, AB1='Input Tables'!$BB$76,AB1='Input Tables'!$BC$76, AB1='Input Tables'!$BD$76,AB1='Input Tables'!$BE$76,AB1='Input Tables'!$BF$76,AB1='Input Tables'!$BG$76,AB1='Input Tables'!$BH$76,AB1='Input Tables'!$BI$76,AB1='Input Tables'!$BJ$76,AB1='Input Tables'!$BK$76, AB1='Input Tables'!$BL$76,'Input Tables'!$BM$76),('Cost Budgets'!$G$17*AB6),0),0)","v":0},{"$f":"IFERROR(IF(OR(AC1='Input Tables'!$BA$76, AC1='Input Tables'!$BB$76,AC1='Input Tables'!$BC$76, AC1='Input Tables'!$BD$76,AC1='Input Tables'!$BE$76,AC1='Input Tables'!$BF$76,AC1='Input Tables'!$BG$76,AC1='Input Tables'!$BH$76,AC1='Input Tables'!$BI$76,AC1='Input Tables'!$BJ$76,AC1='Input Tables'!$BK$76, AC1='Input Tables'!$BL$76,'Input Tables'!$BM$76),('Cost Budgets'!$G$17*AC6),0),0)","v":0},{"$f":"IFERROR(IF(OR(AD1='Input Tables'!$BA$76, AD1='Input Tables'!$BB$76,AD1='Input Tables'!$BC$76, AD1='Input Tables'!$BD$76,AD1='Input Tables'!$BE$76,AD1='Input Tables'!$BF$76,AD1='Input Tables'!$BG$76,AD1='Input Tables'!$BH$76,AD1='Input Tables'!$BI$76,AD1='Input Tables'!$BJ$76,AD1='Input Tables'!$BK$76, AD1='Input Tables'!$BL$76,'Input Tables'!$BM$76),('Cost Budgets'!$G$17*AD6),0),0)","v":0},{"$f":"IFERROR(IF(OR(AE1='Input Tables'!$BA$76, AE1='Input Tables'!$BB$76,AE1='Input Tables'!$BC$76, AE1='Input Tables'!$BD$76,AE1='Input Tables'!$BE$76,AE1='Input Tables'!$BF$76,AE1='Input Tables'!$BG$76,AE1='Input Tables'!$BH$76,AE1='Input Tables'!$BI$76,AE1='Input Tables'!$BJ$76,AE1='Input Tables'!$BK$76, AE1='Input Tables'!$BL$76,'Input Tables'!$BM$76),('Cost Budgets'!$G$17*AE6),0),0)","v":0},{"$f":"IFERROR(IF(OR(AF1='Input Tables'!$BA$76, AF1='Input Tables'!$BB$76,AF1='Input Tables'!$BC$76, AF1='Input Tables'!$BD$76,AF1='Input Tables'!$BE$76,AF1='Input Tables'!$BF$76,AF1='Input Tables'!$BG$76,AF1='Input Tables'!$BH$76,AF1='Input Tables'!$BI$76,AF1='Input Tables'!$BJ$76,AF1='Input Tables'!$BK$76, AF1='Input Tables'!$BL$76,'Input Tables'!$BM$76),('Cost Budgets'!$G$17*AF6),0),0)","v":0},{"$f":"IFERROR(IF(OR(AG1='Input Tables'!$BA$76, AG1='Input Tables'!$BB$76,AG1='Input Tables'!$BC$76, AG1='Input Tables'!$BD$76,AG1='Input Tables'!$BE$76,AG1='Input Tables'!$BF$76,AG1='Input Tables'!$BG$76,AG1='Input Tables'!$BH$76,AG1='Input Tables'!$BI$76,AG1='Input Tables'!$BJ$76,AG1='Input Tables'!$BK$76, AG1='Input Tables'!$BL$76,'Input Tables'!$BM$76),('Cost Budgets'!$G$17*AG6),0),0)","v":0},{"$f":"IFERROR(IF(OR(AH1='Input Tables'!$BA$76, AH1='Input Tables'!$BB$76,AH1='Input Tables'!$BC$76, AH1='Input Tables'!$BD$76,AH1='Input Tables'!$BE$76,AH1='Input Tables'!$BF$76,AH1='Input Tables'!$BG$76,AH1='Input Tables'!$BH$76,AH1='Input Tables'!$BI$76,AH1='Input Tables'!$BJ$76,AH1='Input Tables'!$BK$76, AH1='Input Tables'!$BL$76,'Input Tables'!$BM$76),('Cost Budgets'!$G$17*AH6),0),0)","v":0},{"$f":"IFERROR(IF(OR(AI1='Input Tables'!$BA$76, AI1='Input Tables'!$BB$76,AI1='Input Tables'!$BC$76, AI1='Input Tables'!$BD$76,AI1='Input Tables'!$BE$76,AI1='Input Tables'!$BF$76,AI1='Input Tables'!$BG$76,AI1='Input Tables'!$BH$76,AI1='Input Tables'!$BI$76,AI1='Input Tables'!$BJ$76,AI1='Input Tables'!$BK$76, AI1='Input Tables'!$BL$76,'Input Tables'!$BM$76),('Cost Budgets'!$G$17*AI6),0),0)","v":0},{"$f":"IFERROR(IF(OR(AJ1='Input Tables'!$BA$76, AJ1='Input Tables'!$BB$76,AJ1='Input Tables'!$BC$76, AJ1='Input Tables'!$BD$76,AJ1='Input Tables'!$BE$76,AJ1='Input Tables'!$BF$76,AJ1='Input Tables'!$BG$76,AJ1='Input Tables'!$BH$76,AJ1='Input Tables'!$BI$76,AJ1='Input Tables'!$BJ$76,AJ1='Input Tables'!$BK$76, AJ1='Input Tables'!$BL$76,'Input Tables'!$BM$76),('Cost Budgets'!$G$17*AJ6),0),0)","v":0},{"$f":"IFERROR(IF(OR(AK1='Input Tables'!$BA$76, AK1='Input Tables'!$BB$76,AK1='Input Tables'!$BC$76, AK1='Input Tables'!$BD$76,AK1='Input Tables'!$BE$76,AK1='Input Tables'!$BF$76,AK1='Input Tables'!$BG$76,AK1='Input Tables'!$BH$76,AK1='Input Tables'!$BI$76,AK1='Input Tables'!$BJ$76,AK1='Input Tables'!$BK$76, AK1='Input Tables'!$BL$76,'Input Tables'!$BM$76),('Cost Budgets'!$G$17*AK6),0),0)","v":0},{"$f":"IFERROR(IF(OR(AL1='Input Tables'!$BA$76, AL1='Input Tables'!$BB$76,AL1='Input Tables'!$BC$76, AL1='Input Tables'!$BD$76,AL1='Input Tables'!$BE$76,AL1='Input Tables'!$BF$76,AL1='Input Tables'!$BG$76,AL1='Input Tables'!$BH$76,AL1='Input Tables'!$BI$76,AL1='Input Tables'!$BJ$76,AL1='Input Tables'!$BK$76, AL1='Input Tables'!$BL$76,'Input Tables'!$BM$76),('Cost Budgets'!$G$17*AL6),0),0)","v":0},{"$f":"IFERROR(IF(OR(AM1='Input Tables'!$BA$76, AM1='Input Tables'!$BB$76,AM1='Input Tables'!$BC$76, AM1='Input Tables'!$BD$76,AM1='Input Tables'!$BE$76,AM1='Input Tables'!$BF$76,AM1='Input Tables'!$BG$76,AM1='Input Tables'!$BH$76,AM1='Input Tables'!$BI$76,AM1='Input Tables'!$BJ$76,AM1='Input Tables'!$BK$76, AM1='Input Tables'!$BL$76,'Input Tables'!$BM$76),('Cost Budgets'!$G$17*AM6),0),0)","v":0},{"$f":"IFERROR(IF(OR(AN1='Input Tables'!$BA$76, AN1='Input Tables'!$BB$76,AN1='Input Tables'!$BC$76, AN1='Input Tables'!$BD$76,AN1='Input Tables'!$BE$76,AN1='Input Tables'!$BF$76,AN1='Input Tables'!$BG$76,AN1='Input Tables'!$BH$76,AN1='Input Tables'!$BI$76,AN1='Input Tables'!$BJ$76,AN1='Input Tables'!$BK$76, AN1='Input Tables'!$BL$76,'Input Tables'!$BM$76),('Cost Budgets'!$G$17*AN6),0),0)","v":0},{"$f":"IFERROR(IF(OR(AO1='Input Tables'!$BA$76, AO1='Input Tables'!$BB$76,AO1='Input Tables'!$BC$76, AO1='Input Tables'!$BD$76,AO1='Input Tables'!$BE$76,AO1='Input Tables'!$BF$76,AO1='Input Tables'!$BG$76,AO1='Input Tables'!$BH$76,AO1='Input Tables'!$BI$76,AO1='Input Tables'!$BJ$76,AO1='Input Tables'!$BK$76, AO1='Input Tables'!$BL$76,'Input Tables'!$BM$76),('Cost Budgets'!$G$17*AO6),0),0)","v":0},{"$f":"IFERROR(IF(OR(AP1='Input Tables'!$BA$76, AP1='Input Tables'!$BB$76,AP1='Input Tables'!$BC$76, AP1='Input Tables'!$BD$76,AP1='Input Tables'!$BE$76,AP1='Input Tables'!$BF$76,AP1='Input Tables'!$BG$76,AP1='Input Tables'!$BH$76,AP1='Input Tables'!$BI$76,AP1='Input Tables'!$BJ$76,AP1='Input Tables'!$BK$76, AP1='Input Tables'!$BL$76,'Input Tables'!$BM$76),('Cost Budgets'!$G$17*AP6),0),0)","v":0},{"$f":"IFERROR(IF(OR(AQ1='Input Tables'!$BA$76, AQ1='Input Tables'!$BB$76,AQ1='Input Tables'!$BC$76, AQ1='Input Tables'!$BD$76,AQ1='Input Tables'!$BE$76,AQ1='Input Tables'!$BF$76,AQ1='Input Tables'!$BG$76,AQ1='Input Tables'!$BH$76,AQ1='Input Tables'!$BI$76,AQ1='Input Tables'!$BJ$76,AQ1='Input Tables'!$BK$76, AQ1='Input Tables'!$BL$76,'Input Tables'!$BM$76),('Cost Budgets'!$G$17*AQ6),0),0)","v":0},{"$f":"IFERROR(IF(OR(AR1='Input Tables'!$BA$76, AR1='Input Tables'!$BB$76,AR1='Input Tables'!$BC$76, AR1='Input Tables'!$BD$76,AR1='Input Tables'!$BE$76,AR1='Input Tables'!$BF$76,AR1='Input Tables'!$BG$76,AR1='Input Tables'!$BH$76,AR1='Input Tables'!$BI$76,AR1='Input Tables'!$BJ$76,AR1='Input Tables'!$BK$76, AR1='Input Tables'!$BL$76,'Input Tables'!$BM$76),('Cost Budgets'!$G$17*AR6),0),0)","v":0},{"$f":"IFERROR(IF(OR(AS1='Input Tables'!$BA$76, AS1='Input Tables'!$BB$76,AS1='Input Tables'!$BC$76, AS1='Input Tables'!$BD$76,AS1='Input Tables'!$BE$76,AS1='Input Tables'!$BF$76,AS1='Input Tables'!$BG$76,AS1='Input Tables'!$BH$76,AS1='Input Tables'!$BI$76,AS1='Input Tables'!$BJ$76,AS1='Input Tables'!$BK$76, AS1='Input Tables'!$BL$76,'Input Tables'!$BM$76),('Cost Budgets'!$G$17*AS6),0),0)","v":0},{"$f":"IFERROR(IF(OR(AT1='Input Tables'!$BA$76, AT1='Input Tables'!$BB$76,AT1='Input Tables'!$BC$76, AT1='Input Tables'!$BD$76,AT1='Input Tables'!$BE$76,AT1='Input Tables'!$BF$76,AT1='Input Tables'!$BG$76,AT1='Input Tables'!$BH$76,AT1='Input Tables'!$BI$76,AT1='Input Tables'!$BJ$76,AT1='Input Tables'!$BK$76, AT1='Input Tables'!$BL$76,'Input Tables'!$BM$76),('Cost Budgets'!$G$17*AT6),0),0)","v":0},{"$f":"IFERROR(IF(OR(AU1='Input Tables'!$BA$76, AU1='Input Tables'!$BB$76,AU1='Input Tables'!$BC$76, AU1='Input Tables'!$BD$76,AU1='Input Tables'!$BE$76,AU1='Input Tables'!$BF$76,AU1='Input Tables'!$BG$76,AU1='Input Tables'!$BH$76,AU1='Input Tables'!$BI$76,AU1='Input Tables'!$BJ$76,AU1='Input Tables'!$BK$76, AU1='Input Tables'!$BL$76,'Input Tables'!$BM$76),('Cost Budgets'!$G$17*AU6),0),0)","v":0},{"$f":"IFERROR(IF(OR(AV1='Input Tables'!$BA$76, AV1='Input Tables'!$BB$76,AV1='Input Tables'!$BC$76, AV1='Input Tables'!$BD$76,AV1='Input Tables'!$BE$76,AV1='Input Tables'!$BF$76,AV1='Input Tables'!$BG$76,AV1='Input Tables'!$BH$76,AV1='Input Tables'!$BI$76,AV1='Input Tables'!$BJ$76,AV1='Input Tables'!$BK$76, AV1='Input Tables'!$BL$76,'Input Tables'!$BM$76),('Cost Budgets'!$G$17*AV6),0),0)","v":0},{"$f":"IFERROR(IF(OR(AW1='Input Tables'!$BA$76, AW1='Input Tables'!$BB$76,AW1='Input Tables'!$BC$76, AW1='Input Tables'!$BD$76,AW1='Input Tables'!$BE$76,AW1='Input Tables'!$BF$76,AW1='Input Tables'!$BG$76,AW1='Input Tables'!$BH$76,AW1='Input Tables'!$BI$76,AW1='Input Tables'!$BJ$76,AW1='Input Tables'!$BK$76, AW1='Input Tables'!$BL$76,'Input Tables'!$BM$76),('Cost Budgets'!$G$17*AW6),0),0)","v":0},{"$f":"IFERROR(IF(OR(AX1='Input Tables'!$BA$76, AX1='Input Tables'!$BB$76,AX1='Input Tables'!$BC$76, AX1='Input Tables'!$BD$76,AX1='Input Tables'!$BE$76,AX1='Input Tables'!$BF$76,AX1='Input Tables'!$BG$76,AX1='Input Tables'!$BH$76,AX1='Input Tables'!$BI$76,AX1='Input Tables'!$BJ$76,AX1='Input Tables'!$BK$76, AX1='Input Tables'!$BL$76,'Input Tables'!$BM$76),('Cost Budgets'!$G$17*AX6),0),0)","v":0},{"$f":"IFERROR(IF(OR(AY1='Input Tables'!$BA$76, AY1='Input Tables'!$BB$76,AY1='Input Tables'!$BC$76, AY1='Input Tables'!$BD$76,AY1='Input Tables'!$BE$76,AY1='Input Tables'!$BF$76,AY1='Input Tables'!$BG$76,AY1='Input Tables'!$BH$76,AY1='Input Tables'!$BI$76,AY1='Input Tables'!$BJ$76,AY1='Input Tables'!$BK$76, AY1='Input Tables'!$BL$76,'Input Tables'!$BM$76),('Cost Budgets'!$G$17*AY6),0),0)","v":0},{"$f":"IFERROR(IF(OR(AZ1='Input Tables'!$BA$76, AZ1='Input Tables'!$BB$76,AZ1='Input Tables'!$BC$76, AZ1='Input Tables'!$BD$76,AZ1='Input Tables'!$BE$76,AZ1='Input Tables'!$BF$76,AZ1='Input Tables'!$BG$76,AZ1='Input Tables'!$BH$76,AZ1='Input Tables'!$BI$76,AZ1='Input Tables'!$BJ$76,AZ1='Input Tables'!$BK$76, AZ1='Input Tables'!$BL$76,'Input Tables'!$BM$76),('Cost Budgets'!$G$17*AZ6),0),0)","v":0},{"$f":"IFERROR(IF(OR(BA1='Input Tables'!$BA$76, BA1='Input Tables'!$BB$76,BA1='Input Tables'!$BC$76, BA1='Input Tables'!$BD$76,BA1='Input Tables'!$BE$76,BA1='Input Tables'!$BF$76,BA1='Input Tables'!$BG$76,BA1='Input Tables'!$BH$76,BA1='Input Tables'!$BI$76,BA1='Input Tables'!$BJ$76,BA1='Input Tables'!$BK$76, BA1='Input Tables'!$BL$76,'Input Tables'!$BM$76),('Cost Budgets'!$G$17*BA6),0),0)","v":0},{"$f":"IFERROR(IF(OR(BB1='Input Tables'!$BA$76, BB1='Input Tables'!$BB$76,BB1='Input Tables'!$BC$76, BB1='Input Tables'!$BD$76,BB1='Input Tables'!$BE$76,BB1='Input Tables'!$BF$76,BB1='Input Tables'!$BG$76,BB1='Input Tables'!$BH$76,BB1='Input Tables'!$BI$76,BB1='Input Tables'!$BJ$76,BB1='Input Tables'!$BK$76, BB1='Input Tables'!$BL$76,'Input Tables'!$BM$76),('Cost Budgets'!$G$17*BB6),0),0)","v":0},{"$f":"IFERROR(IF(OR(BC1='Input Tables'!$BA$76, BC1='Input Tables'!$BB$76,BC1='Input Tables'!$BC$76, BC1='Input Tables'!$BD$76,BC1='Input Tables'!$BE$76,BC1='Input Tables'!$BF$76,BC1='Input Tables'!$BG$76,BC1='Input Tables'!$BH$76,BC1='Input Tables'!$BI$76,BC1='Input Tables'!$BJ$76,BC1='Input Tables'!$BK$76, BC1='Input Tables'!$BL$76,'Input Tables'!$BM$76),('Cost Budgets'!$G$17*BC6),0),0)","v":0},{"$f":"IFERROR(IF(OR(BD1='Input Tables'!$BA$76, BD1='Input Tables'!$BB$76,BD1='Input Tables'!$BC$76, BD1='Input Tables'!$BD$76,BD1='Input Tables'!$BE$76,BD1='Input Tables'!$BF$76,BD1='Input Tables'!$BG$76,BD1='Input Tables'!$BH$76,BD1='Input Tables'!$BI$76,BD1='Input Tables'!$BJ$76,BD1='Input Tables'!$BK$76, BD1='Input Tables'!$BL$76,'Input Tables'!$BM$76),('Cost Budgets'!$G$17*BD6),0),0)","v":0},{"$f":"IFERROR(IF(OR(BE1='Input Tables'!$BA$76, BE1='Input Tables'!$BB$76,BE1='Input Tables'!$BC$76, BE1='Input Tables'!$BD$76,BE1='Input Tables'!$BE$76,BE1='Input Tables'!$BF$76,BE1='Input Tables'!$BG$76,BE1='Input Tables'!$BH$76,BE1='Input Tables'!$BI$76,BE1='Input Tables'!$BJ$76,BE1='Input Tables'!$BK$76, BE1='Input Tables'!$BL$76,'Input Tables'!$BM$76),('Cost Budgets'!$G$17*BE6),0),0)","v":0},{"$f":"IFERROR(IF(OR(BF1='Input Tables'!$BA$76, BF1='Input Tables'!$BB$76,BF1='Input Tables'!$BC$76, BF1='Input Tables'!$BD$76,BF1='Input Tables'!$BE$76,BF1='Input Tables'!$BF$76,BF1='Input Tables'!$BG$76,BF1='Input Tables'!$BH$76,BF1='Input Tables'!$BI$76,BF1='Input Tables'!$BJ$76,BF1='Input Tables'!$BK$76, BF1='Input Tables'!$BL$76,'Input Tables'!$BM$76),('Cost Budgets'!$G$17*BF6),0),0)","v":0},{"$f":"IFERROR(IF(OR(BG1='Input Tables'!$BA$76, BG1='Input Tables'!$BB$76,BG1='Input Tables'!$BC$76, BG1='Input Tables'!$BD$76,BG1='Input Tables'!$BE$76,BG1='Input Tables'!$BF$76,BG1='Input Tables'!$BG$76,BG1='Input Tables'!$BH$76,BG1='Input Tables'!$BI$76,BG1='Input Tables'!$BJ$76,BG1='Input Tables'!$BK$76, BG1='Input Tables'!$BL$76,'Input Tables'!$BM$76),('Cost Budgets'!$G$17*BG6),0),0)","v":0},{"$f":"IFERROR(IF(OR(BH1='Input Tables'!$BA$76, BH1='Input Tables'!$BB$76,BH1='Input Tables'!$BC$76, BH1='Input Tables'!$BD$76,BH1='Input Tables'!$BE$76,BH1='Input Tables'!$BF$76,BH1='Input Tables'!$BG$76,BH1='Input Tables'!$BH$76,BH1='Input Tables'!$BI$76,BH1='Input Tables'!$BJ$76,BH1='Input Tables'!$BK$76, BH1='Input Tables'!$BL$76,'Input Tables'!$BM$76),('Cost Budgets'!$G$17*BH6),0),0)","v":0},{"$f":"IFERROR(IF(OR(BI1='Input Tables'!$BA$76, BI1='Input Tables'!$BB$76,BI1='Input Tables'!$BC$76, BI1='Input Tables'!$BD$76,BI1='Input Tables'!$BE$76,BI1='Input Tables'!$BF$76,BI1='Input Tables'!$BG$76,BI1='Input Tables'!$BH$76,BI1='Input Tables'!$BI$76,BI1='Input Tables'!$BJ$76,BI1='Input Tables'!$BK$76, BI1='Input Tables'!$BL$76,'Input Tables'!$BM$76),('Cost Budgets'!$G$17*BI6),0),0)","v":0},{"$f":"IFERROR(IF(OR(BJ1='Input Tables'!$BA$76, BJ1='Input Tables'!$BB$76,BJ1='Input Tables'!$BC$76, BJ1='Input Tables'!$BD$76,BJ1='Input Tables'!$BE$76,BJ1='Input Tables'!$BF$76,BJ1='Input Tables'!$BG$76,BJ1='Input Tables'!$BH$76,BJ1='Input Tables'!$BI$76,BJ1='Input Tables'!$BJ$76,BJ1='Input Tables'!$BK$76, BJ1='Input Tables'!$BL$76,'Input Tables'!$BM$76),('Cost Budgets'!$G$17*BJ6),0),0)","v":0},{"$f":"IFERROR(IF(OR(BK1='Input Tables'!$BA$76, BK1='Input Tables'!$BB$76,BK1='Input Tables'!$BC$76, BK1='Input Tables'!$BD$76,BK1='Input Tables'!$BE$76,BK1='Input Tables'!$BF$76,BK1='Input Tables'!$BG$76,BK1='Input Tables'!$BH$76,BK1='Input Tables'!$BI$76,BK1='Input Tables'!$BJ$76,BK1='Input Tables'!$BK$76, BK1='Input Tables'!$BL$76,'Input Tables'!$BM$76),('Cost Budgets'!$G$17*BK6),0),0)","v":0}]
[]
[null,"Potential Revenue less Est. /Man. Costs",null,{"$f":"D37-D40-D42-D44-D46-D48-D50-D52","v":-1365.068},{"$f":"E37-E40-E42-E44-E46-E48-E50-E52","v":-599.94000000000005},696.06052799999964,1678.7959631999993,2754.0936230082639,4011.4993237289241,3920.2296328264451,4879.3282940826439,4787.1719373223132,5180.7997657190062,4926.4008207074367,5832.726307319007,6354.5519017190054,7635.3288975074383,8901.569865719006,7238.5126993190061,8467.1800057190048,8386.523229719005,7424.1172401870572,7958.9241663471066,6897.289782341667,6445.8488832903695,6849.210889001155,5960.6777420810849,6468.7330990270411,5533.8119260505246,5313.7879439277995,5097.949751432282,4690.4533078261238,4976.590220876793,4334.4190735906932,4582.8773588327413,3880.1644733789826,4095.341301044894,3595.8334069319285,3550.3555242551574,3639.798719106278,3227.4529019793526,3095.411368328661,2775.9187081846471,2803.0024539490628,2901.3203214377509,2464.9917706903075,2485.3796696781683,2193.7542425760234,2327.6702033827391,2284.0449509760897,1989.7876958109207,1926.0099321785513,2016.5048118018804,1802.8081470117324,1792.5544758030437,1782.2067461827912,1513.3571245464677,1607.7093130839032,1600.6928571790315,1362.4100675416259,1395.0012347865302,1374.0638512383998,1408.3280732140477]
["Harvesting Costs"]
[null,"Harvesting Cost (Potential)",null,{"$f":"IF(D12>0,'Cost Budgets'!$F$20,0)","v":0},{"$f":"IF(E12>0,'Cost Budgets'!$F$20,0)","v":0},{"$f":"IF(F12>0,'Cost Budgets'!$F$20,0)","v":2058.6492131438727},{"$f":"IF(G12>0,'Cost Budgets'!$F$20,0)","v":2058.6492131438727},{"$f":"IF(H12>0,'Cost Budgets'!$F$20,0)","v":2058.6492131438727},{"$f":"IF(I12>0,'Cost Budgets'!$F$20,0)","v":2058.6492131438727},{"$f":"IF(J12>0,'Cost Budgets'!$F$20,0)","v":2058.6492131438727},{"$f":"IF(K12>0,'Cost Budgets'!$F$20,0)","v":2058.6492131438727},{"$f":"IF(L12>0,'Cost Budgets'!$F$20,0)","v":2058.6492131438727},{"$f":"IF(M12>0,'Cost Budgets'!$F$20,0)","v":2058.6492131438727},{"$f":"IF(N12>0,'Cost Budgets'!$F$20,0)","v":2058.6492131438727},{"$f":"IF(O12>0,'Cost Budgets'!$F$20,0)","v":2058.6492131438727},{"$f":"IF(P12>0,'Cost Budgets'!$F$20,0)","v":2058.6492131438727},{"$f":"IF(Q12>0,'Cost Budgets'!$F$20,0)","v":2058.6492131438727},{"$f":"IF(R12>0,'Cost Budgets'!$F$20,0)","v":2058.6492131438727},{"$f":"IF(S12>0,'Cost Budgets'!$F$20,0)","v":2058.6492131438727},{"$f":"IF(T12>0,'Cost Budgets'!$F$20,0)","v":2058.6492131438727},{"$f":"IF(U12>0,'Cost Budgets'!$F$20,0)","v":2058.6492131438727},{"$f":"IF(V12>0,'Cost Budgets'!$F$20,0)","v":2058.6492131438727},{"$f":"IF(W12>0,'Cost Budgets'!$F$20,0)","v":2058.6492131438727},{"$f":"IF(X12>0,'Cost Budgets'!$F$20,0)","v":2058.6492131438727},{"$f":"IF(Y12>0,'Cost Budgets'!$F$20,0)","v":2058.6492131438727},{"$f":"IF(Z12>0,'Cost Budgets'!$F$20,0)","v":2058.6492131438727},{"$f":"IF(AA12>0,'Cost Budgets'!$F$20,0)","v":2058.6492131438727},{"$f":"IF(AB12>0,'Cost Budgets'!$F$20,0)","v":2058.6492131438727},{"$f":"IF(AC12>0,'Cost Budgets'!$F$20,0)","v":2058.6492131438727},{"$f":"IF(AD12>0,'Cost Budgets'!$F$20,0)","v":2058.6492131438727},{"$f":"IF(AE12>0,'Cost Budgets'!$F$20,0)","v":2058.6492131438727},{"$f":"IF(AF12>0,'Cost Budgets'!$F$20,0)","v":2058.6492131438727},{"$f":"IF(AG12>0,'Cost Budgets'!$F$20,0)","v":2058.6492131438727},{"$f":"IF(AH12>0,'Cost Budgets'!$F$20,0)","v":2058.6492131438727},{"$f":"IF(AI12>0,'Cost Budgets'!$F$20,0)","v":2058.6492131438727},{"$f":"IF(AJ12>0,'Cost Budgets'!$F$20,0)","v":2058.6492131438727},{"$f":"IF(AK12>0,'Cost Budgets'!$F$20,0)","v":2058.6492131438727},{"$f":"IF(AL12>0,'Cost Budgets'!$F$20,0)","v":2058.6492131438727},{"$f":"IF(AM12>0,'Cost Budgets'!$F$20,0)","v":2058.6492131438727},{"$f":"IF(AN12>0,'Cost Budgets'!$F$20,0)","v":2058.6492131438727},{"$f":"IF(AO12>0,'Cost Budgets'!$F$20,0)","v":2058.6492131438727},{"$f":"IF(AP12>0,'Cost Budgets'!$F$20,0)","v":2058.6492131438727},{"$f":"IF(AQ12>0,'Cost Budgets'!$F$20,0)","v":2058.6492131438727},{"$f":"IF(AR12>0,'Cost Budgets'!$F$20,0)","v":2058.6492131438727},{"$f":"IF(AS12>0,'Cost Budgets'!$F$20,0)","v":2058.6492131438727},{"$f":"IF(AT12>0,'Cost Budgets'!$F$20,0)","v":2058.6492131438727},{"$f":"IF(AU12>0,'Cost Budgets'!$F$20,0)","v":2058.6492131438727},{"$f":"IF(AV12>0,'Cost Budgets'!$F$20,0)","v":2058.6492131438727},{"$f":"IF(AW12>0,'Cost Budgets'!$F$20,0)","v":2058.6492131438727},{"$f":"IF(AX12>0,'Cost Budgets'!$F$20,0)","v":2058.6492131438727},{"$f":"IF(AY12>0,'Cost Budgets'!$F$20,0)","v":2058.6492131438727},{"$f":"IF(AZ12>0,'Cost Budgets'!$F$20,0)","v":2058.6492131438727},{"$f":"IF(BA12>0,'Cost Budgets'!$F$20,0)","v":2058.6492131438727},{"$f":"IF(BB12>0,'Cost Budgets'!$F$20,0)","v":2058.6492131438727},{"$f":"IF(BC12>0,'Cost Budgets'!$F$20,0)","v":2058.6492131438727},{"$f":"IF(BD12>0,'Cost Budgets'!$F$20,0)","v":2058.6492131438727},{"$f":"IF(BE12>0,'Cost Budgets'!$F$20,0)","v":2058.6492131438727},{"$f":"IF(BF12>0,'Cost Budgets'!$F$20,0)","v":2058.6492131438727},{"$f":"IF(BG12>0,'Cost Budgets'!$F$20,0)","v":2058.6492131438727},{"$f":"IF(BH12>0,'Cost Budgets'!$F$20,0)","v":2058.6492131438727},{"$f":"IF(BI12>0,'Cost Budgets'!$F$20,0)","v":2058.6492131438727},{"$f":"IF(BJ12>0,'Cost Budgets'!$F$20,0)","v":2058.6492131438727},{"$f":"IF(BK12>0,'Cost Budgets'!$F$20,0)","v":2058.6492131438727}]
[]
[null,"Harvesting Cost (Actual)",null,{"$f":"IF(D56>D20,0,D56)","v":0},0,0,0,2058.6492131438727,2058.6492131438727,2058.6492131438727,2058.6492131438727,2058.6492131438727,2058.6492131438727,2058.6492131438727,2058.6492131438727,2058.6492131438727,2058.6492131438727,2058.6492131438727,2058.6492131438727,2058.6492131438727,2058.6492131438727,2058.6492131438727,2058.6492131438727,2058.6492131438727,2058.6492131438727,2058.6492131438727,2058.6492131438727,2058.6492131438727,2058.6492131438727,2058.6492131438727,2058.6492131438727,2058.6492131438727,2058.6492131438727,2058.6492131438727,2058.6492131438727,{"$f":"IF(AJ56>AJ20,0,AJ56)","v":2058.6492131438727},2058.6492131438727,2058.6492131438727,2058.6492131438727,2058.6492131438727,2058.6492131438727,2058.6492131438727,2058.6492131438727,2058.6492131438727,2058.6492131438727,2058.6492131438727,2058.6492131438727,2058.6492131438727,2058.6492131438727,2058.6492131438727,0,0,0,0,0,0,0,0,0,0,0,0,0]
[]
[]
[null,"Total Revenues",null,{"$f":"D22","v":0},{"$f":"E22","v":0},0,0,3241.0679039999995,4094.0613071999983,4141.2577319999991,5235.4391039999991,4896.9768959999992,5246.6262119999983,5290.0904735999984,5898.5527535999991,6420.3783479999975,7963.6185504000005,8967.3963119999971,7304.3391455999981,8533.006451999996,8452.3496759999962,7484.7447813600002,8018.1679679999988,6951.9625541999976,6495.1012950047989,6897.1983683399976,6005.0923355339992,6511.9218304320002,5573.8625785577979,5349.867565380976,5132.9326238702988,4722.9889631929645,5008.0748060710075,4363.7585041360244,4611.2134855075346,3906.6215276754606,4120.8438150522079,3619.6912749944977,3573.3077868617402,3662.7509817128607,3248.987889810378,3116.0684046745855,2795.3373843043905,2821.5937866603949,2919.911654149083,2482.5192854595311,2502.1118691183669,2209.5591857154268,2342.729182878918,2299.1039304722685,0,0,0,0,0,0,0,0,0,0,0,0,0]
[]
[null,"Total Costs",null,{"$f":"D26+D28+D30+D32+D36+D58","v":919.56799999999998},{"$f":"E26+E28+E30+E32+E36+E40+E42+E44+E46+E48+E50+E52+E58","v":599.94000000000005},90,130.5,2545.6234941356083,2141.2111966149469,2279.6773123174262,2414.7600230612279,2168.4541718215587,2124.4756594248643,2422.3388660364344,2124.4756594248643,2124.4756594248643,2386.9388660364348,2124.4756594248643,2124.4756594248643,2124.4756594248643,2124.4756594248643,2119.2767543168156,2117.8930147967653,2113.3219850022037,2107.901624858303,2106.6366924827157,2103.0638065967869,2101.8379445488313,2098.6998656511455,2094.7288345970492,2093.632085581889,2091.1848685107134,2090.1337983380877,2087.9886436892039,2086.985339818666,2085.1062674403506,{"$f":"AK26+AK28+AK30+AK32+AK36+AK40+AK42+AK44+AK46+AK48+AK50+AK52+AK58","v":2084.1517271511866},2082.5070812064414,2081.6014757504554,2081.6014757504554,2080.184200974898,2079.3062494897972,2078.0678892636156,2077.2405458552048,2077.2405458552048,2076.1767279130963,2075.3814125840713,2074.454156283276,2073.7081926400515,2073.7081926400515,14.265831305186779,13.553081546560986,13.553081546560986,12.876379029615222,12.197773391904887,12.197773391904887,11.622171294789206,10.977996052714397,10.977996052714397,10.490139476361639,9.8801964474429589,9.8801964474429589,9.8801964474429589]
[]
[null,"Net Revenues",null,{"$f":"D61-D63","v":-919.56799999999998},{"$f":"E61-E63","v":-599.94000000000005},-90,-130.5,695.44440986439122,1952.8501105850514,1861.5804196825729,2820.6790809387712,2728.5227241784405,3122.150552575134,2867.751607563564,3774.0770941751348,4295.9026885751337,5576.6796843635657,6842.9206525751324,5179.8634861751343,6408.5307925751313,6327.8740165751315,5365.4680270431845,5900.274953203234,4838.6405691977943,4387.1996701464959,4790.5616758572814,3902.0285289372123,4410.0838858831685,3475.1627129066524,3255.1387307839268,3039.3005382884098,2631.8040946822512,2917.9410077329198,2275.7698604468205,2524.2281456888686,1821.51526023511,2036.6920879010213,1537.1841937880563,1491.7063111112848,1581.1495059624053,1168.80368883548,1036.7621551847883,717.26949504077493,744.35324080519013,842.67110829387821,406.34255754643482,426.73045653429563,135.10502943215079,269.02099023886649,225.39573783221704,-14.265831305186779,-13.553081546560986,-13.553081546560986,-12.876379029615222,-12.197773391904887,-12.197773391904887,-11.622171294789206,-10.977996052714397,-10.977996052714397,-10.490139476361639,-9.8801964474429589,-9.8801964474429589,-9.8801964474429589]
[null,null,null,{"$f":"NPV('Management Input'!$Q$6,'Financial Analysis'!D65)","v":-875.77904761904756},{"$f":"NPV('Management Input'!$Q$6,$D$65:E65)","v":-1419.94231292517},{"$f":"NPV('Management Input'!$Q$6,$D$65:F65)","v":-1497.6876967930029},{"$f":"NPV('Management Input'!$Q$6,$D$65:G65)","v":-1605.0503697533436},{"$f":"NPV('Management Input'!$Q$6,$D$65:H65)","v":-1060.1514773003773},{"$f":"NPV('Management Input'!$Q$6,$D$65:I65)","v":397.09534254172854},{"$f":"NPV('Management Input'!$Q$6,$D$65:J65)","v":1720.0857913459288},{"$f":"NPV('Management Input'!$Q$6,$D$65:K65)","v":3629.2324209761896},{"$f":"NPV('Management Input'!$Q$6,$D$65:L65)","v":5388.0624970844856},{"$f":"NPV('Management Input'!$Q$6,$D$65:M65)","v":7304.7921008599642},{"$f":"NPV('Management Input'!$Q$6,$D$65:N65)","v":8981.5070720467156},{"$f":"NPV('Management Input'!$Q$6,$D$65:O65)","v":11083.054417170264},{"$f":"NPV('Management Input'!$Q$6,$D$65:P65)","v":13361.26333321618},{"$f":"NPV('Management Input'!$Q$6,$D$65:Q65)","v":16177.865525909381},{"$f":"NPV('Management Input'!$Q$6,$D$65:R65)","v":19469.427360677837},{"$f":"NPV('Management Input'!$Q$6,$D$65:S65)","v":21842.382506037207},{"$f":"NPV('Management Input'!$Q$6,$D$65:T65)","v":24638.403263289918},{"$f":"NPV('Management Input'!$Q$6,$D$65:U65)","v":27267.765618576148},{"$f":"NPV('Management Input'!$Q$6,$D$65:V65)","v":29391.063512164266},{"$f":"NPV('Management Input'!$Q$6,$D$65:W65)","v":31614.815088085554},{"$f":"NPV('Management Input'!$Q$6,$D$65:X65)","v":33351.608175641057},{"$f":"NPV('Management Input'!$Q$6,$D$65:Y65)","v":34851.371817311905},{"$f":"NPV('Management Input'!$Q$6,$D$65:Z65)","v":36411.041237620782},{"$f":"NPV('Management Input'!$Q$6,$D$65:AA65)","v":37620.935069451625},{"$f":"NPV('Management Input'!$Q$6,$D$65:AB65)","v":38923.245064372561},{"$f":"NPV('Management Input'!$Q$6,$D$65:AC65)","v":39900.602379822129},{"$f":"NPV('Management Input'!$Q$6,$D$65:AD65)","v":40772.485816975175},{"$f":"NPV('Management Input'!$Q$6,$D$65:AE65)","v":41547.792045658098},{"$f":"NPV('Management Input'!$Q$6,$D$65:AF65)","v":42187.179168287199},{"$f":"NPV('Management Input'!$Q$6,$D$65:AG65)","v":42862.324913984747},{"$f":"NPV('Management Input'!$Q$6,$D$65:AH65)","v":43363.812365449594},{"$f":"NPV('Management Input'!$Q$6,$D$65:AI65)","v":43893.562449961879},{"$f":"NPV('Management Input'!$Q$6,$D$65:AJ65)","v":44257.633330947443},{"$f":"NPV('Management Input'!$Q$6,$D$65:AK65)","v":44645.3274452279},{"$f":"NPV('Management Input'!$Q$6,$D$65:AL65)","v":44924.00400635921},{"$f":"NPV('Management Input'!$Q$6,$D$65:AM65)","v":45181.558161410256},{"$f":"NPV('Management Input'!$Q$6,$D$65:AN65)","v":45441.555481247909},{"$f":"NPV('Management Input'!$Q$6,$D$65:AO65)","v":45624.596409242833},{"$f":"NPV('Management Input'!$Q$6,$D$65:AP65)","v":45779.227376344978},{"$f":"NPV('Management Input'!$Q$6,$D$65:AQ65)","v":45881.112411161223},{"$f":"NPV('Management Input'!$Q$6,$D$65:AR65)","v":45981.80971017322},{"$f":"NPV('Management Input'!$Q$6,$D$65:AS65)","v":46090.37913650641},{"$f":"NPV('Management Input'!$Q$6,$D$65:AT65)","v":46140.239156663476},{"$f":"NPV('Management Input'!$Q$6,$D$65:AU65)","v":46190.107447226947},{"$f":"NPV('Management Input'!$Q$6,$D$65:AV65)","v":46205.144165339763},{"$f":"NPV('Management Input'!$Q$6,$D$65:AW65)","v":46233.659495852851},{"$f":"NPV('Management Input'!$Q$6,$D$65:AX65)","v":46256.413018524327},{"$f":"NPV('Management Input'!$Q$6,$D$65:AY65)","v":46255.041471416196},{"$f":"NPV('Management Input'!$Q$6,$D$65:AZ65)","v":46253.800498232231},{"$f":"NPV('Management Input'!$Q$6,$D$65:BA65)","v":46252.618619009409},{"$f":"NPV('Management Input'!$Q$6,$D$65:BB65)","v":46251.54922068437},{"$f":"NPV('Management Input'!$Q$6,$D$65:BC65)","v":46250.584421318803},{"$f":"NPV('Management Input'!$Q$6,$D$65:BD65)","v":46249.665564780167},{"$f":"NPV('Management Input'!$Q$6,$D$65:BE65)","v":46248.831758576023},{"$f":"NPV('Management Input'!$Q$6,$D$65:BF65)","v":46248.081671605709},{"$f":"NPV('Management Input'!$Q$6,$D$65:BG65)","v":46247.36730306255},{"$f":"NPV('Management Input'!$Q$6,$D$65:BH65)","v":46246.717186522139},{"$f":"NPV('Management Input'!$Q$6,$D$65:BI65)","v":46246.134028527726},{"$f":"NPV('Management Input'!$Q$6,$D$65:BJ65)","v":46245.578639961619},{"$f":"NPV('Management Input'!$Q$6,$D$65:BK65)","v":46245.049698470088}]
[null,null,null,{"$f":"MIRR(D65,'Management Input'!$Q$6+1,'Management Input'!$Q$6)","v":{"$error":"#DIV/0!"}},{"$f":"MIRR($D$65:E65,'Management Input'!$Q$6+1,'Management Input'!$Q$6)","v":-1},{"$f":"MIRR($D$65:F65,'Management Input'!$Q$6+1,'Management Input'!$Q$6)","v":-1},{"$f":"MIRR($D$65:G65,'Management Input'!$Q$6+1,'Management Input'!$Q$6)","v":-1},{"$f":"MIRR($D$65:H65,'Management Input'!$Q$6+1,'Management Input'!$Q$6)","v":-0.13613940497970356},{"$f":"MIRR($D$65:I65,'Management Input'!$Q$6+1,'Management Input'!$Q$6)","v":0.16527584044634169},{"$f":"MIRR($D$65:J65,'Management Input'!$Q$6+1,'Management Input'!$Q$6)","v":0.24625752577476723},{"$f":"MIRR($D$65:K65,'Management Input'!$Q$6+1,'Management Input'!$Q$6)","v":0.29755644360262856},{"$f":"MIRR($D$65:L65,'Management Input'!$Q$6+1,'Management Input'!$Q$6)","v":0.31027003213913762},{"$f":"MIRR($D$65:M65,'Management Input'!$Q$6+1,'Management Input'!$Q$6)","v":0.31329991731789875},{"$f":"MIRR($D$65:N65,'Management Input'!$Q$6+1,'Management Input'!$Q$6)","v":0.3065767577492482},{"$f":"MIRR($D$65:O65,'Management Input'!$Q$6+1,'Management Input'!$Q$6)","v":0.30212530872144572},{"$f":"MIRR($D$65:P65,'Management Input'!$Q$6+1,'Management Input'!$Q$6)","v":0.29670344303698437},{"$f":"MIRR($D$65:Q65,'Management Input'!$Q$6+1,'Management Input'!$Q$6)","v":0.29285906364809189},{"$f":"MIRR($D$65:R65,'Management Input'!$Q$6+1,'Management Input'!$Q$6)","v":0.28933239880970052},{"$f":"MIRR($D$65:S65,'Management Input'!$Q$6+1,'Management Input'!$Q$6)","v":0.2808818983164838},{"$f":"MIRR($D$65:T65,'Management Input'!$Q$6+1,'Management Input'!$Q$6)","v":0.27400741803924622},{"$f":"MIRR($D$65:U65,'Management Input'!$Q$6+1,'Management Input'!$Q$6)","v":0.26669222155783423},{"$f":"MIRR($D$65:V65,'Management Input'!$Q$6+1,'Management Input'!$Q$6)","v":0.25850937092576753},{"$f":"MIRR($D$65:W65,'Management Input'!$Q$6+1,'Management Input'!$Q$6)","v":0.25112238356157146},{"$f":"MIRR($D$65:X65,'Management Input'!$Q$6+1,'Management Input'!$Q$6)","v":0.24337139406303487},{"$f":"MIRR($D$65:Y65,'Management Input'!$Q$6+1,'Management Input'!$Q$6)","v":0.23587301750043821},{"$f":"MIRR($D$65:Z65,'Management Input'!$Q$6+1,'Management Input'!$Q$6)","v":0.22908903586205587},{"$f":"MIRR($D$65:AA65,'Management Input'!$Q$6+1,'Management Input'!$Q$6)","v":0.22236603194872862},{"$f":"MIRR($D$65:AB65,'Management Input'!$Q$6+1,'Management Input'!$Q$6)","v":0.21630304443275072},{"$f":"MIRR($D$65:AC65,'Management Input'!$Q$6+1,'Management Input'!$Q$6)","v":0.21032401457740679},{"$f":"MIRR($D$65:AD65,'Management Input'!$Q$6+1,'Management Input'!$Q$6)","v":0.20469011477505838},{"$f":"MIRR($D$65:AE65,'Management Input'!$Q$6+1,'Management Input'!$Q$6)","v":0.19937880814834941},{"$f":"MIRR($D$65:AF65,'Management Input'!$Q$6+1,'Management Input'!$Q$6)","v":0.19432188814842011},{"$f":"MIRR($D$65:AG65,'Management Input'!$Q$6+1,'Management Input'!$Q$6)","v":0.18965714523780841},{"$f":"MIRR($D$65:AH65,'Management Input'!$Q$6+1,'Management Input'!$Q$6)","v":0.18515844017736161},{"$f":"MIRR($D$65:AI65,'Management Input'!$Q$6+1,'Management Input'!$Q$6)","v":0.18098430997335435},{"$f":"MIRR($D$65:AJ65,'Management Input'!$Q$6+1,'Management Input'!$Q$6)","v":0.1769467942091576},{"$f":"MIRR($D$65:AK65,'Management Input'!$Q$6+1,'Management Input'!$Q$6)","v":0.17318247357411454},{"$f":"MIRR($D$65:AL65,'Management Input'!$Q$6+1,'Management Input'!$Q$6)","v":0.16956765967060217},{"$f":"MIRR($D$65:AM65,'Management Input'!$Q$6+1,'Management Input'!$Q$6)","v":0.16615337456613166},{"$f":"MIRR($D$65:AN65,'Management Input'!$Q$6+1,'Management Input'!$Q$6)","v":0.16293862313483087},{"$f":"MIRR($D$65:AO65,'Management Input'!$Q$6+1,'Management Input'!$Q$6)","v":0.15985380429026064},{"$f":"MIRR($D$65:AP65,'Management Input'!$Q$6+1,'Management Input'!$Q$6)","v":0.15692018692640297},{"$f":"MIRR($D$65:AQ65,'Management Input'!$Q$6+1,'Management Input'!$Q$6)","v":0.15411070299805063},{"$f":"MIRR($D$65:AR65,'Management Input'!$Q$6+1,'Management Input'!$Q$6)","v":0.1514471619604123},{"$f":"MIRR($D$65:AS65,'Management Input'!$Q$6+1,'Management Input'!$Q$6)","v":0.14892375461851892},{"$f":"MIRR($D$65:AT65,'Management Input'!$Q$6+1,'Management Input'!$Q$6)","v":0.14649196378187068},{"$f":"MIRR($D$65:AU65,'Management Input'!$Q$6+1,'Management Input'!$Q$6)","v":0.1441780487915989},{"$f":"MIRR($D$65:AV65,'Management Input'!$Q$6+1,'Management Input'!$Q$6)","v":0.14195473870790454},{"$f":"MIRR($D$65:AW65,'Management Input'!$Q$6+1,'Management Input'!$Q$6)","v":0.13984141418083551},{"$f":"MIRR($D$65:AX65,'Management Input'!$Q$6+1,'Management Input'!$Q$6)","v":0.1378206466551366},{"$f":"MIRR($D$65:AY65,'Management Input'!$Q$6+1,'Management Input'!$Q$6)","v":0.13587773424587768},{"$f":"MIRR($D$65:AZ65,'Management Input'!$Q$6+1,'Management Input'!$Q$6)","v":0.13401888978579657},{"$f":"MIRR($D$65:BA65,'Management Input'!$Q$6+1,'Management Input'!$Q$6)","v":0.13223877484999202},{"$f":"MIRR($D$65:BB65,'Management Input'!$Q$6+1,'Management Input'!$Q$6)","v":0.13053249346086337},{"$f":"MIRR($D$65:BC65,'Management Input'!$Q$6+1,'Management Input'!$Q$6)","v":0.12889554719808904},{"$f":"MIRR($D$65:BD65,'Management Input'!$Q$6+1,'Management Input'!$Q$6)","v":0.12732379566339747},{"$f":"MIRR($D$65:BE65,'Management Input'!$Q$6+1,'Management Input'!$Q$6)","v":0.12581342156968356},{"$f":"MIRR($D$65:BF65,'Management Input'!$Q$6+1,'Management Input'!$Q$6)","v":0.12436089983568155},{"$f":"MIRR($D$65:BG65,'Management Input'!$Q$6+1,'Management Input'!$Q$6)","v":0.12296297016023683},{"$f":"MIRR($D$65:BH65,'Management Input'!$Q$6+1,'Management Input'!$Q$6)","v":0.12161661262766632},{"$f":"MIRR($D$65:BI65,'Management Input'!$Q$6+1,'Management Input'!$Q$6)","v":0.1203190259605631},{"$f":"MIRR($D$65:BJ65,'Management Input'!$Q$6+1,'Management Input'!$Q$6)","v":0.11906760809088524},{"$f":"MIRR($D$65:BK65,'Management Input'!$Q$6+1,'Management Input'!$Q$6)","v":0.11785993876612011}]
[null,null,null,{"$f":"PMT('Management Input'!$Q$6,70,-D66)","v":-45.277035000029059},{"$f":"PMT('Management Input'!$Q$6,70,-E66)","v":-73.409814924346975},{"$f":"PMT('Management Input'!$Q$6,70,-F66)","v":-77.429185422013603},{"$f":"PMT('Management Input'!$Q$6,70,-G66)","v":-82.979744680696058},{"$f":"PMT('Management Input'!$Q$6,70,-H66)","v":-54.808933455943219},{"$f":"PMT('Management Input'!$Q$6,70,-I66)","v":20.529492880070745},{"$f":"PMT('Management Input'!$Q$6,70,-J66)","v":88.926978545048797},{"$f":"PMT('Management Input'!$Q$6,70,-K66)","v":187.62824229982789},{"$f":"PMT('Management Input'!$Q$6,70,-L66)","v":278.55826755169841},{"$f":"PMT('Management Input'!$Q$6,70,-M66)","v":377.65156464720508},{"$f":"PMT('Management Input'!$Q$6,70,-N66)","v":464.33630852397113},{"$f":"PMT('Management Input'!$Q$6,70,-O66)","v":572.98452631139514},{"$f":"PMT('Management Input'!$Q$6,70,-P66)","v":690.7659976877901},{"$f":"PMT('Management Input'!$Q$6,70,-Q66)","v":836.38194546186992},{"$f":"PMT('Management Input'!$Q$6,70,-R66)","v":1006.5529044528851},{"$f":"PMT('Management Input'!$Q$6,70,-S66)","v":1129.2326756372152},{"$f":"PMT('Management Input'!$Q$6,70,-T66)","v":1273.7845806309576},{"$f":"PMT('Management Input'!$Q$6,70,-U66)","v":1409.7203873983267},{"$f":"PMT('Management Input'!$Q$6,70,-V66)","v":1519.4930901192251},{"$f":"PMT('Management Input'!$Q$6,70,-W66)","v":1634.459163135115},{"$f":"PMT('Management Input'!$Q$6,70,-X66)","v":1724.2498947435572},{"$f":"PMT('Management Input'!$Q$6,70,-Y66)","v":1801.7864047574844},{"$f":"PMT('Management Input'!$Q$6,70,-Z66)","v":1882.4199927883756},{"$f":"PMT('Management Input'!$Q$6,70,-AA66)","v":1944.9704791456982},{"$f":"PMT('Management Input'!$Q$6,70,-AB66)","v":2012.2988028607133},{"$f":"PMT('Management Input'!$Q$6,70,-AC66)","v":2062.8273482734526},{"$f":"PMT('Management Input'!$Q$6,70,-AD66)","v":2107.902983511869},{"$f":"PMT('Management Input'!$Q$6,70,-AE66)","v":2147.9856588707421},{"$f":"PMT('Management Input'!$Q$6,70,-AF66)","v":2181.0414315665489},{"$f":"PMT('Management Input'!$Q$6,70,-AG66)","v":2215.9458947883791},{"$f":"PMT('Management Input'!$Q$6,70,-AH66)","v":2241.872371282398},{"$f":"PMT('Management Input'!$Q$6,70,-AI66)","v":2269.2600019672605},{"$f":"PMT('Management Input'!$Q$6,70,-AJ66)","v":2288.0821581557298},{"$f":"PMT('Management Input'!$Q$6,70,-AK66)","v":2308.1256154972866},{"$f":"PMT('Management Input'!$Q$6,70,-AL66)","v":2322.5329576760396},{"$f":"PMT('Management Input'!$Q$6,70,-AM66)","v":2335.848289350567},{"$f":"PMT('Management Input'!$Q$6,70,-AN66)","v":2349.2899305752649},{"$f":"PMT('Management Input'!$Q$6,70,-AO66)","v":2358.7529915217392},{"$f":"PMT('Management Input'!$Q$6,70,-AP66)","v":2366.747281552548},{"$f":"PMT('Management Input'!$Q$6,70,-AQ66)","v":2372.0146515585961},{"$f":"PMT('Management Input'!$Q$6,70,-AR66)","v":2377.2206166295464},{"$f":"PMT('Management Input'!$Q$6,70,-AS66)","v":2382.8335640155165},{"$f":"PMT('Management Input'!$Q$6,70,-AT66)","v":2385.4112848275081},{"$f":"PMT('Management Input'!$Q$6,70,-AU66)","v":2387.9894332125054},{"$f":"PMT('Management Input'!$Q$6,70,-AV66)","v":2388.7668188032326},{"$f":"PMT('Management Input'!$Q$6,70,-AW66)","v":2390.2410372390227},{"$f":"PMT('Management Input'!$Q$6,70,-AX66)","v":2391.4173750895011},{"$f":"PMT('Management Input'!$Q$6,70,-AY66)","v":2391.3464672656751},{"$f":"PMT('Management Input'!$Q$6,70,-AZ66)","v":2391.282310003136},{"$f":"PMT('Management Input'!$Q$6,70,-BA66)","v":2391.2212078483367},{"$f":"PMT('Management Input'!$Q$6,70,-BB66)","v":2391.1659208606848},{"$f":"PMT('Management Input'!$Q$6,70,-BC66)","v":2391.1160415506447},{"$f":"PMT('Management Input'!$Q$6,70,-BD66)","v":2391.0685374458444},{"$f":"PMT('Management Input'!$Q$6,70,-BE66)","v":2391.0254303713023},{"$f":"PMT('Management Input'!$Q$6,70,-BF66)","v":2390.9866515102408},{"$f":"PMT('Management Input'!$Q$6,70,-BG66)","v":2390.9497192616109},{"$f":"PMT('Management Input'!$Q$6,70,-BH66)","v":2390.916108787103},{"$f":"PMT('Management Input'!$Q$6,70,-BI66)","v":2390.8859600127116},{"$f":"PMT('Management Input'!$Q$6,70,-BJ66)","v":2390.8572468942434},{"$f":"PMT('Management Input'!$Q$6,70,-BK66)","v":2390.8299010671308}]
[null,null,null,{"$f":"IRR(D66,1)","v":{"$error":"#NUM!"}},{"$f":"IRR($D$66:E66,1)","v":{"$error":"#NUM!"}},{"$f":"IRR($D$66:F66,1)","v":{"$error":"#NUM!"}},{"$f":"IRR($D$66:G66,1)","v":{"$error":"#NUM!"}},{"$f":"IRR($D$66:H66,1)","v":{"$error":"#NUM!"}},{"$f":"IRR($D$66:I66,1)","v":-0.74913929017720582},{"$f":"IRR($D$66:J66,1)","v":-0.27347676177179225},{"$f":"IRR($D$66:K66,1)","v":-2.5856833092217757E-2},{"$f":"IRR($D$66:L66,1)","v":0.10995343269429769},{"$f":"IRR($D$66:M66,1)","v":0.19450959419721991},{"$f":"IRR($D$66:N66,1)","v":0.24838225852912732},{"$f":"IRR($D$66:O66,1)","v":0.28561180615366433},{"$f":"IRR($D$66:P66,1)","v":0.31199521533667762},{"$f":"IRR($D$66:Q66,1)","v":0.33144491997614933},{"$f":"IRR($D$66:R66,1)","v":0.34606510500423604},{"$f":"IRR($D$66:S66,1)","v":0.35656543246044525},{"$f":"IRR($D$66:T66,1)","v":0.36432296336192116},{"$f":"IRR($D$66:U66,1)","v":0.37004590898915701},{"$f":"IRR($D$66:V66,1)","v":0.37422113367460019},{"$f":"IRR($D$66:W66,1)","v":0.37729990730111895},{"$f":"IRR($D$66:X66,1)","v":0.3795495211276001},{"$f":"IRR($D$66:Y66,1)","v":0.3811918240049823},{"$f":"IRR($D$66:Z66,1)","v":0.38239875250092403},{"$f":"IRR($D$66:AA66,1)","v":0.38328073678143659},{"$f":"IRR($D$66:AB66,1)","v":0.38392894952311862},{"$f":"IRR($D$66:AC66,1)","v":0.38440260581915942},{"$f":"IRR($D$66:AD66,1)","v":0.38474856610942787},{"$f":"IRR($D$66:AE66,1)","v":0.38500110291465961},{"$f":"IRR($D$66:AF66,1)","v":0.38518510118371951},{"$f":"IRR($D$66:AG66,1)","v":0.38531942099039429},{"$f":"IRR($D$66:AH66,1)","v":0.38541716005923288},{"$f":"IRR($D$66:AI66,1)","v":0.38548837370717393},{"$f":"IRR($D$66:AJ66,1)","v":0.38554009129132338},{"$f":"IRR($D$66:AK66,1)","v":0.38557768528973391},{"$f":"IRR($D$66:AL66,1)","v":0.38560495433627984},{"$f":"IRR($D$66:AM66,1)","v":0.38562472955881799},{"$f":"IRR($D$66:AN66,1)","v":0.38563907364970906},{"$f":"IRR($D$66:AO66,1)","v":0.38564946201445172},{"$f":"IRR($D$66:AP66,1)","v":0.38565698165873896},{"$f":"IRR($D$66:AQ66,1)","v":0.38566241895419351},{"$f":"IRR($D$66:AR66,1)","v":0.38566635069555399},{"$f":"IRR($D$66:AS66,1)","v":0.38566919437966685},{"$f":"IRR($D$66:AT66,1)","v":0.38567124856600876},{"$f":"IRR($D$66:AU66,1)","v":0.38567273248585465},{"$f":"IRR($D$66:AV66,1)","v":0.38567380366634985},{"$f":"IRR($D$66:AW66,1)","v":0.38567457714522235},{"$f":"IRR($D$66:AX66,1)","v":0.38567513559640054},{"$f":"IRR($D$66:AY66,1)","v":0.3856755385910613},{"$f":"IRR($D$66:AZ66,1)","v":0.38567582940652034},{"$f":"IRR($D$66:BA66,1)","v":0.38567603927073302},{"$f":"IRR($D$66:BB66,1)","v":0.38567619071817116},{"$f":"IRR($D$66:BC66,1)","v":0.38567630000998698},{"$f":"IRR($D$66:BD66,1)","v":0.38567637888049799},{"$f":"IRR($D$66:BE66,1)","v":0.38567643579764388},{"$f":"IRR($D$66:BF66,1)","v":0.38567647687219608},{"$f":"IRR($D$66:BG66,1)","v":0.3856765065139065},{"$f":"IRR($D$66:BH66,1)","v":0.38567652790507645},{"$f":"IRR($D$66:BI66,1)","v":0.38567654334220891},{"$f":"IRR($D$66:BJ66,1)","v":0.38567655448256688},{"$f":"IRR($D$66:BK66,1)","v":0.38567656252212168}]
[]
[null,{"$f":"\"PV of Revenues @ \"&TEXT('Management Input'!Q6,\"0%\")","v":"PV of Revenues @ 5%"},null,{"$f":"NPV('Management Input'!$Q$6,D61:BK61)","v":79326.266307944563}]
[]
[null,{"$f":"\"PV of Costs @ \"&TEXT('Management Input'!Q6,\"0%\")","v":"PV of Costs @ 5%"},null,{"$f":"NPV('Management Input'!$Q$6,D63:BK63)","v":33081.216609474497}]
[]
[null,{"$f":"\"NPV @ \"&TEXT('Management Input'!Q6,\"0%\")","v":"NPV @ 5%"},null,{"$f":"D71-D73","v":46245.049698470066}]
[]
[null,"Rate of Return (MIRR)",null,{"$f":"MIRR(D65:BK65,'Management Input'!Q6+1,'Management Input'!Q6)","v":0.11785993876612011}]
[]
[null,"Years to Break Even",null,{"$f":"MATCH(0,D67:BK67,1)","v":5}]
[]
[null,{"$f":"\"AEV @ \"&TEXT('Management Input'!Q6,\"0%\")","v":"AEV @ 5%"},null,{"$f":"PMT('Management Input'!Q6,60,-D75)","v":2443.0420189422707}]
[]
[null,{"$f":"\"IRR @ \"&TEXT('Management Input'!Q6,\"0%\")","v":"IRR @ 5%"},null,{"$f":"IRR(D65:BK65)","v":0.4549604125246729}]

{"sheet":"Input Tables","index":3,"n_rows":110,"n_cols":91,"rows_kept":110,"cut":false,"hidden":false,"merged":[[76,4,76,5],[86,3,86,5],[86,7,86,8],[74,3,74,10],[68,4,68,5],[45,3,45,10],[41,4,41,5],[93,8,93,9],[92,12,92,14],[92,16,92,17],[93,12,93,14],[93,16,93,17],[88,3,88,5],[88,7,88,8],[53,3,53,5],[53,7,53,8],[67,3,67,5],[67,7,67,8],[75,3,75,5],[75,7,75,8],[83,3,83,10],[0,3,0,10],[6,3,6,10],[11,3,11,10],[18,3,18,10],[23,3,23,10],[8,4,8,5],[104,4,105,4],[24,5,24,7],[66,3,66,10],[26,3,26,10],[33,3,33,10],[39,3,39,10],[35,4,35,5],[47,4,47,5],[54,4,54,5],[34,3,34,5],[40,3,40,5],[52,3,52,10],[40,7,40,8],[46,3,46,5],[46,7,46,8],[34,7,34,8]]}
["Site Prep","Estimated Cost/ac","Cost per Tree","Occurrence"]
["Discing only",100,{"$f":"B2/'Cost Budgets'!$B$3","v":2.0661157024793391},1]
["Herbicide only (1 qt/ac.)",120,{"$f":"B3/'Cost Budgets'!$B$3","v":2.4793388429752068},1]
["Herbicide with Discing",150,{"$f":"B4/'Cost Budgets'!$B$3","v":3.0991735537190084},1]
["User Defined",0,0]
[]
["Layout/Design","Estimated Cost/ac","Cost per Tree","Occurrence"]
["Diamond"]
["Hexagonal",null,null,null,"No Cost "]
["Rectangular/Square"]
[]
["Planting Stock","Estimated Cost/ac","Cost per Tree","Occurrence"]
["Grafted Seedlings",{"$f":"C13*'Cost Budgets'!$B$3","v":968},20,1]
["Seed",{"$f":"C14*'Cost Budgets'!$B$3","v":169.4},3.5,1]
["Seedlings (bare root)",{"$f":"C15*'Cost Budgets'!$B$3","v":193.6},4,1]
["Seedlings (RPM™)",{"$f":"C16*'Cost Budgets'!$B$3","v":847},17.5,1]
["User Defined",{"$f":"C17*'Cost Budgets'!$B$3","v":0},0,1]
[]
["Fertilization (initial)","Estimated Cost/ac","Cost per Tree","Occurrence"]
["Good early growth (> 8\")",{"$f":"C20*'Cost Budgets'!B3","v":49.368000000000002},1.02,1]
["Slow early growth (< 8\")",0,0,1]
["User Defined",0,0,1]
[]
["Thinning","Estimated Cost/ac","Cost per TC","Occurrence"]
[{"$f":"'Management Input'!E21","v":0.1},0,4.2000000000000003E-2,null,null,"As per model"]
[]
["Tree Staking","Estimated Cost/ac","Cost per Tree","Occurrence"]
["Re-Bar",{"$f":"C28*'Cost Budgets'!$B$3","v":67.275999999999996},1.39,1]
["Steel conduit pipe",{"$f":"C29*'Cost Budgets'!$B$3","v":96.8},2,1]
["T-posts ",{"$f":"C30*'Cost Budgets'!$B$3","v":338.8},7,1]
["User Defined",0,0,1]
["Wooden stakes",{"$f":"C32*'Cost Budgets'!$B$3","v":19.36},0.4]
[]
["Fertilization (maintenance)","Estimated Cost/ac","Cost per Tree","Occurrence"]
["Bearing trees (33% N)",90,{"$f":"B35/'Cost Budgets'!$B$3","v":1.859504132231405},"Fertilizer applied every ",null,null,1,"years, until year ",null,30,null,null,null,null,null,null,null,null,null,null,null,null,null,null,null,null,null,null,null,null,null,null,null,null,null,null,null,null,null,null,null,null,null,null,null,null,null,null,null,null,null,null,{"$f":"G36","v":2},{"$f":"G36+G35","v":3},{"$f":"IF(AND((BB35+$G$35)<$J$35,BB35>0),BB35+$G$35,0)","v":4},5,6,7,8,9,10,11,12,13,14,15,16,17,18,19,20,21,22,23,24,25,26,27,28,29,0,0,0,0,0,0,0,0,0,0,0]
["Bearing trees (46% N)",90,{"$f":"B36/'Cost Budgets'!$B$3","v":1.859504132231405},null,"First Year of Application",null,2]
["Non-bearing tree",90,{"$f":"B37/'Cost Budgets'!$B$3","v":1.859504132231405}]
["User Defined",0,0]
[]
["Pruning","Estimated Cost/ac","Cost per Tree","Occurrence"]
["Spring prune",{"$f":"C41*'Cost Budgets'!$B$3","v":24.2},0.5,"Pruning conducted every",null,null,2,"years, until year ",null,12,null,null,null,null,null,null,null,null,null,null,null,null,null,null,null,null,null,null,null,null,null,null,null,null,null,null,null,null,null,null,null,null,null,null,null,null,null,null,null,null,null,null,{"$f":"G42","v":5},{"$f":"G42+G41","v":7},{"$f":"IF(AND((BB41+$G$41)<$J$41,BB41>0),BB41+$G$41,0)","v":9},{"$f":"IF(AND((BC41+$G$41)<$J$41,BC41>0),BC41+$G$41,0)","v":11},0,0,0,0,0,0,0,0,0,0,0,0,0,0,0,0,0,0,0,0,0,0,0,0,0,0,0,0,0,0,0,0,0,0,0]
["Spring & Summer Prune",{"$f":"C42*'Cost Budgets'!$B$3","v":48.4},1,null,"First Year of Application",null,5]
["Summer/Fall prune",{"$f":"C43*'Cost Budgets'!$B$3","v":24.2},0.5]
["User Defined",0,0]
[]
["Weed control","Estimated Cost/ac","Cost per Tree","Occurrence"]
["Discing",100,{"$f":"B47/'Cost Budgets'!$B$3","v":2.0661157024793391},"Weed control conducted every",null,null,5,"years, until year ",null,10,null,null,null,null,null,null,null,null,null,null,null,null,null,null,null,null,null,null,null,null,null,null,null,null,null,null,null,null,null,null,null,null,null,null,null,null,null,null,null,null,null,null,{"$f":"G48","v":2},{"$f":"G48+G47","v":7},{"$f":"IF(AND((BB47+$G$47)<$J$47,BB47>0),BB47+$G$47,0)","v":0},{"$f":"IF(AND((BC47+$G$47)<$J$47,BC47>0),BC47+$G$47,0)","v":0},0,0,0,0,0,0,0,0,0,0,0,0,0,0,0,0,0,0,0,0,0,0,0,0,0,0,0,0,0,0,0,0,0,0,0]
["Herbicide (Roundup TM)",120,{"$f":"B48/'Cost Budgets'!$B$3","v":2.4793388429752068},null,"First Year of Application",null,2]
["Mats (weed)",{"$f":"C49*'Cost Budgets'!B3","v":62.92},1.3]
["Mowing",10,{"$f":"B50/'Cost Budgets'!$B$3","v":0.20661157024793389}]
["User Defined",0,0]
[]
["Pest Control","Estimated Cost/ac","Cost per Tree","Occurrence"]
["Asana XL",{"$f":"'Chemical costs'!H2","v":8.1442165089999996},{"$f":"B54/'Cost Budgets'!$B$3","v":0.16826893613636362},"Pest control applied every",null,null,3,"years, until year ",null,15,null,null,null,null,null,null,null,null,null,null,null,null,null,null,null,null,null,null,null,null,null,null,null,null,null,null,null,null,null,null,null,null,null,null,null,null,null,null,null,null,null,null,{"$f":"G55","v":5},{"$f":"G55+G54","v":8},{"$f":"IF(AND((BB54+$G$54)<$J$54,BB54>0),BB54+$G$54,0)","v":11},{"$f":"IF(AND((BC54+$G$54)<$J$54,BC54>0),BC54+$G$54,0)","v":14},0,0,0,0,0,0,0,0,0,0,0,0,0,0,0,0,0,0,0,0,0,0,0,0,0,0,0,0,0,0,0,0,0,0,0]
["Confirm 2F",{"$f":"'Chemical costs'!H3","v":0},{"$f":"B55/'Cost Budgets'!$B$3","v":0},null,"First Year of Application",null,5]
["Dipel ES",{"$f":"'Chemical costs'!H8","v":33},{"$f":"B56/'Cost Budgets'!$B$3","v":0.68181818181818188}]
["Guthion 2L",{"$f":"'Chemical costs'!H10","v":89.32},{"$f":"B57/'Cost Budgets'!$B$3","v":1.8454545454545455}]
["Imidian 70 WSB",{"$f":"'Chemical costs'!H6","v":20.233125000000001},{"$f":"B58/'Cost Budgets'!$B$3","v":0.41803977272727277}]
["Javelin WG",{"$f":"'Chemical costs'!H9","v":0},{"$f":"B59/'Cost Budgets'!$B$3","v":0}]
["Lorsban 4E/Nufos 4E",{"$f":"'Chemical costs'!H4","v":16.456},{"$f":"B60/'Cost Budgets'!$B$3","v":0.34}]
["None",0,{"$f":"B61/'Cost Budgets'!$B$3","v":0}]
["Sevin 80W",{"$f":"'Chemical costs'!H7","v":34.256250000000001},{"$f":"B62/'Cost Budgets'!$B$3","v":0.70777376033057859}]
["Sniper 2E",{"$f":"'Chemical costs'!H11","v":0},{"$f":"B63/'Cost Budgets'!$B$3","v":0}]
["User Defined",0,0]
["Warrior",{"$f":"'Chemical costs'!H5","v":9.4079999999999995},{"$f":"B65/'Cost Budgets'!$B$3","v":0.1943801652892562}]
[]
["Disease Control","Estimated Cost/ac","Cost per Tree","Occurrence"]
["Abound",{"$f":"'Chemical costs'!H12","v":0},{"$f":"B68/'Cost Budgets'!$B$3","v":0},"Disease control applied every",null,null,3,"years, until year ",null,15,null,null,null,null,null,null,null,null,null,null,null,null,null,null,null,null,null,null,null,null,null,null,null,null,null,null,null,null,null,null,null,null,null,null,null,null,null,null,null,null,null,null,{"$f":"G69","v":2},{"$f":"G69+G68","v":5},{"$f":"IF(AND((BB68+$G$68)<$J$68,BB68>0),BB68+$G$68,0)","v":8},{"$f":"IF(AND((BC68+$G$68)<$J$68,BC68>0),BC68+$G$68,0)","v":11},14,0,0,0,0,0,0,0,0,0,0,0,0,0,0,0,0,0,0,0,0,0,0,0,0,0,0,0,0,0,0,0,0,0,0]
["Flint",{"$f":"'Chemical costs'!H13","v":0},{"$f":"B69/'Cost Budgets'!$B$3","v":0},null,"First Year of Application",null,2]
["None",0,{"$f":"B70/'Cost Budgets'!$B$3","v":0}]
["Pristine",{"$f":"'Chemical costs'!H14","v":0},{"$f":"B71/'Cost Budgets'!$B$3","v":0}]
["Syllit",{"$f":"'Chemical costs'!H15","v":55.88},{"$f":"B72/'Cost Budgets'!$B$3","v":1.1545454545454545}]
["User Defined",0,0]
[]
["Deer Control","Estimated Cost/ac","Cost per Tree","Occurrence"]
["Game Deterrent Fencing",349.44,{"$f":"B76/'Cost Budgets'!$B$3","v":7.2198347107438021},"Deer Control measures used every",null,null,3,"years, until year ",null,15,null,null,null,null,null,null,null,null,null,null,null,null,null,null,null,null,null,null,null,null,null,null,null,null,null,null,null,null,null,null,null,null,null,null,null,null,null,null,null,null,null,null,{"$f":"G77","v":2},{"$f":"G77+G76","v":5},{"$f":"IF(AND((BB76+$G$76)<$J$76,BB76>0),BB76+$G$76,0)","v":8},{"$f":"IF(AND((BC76+$G$76)<$J$76,BC76>0),BC76+$G$76,0)","v":11},14,0,0,0,0,0,0,0,0,0,0,0,0,0,0,0,0,0,0,0,0,0,0,0,0,0,0,0,0,0,0,0,0,0,0]
["None",0,0,null,"First Year of Application",null,2]
["Plantskydd® Repellent",{"$f":"C78*'Cost Budgets'!$B$3","v":4.84},0.1]
["Plotsaver Ribbon ",47.5,{"$f":"B79/'Cost Budgets'!$B$3","v":0.98140495867768596}]
["Tree Guard® Deer Repellent",{"$f":"C80*'Cost Budgets'!$B$3","v":2.1779999999999999},4.4999999999999998E-2]
["Tube Tree Shelters",{"$f":"C81*'Cost Budgets'!B3","v":48.4},1]
["User Defined",68.36,{"$f":"B82/'Cost Budgets'!B3","v":1.412396694214876}]
[]
["Grafting Technique","Estimated Cost/ac","Cost per Tree","Occurrence"]
["Not Grafted",0,0]
["Nursery Grafted",{"$f":"C86*'Cost Budgets'!$B$3","v":871.19999999999993},18]
["Professionally Field Grafted",{"$f":"C87*'Cost Budgets'!$B$3","v":871.19999999999993},18,"Grafting conducted every",null,null,1,"years, until year ",null,5,null,null,null,null,null,null,null,null,null,null,null,null,null,null,null,null,null,null,null,null,null,null,null,null,null,null,null,null,null,null,null,null,null,null,null,null,null,null,null,null,null,null,{"$f":"1+G87","v":2},{"$f":"IF(AND((BA87+$G$87)<$J$87,BA87>0),BA87+$G$87,0)","v":3},{"$f":"IF(AND((BB87+$G$87)<$J$87,BB87>0),BB87+$G$87,0)","v":4},0,0,0,0,0,0,0,0,0,0,0,0,0,0,0,0,0,0,0,0,0,0,0,0,0,0,0,0,0,0,0,0,0,0,0]
["Self Grafted (Bench)",{"$f":"C88*'Cost Budgets'!$B$3","v":484},10,null,null," "]
["Self Grafted (Field)",{"$f":"C89*'Cost Budgets'!$B$3","v":484},10,"Grafting conducted every",null,null,1,"years, until year ",null,5,null,null,null,null,null,null,null,null,null,null,null,null,null,null,null,null,null,null,null,null,null,null,null,null,null,null,null,null,null,null,null,null,null,null,null,null,null,null,null,null,null,null,{"$f":"1+G89","v":2},{"$f":"IF(AND((BA89+$G$89)<$J$89,BA89>0),BA89+$G$89,0)","v":3},{"$f":"IF(AND((BB89+$G$89)<$J$89,BB89>0),BB89+$G$89,0)","v":4},0,0,0,0,0,0,0,0,0,0,0,0,0,0,0,0,0,0,0,0,0,0,0,0,0,0,0,0,0,0,0,0,0,0,0]
[]
["Harvest Techniques","Estimated Cost/ac","Cost per Tree"]
["Hand pickup",75,{"$f":"B92/'Cost Budgets'!$B$3","v":1.5495867768595042},"PV","N","I","PMT"]
["Mechanized (unspecified)",{"$f":"IF(K94=0,(-1*G93)/'Financial Analysis'!$D$86,(-1*G93)/K94)","v":2058.6492131438727},{"$f":"B93/'Cost Budgets'!$B$3","v":42.534074651732908},150000,15,7.0000000000000007E-2,{"$f":"PMT(F93,E93,D93)","v":-16469.193705150981},null,null,null,null,null,"Harvesting starts in the ",null,null,{"$f":"LOOKUP(0,'Financial Analysis'!D22:BK22,'Financial Analysis'!D1:BK1)+1","v":5},"year, until year ",null,{"$f":"P93+E93","v":20},null,null,null,null,null,null,null,null,null,null,null,null,null,null,null,null,null,null,null,null,null,null,null,null,null,null,null,null,null,null,null,null,null,{"$f":"P93","v":5},{"$f":"IF(BA93>$S$93,0,BA93+1)","v":6},{"$f":"IF(OR(BB93>$S$93,BB93=0),0,BB93+1)","v":7},{"$f":"IF(OR(BC93>$S$93,BC93=0),0,BC93+1)","v":8},9,{"$f":"IF(OR(BE93>$S$93,BE93=0),0,BE93+1)","v":10},11,12,13,14,15,16,17,18,19,20,21,0,0,0,0,0,0]
["Paddock Vac System",{"$f":"IF(K94=0,(-1*G94)/'Financial Analysis'!$D$86,(-1*G94)/K94)","v":142.74323542434328},{"$f":"B94/'Cost Budgets'!$B$3","v":2.9492404013294067},4500,5,8.5000000000000006E-2,{"$f":"PMT(F94,E94,D94)","v":-1141.9458833947463},null,"Number of Acres:",null,{"$f":"'Management Input'!R10","v":8},null,"Harvesting starts in the ",null,null,{"$f":"LOOKUP(1,'Financial Analysis'!D58:BK58,'Financial Analysis'!D1:BK1)+1","v":5},"year, until year ",null,{"$f":"P94+E94","v":10},null,null,null,null,null,null,null,null,null,null,null,null,null,null,null,null,null,null,null,null,null,null,null,null,null,null,null,null,null,null,null,null,null,{"$f":"P94","v":5},{"$f":"IF(BA94>$S$93,0,BA94+1)","v":6},{"$f":"IF(OR(BB94>$S$93,BB94=0),0,BB94+1)","v":7},{"$f":"IF(OR(BC94>$S$93,BC94=0),0,BC94+1)","v":8},9,10,11,12,13,14,15,16,17,18,19,20,21,0,0,0,0,0,0]
["Nut wizard",75,{"$f":"B95/'Cost Budgets'!$B$3","v":1.5495867768595042}]
["User Defined",0,0]
[]
["Site Index","Ave TC/year","TC @ Year 5","Nut Prod. @ year 5"]
["Average",{"$f":"C99/5","v":0.41600000000000004},{"$f":"C100+0.33","v":2.08},{"$f":"'Growth models'!F5","v":18.3}]
["Fair",{"$f":"C100/5","v":0.35},{"$f":"C102+0.25","v":1.75},{"$f":"'Growth models'!F6","v":8.7971999999999984}]
["Good",{"$f":"C101/5","v":0.5},{"$f":"C99+0.42","v":2.5},{"$f":"'Growth models'!F4","v":23.741999999999997}]
["Poor",{"$f":"C102/5","v":0.3},1.5,{"$f":"'Growth models'!F7","v":3.3393999999999995}]
[]
[]
["Irrigation Systems","Cost/Ac","Cost/Tree",null,"Cost /acre/year"]
["Drip Irrigation",445.5,{"$f":"B106/'Cost Budgets'!B91","v":9.204545454545455}]
["Hand water",{"$f":"PV('Management Input'!$Q$6,60,-E107)","v":283.93934287605168},{"$f":"B107/'Cost Budgets'!B91","v":5.866515348678754},null,15]
["Sprinkler",{"$f":"PV('Management Input'!$Q$6,60,-E108)","v":189.29289525070112},{"$f":"B108/'Cost Budgets'!B91","v":3.9110102324525027},null,10]
["None ",0,{"$f":"B109/'Cost Budgets'!B91","v":0}]
["User Defined ",0,{"$f":"B110/'Cost Budgets'!B95","v":0}]

{"sheet":"Recommendations","index":4,"n_rows":74,"n_cols":16,"rows_kept":74,"cut":false,"hidden":true,"merged":[[184,0,209,14],[212,0,222,14],[0,0,0,14],[88,0,88,14],[89,0,99,14],[102,0,106,14],[1,0,2,14],[109,0,118,14],[121,0,138,9],[139,0,143,9],[146,0,158,9],[174,0,181,14],[19,0,60,14],[4,0,16,14],[63,0,85,14]]}
["RECOMMENDATIONS FOR CHINESE CHESTNUT MANAGEMENT"]
["All recommendations on this page are taken directly from:  Hunt, K., M. Gold, W. Reid, and M.Warmund. 2009. Growing Chinese Chestnut in Missouri.  Agroforestry in Action, AF1007-2008, University of Missouri Center for Agroforestry.  "]
[]
[]
["Site Selection\nChinese chestnut trees perform best in well-drained, loamy to sandy loam soils.  Heavy, poorly-drained soils, or soils that have a perched water table during wet seasons promote Phytophthora root rot, a devastating disease of chestnuts. Soils should be slightly acid (pH 5.5-6.5).  Most Chinese chestnuts can tolerate –20⁰ F temperatures when fully dormant, but it is strongly recommended that frost pockets be avoided as planting sites, to avoid injury to swelling buds in the spring. Site selection similar to the requirements for peaches, where summit and shoulder slopes are chosen to allow for good air drainage, would be the best choice to safeguard from winter and late spring frost injury.  Chinese chestnut trees are rather drought tolerant once established, but ample water throughout the growing season promotes good tree growth and regular nut production. Maximum chestnut yields and nut size are obtained only under optimum soil water conditions, therefore irrigation is recommended. A lack of water during mid-August will result in smaller nut size, while a lack of water in September can prevent burrs from opening normally. Micro-irrigation techniques (drip and/or micro-sprinklers) are best suited for chestnut orchards.\n\n"]
[]
[]
[]
[null,null,null,null,null,null,null,null,null,null,null,null,null,null,null,"Management Input'!A1"]
[]
[null,null,null,null,null,null,null,null,null,null,null,null,null,null,null," "]
[]
[]
[]
[]
[]
[]
[]
[]
["Orchard Design\n"]
[]
[]
[]
[]
[]
[]
[]
[]
[]
[]
[]
[]
[]
[]
[]
[]
[]
[]
[]
[]
[]
[]
[]
[]
[]
[]
[]
[]
[]
[]
[]
[]
[]
[]
[]
[]
[]
[]
[]
[]
[]
[]
[]
[]
[]
[]
[]
[]
[]
[]
[]
[]
[]
[null,null,null,null,null,null,null,null,null,null,null,null,null,null,null,"Management Input'!A1"]

{"sheet":"Chemical costs","index":5,"n_rows":16,"n_cols":85,"rows_kept":16,"cut":false,"hidden":false,"merged":[]}
["Name","Low App Rate/ac","Hi App Rate/ac","Ave Rate","unit","cost ","unit","cost/acre",null,null,null,null,null,null,null,null,null,null,null,null,null,null,null,null,null,null,null,null,null,null,null,null,null,null,null,null,null,null,null,null,null,null,null,null,null,null,null,null,null,null,null,null,null,null,null,null,null,null,null,null,null,null,null,null,null,null,null,null,null,null,null,null,null,null,null,null,null,null,null,null,null,"oz","pt","qt","gal"]
["Asana XL",4.8,14.5,{"$f":"AVERAGE(B2:C2)","v":9.65},"oz",108.02,"gal",{"$f":"D2*(HLOOKUP(E2,$CD$1:$CG$5,IF(G2=\"oz\", 2, IF(G2=\"pt\",3, IF(G2=\"qt\", 4,5)))))*F2","v":8.1442165089999996},null,null,null,null,null,null,null,null,null,null,null,null,null,null,null,null,null,null,null,null,null,null,null,null,null,null,null,null,null,null,null,null,null,null,null,null,null,null,null,null,null,null,null,null,null,null,null,null,null,null,null,null,null,null,null,null,null,null,null,null,null,null,null,null,null,null,null,null,null,null,null,null,"oz",1,16,32,128]
["Confirm 2F",8,16,{"$f":"AVERAGE(B3:C3)","v":12},"oz",null,null,{"$f":"D3*(HLOOKUP(E3,$CD$1:$CG$5,IF(G3=\"oz\", 2, IF(G3=\"pt\",3, IF(G3=\"qt\", 4,5)))))*F3","v":0},null,null,null,null,null,null,null,null,null,null,null,null,null,null,null,null,null,null,null,null,null,null,null,null,null,null,null,null,null,null,null,null,null,null,null,null,null,null,null,null,null,null,null,null,null,null,null,null,null,null,null,null,null,null,null,null,null,null,null,null,null,null,null,null,null,null,null,null,null,null,null,null,"pt",6.25E-2,1,2,8]
["Lorsban 4E/Nufos 4E",1.4,5,3.2,"pt",41.14,"gal",16.456,null,null,null,null,null,null,null,null,null,null,null,null,null,null,null,null,null,null,null,null,null,null,null,null,null,null,null,null,null,null,null,null,null,null,null,null,null,null,null,null,null,null,null,null,null,null,null,null,null,null,null,null,null,null,null,null,null,null,null,null,null,null,null,null,null,null,null,null,null,null,null,null,"qt",3.1199999999999999E-2,0.5,1,4]
["Warrior",2.56,5.12,3.84,"oz",2.4500000000000002,"oz",9.4079999999999995,null,null,null,null,null,null,null,null,null,null,null,null,null,null,null,null,null,null,null,null,null,null,null,null,null,null,null,null,null,null,null,null,null,null,null,null,null,null,null,null,null,null,null,null,null,null,null,null,null,null,null,null,null,null,null,null,null,null,null,null,null,null,null,null,null,null,null,null,null,null,null,null,"gal",7.8130000000000005E-3,0.125,0.25,1]
["Imidian 70WSB",1,3.125,2.0625,"pt",9.81,"pt",{"$f":"D6*F6","v":20.233125000000001}]
["Sevin 80W",2.5,6.25,4.375,"pt",7.83,"pt",{"$f":"D7*F7","v":34.256250000000001}]
["Dipel ES",1,4,2.5,"pt",13.2,"pt",33]
["Javelin WG",0.25,4,2.125,"pt",null,null,0]
["Guthion 2L",6,8,7,"pt",12.76,"pt",89.32,null,null,null,null,null,null,null,null,null,null,null,null,null,null,null,null,null,null,null,null,null,null,null,null,null,null,null,null,null,null,null,null,null,null,null,null,null,null,null,null,null,null,null,null,null,null,null,null,null,null,null,null,null,null,null,null,null,null,null,null,null,null,null,null,null,null,null,null,null,null,null,null,null,"this is read:  Vertical/horizontal"]
["Sniper 2E",1.5,2.25,1.875,"pt",null,null,0]
["Abound",9.1999999999999993,12.3,10.75,"oz",null,null,0,null,null,null,null,null,null,null,null,null,null,null,null,null,null,null,null,null,null,null,null,null,null,null,null,null,null,null,null,null,null,null,null,null,null,null,null,null,null,null,null,null,null,null,null,null,null,null,null,null,null,null,null,null,null,null,null,null,null,null,null,null,null,null,null,null,null,null,null,null,null,null,null,null,"i.e., oz/qt = 32"]
["Flint",2,4,3,"oz",null,null,0]
["Pristine",10.5,14.5,12.5,"oz",null,null,0]
["Syllit",4,4,4,"pt",13.97,"pt",55.88]
["Roundup ™"]

{"sheet":"Growth models","index":6,"n_rows":94,"n_cols":71,"rows_kept":94,"cut":false,"hidden":false,"merged":[]}
[]
["Age",1,{"$f":"B2+1","v":2},{"$f":"C2+1","v":3},4,5,6,7,8,9,10,11,12,13,14,15,16,17,18,19,20,21,22,23,24,25,26,27,28,29,30,31,32,33,34,35,36,37,38,39,40,41,42,43,44,45,46,47,48,49,50,51,52,53,54,55,56,57,58,{"$f":"BG2+1","v":59},60]
["TC",{"$f":"'Financial Analysis'!D2","v":0.5},{"$f":"'Financial Analysis'!E2","v":1},{"$f":"'Financial Analysis'!F2","v":1.5},{"$f":"'Financial Analysis'!G2","v":2},{"$f":"'Financial Analysis'!H2","v":2.5},{"$f":"'Financial Analysis'!I2","v":3},{"$f":"'Financial Analysis'!J2","v":3.5},{"$f":"'Financial Analysis'!K2","v":4},{"$f":"'Financial Analysis'!L2","v":4.5},{"$f":"'Financial Analysis'!M2","v":5},{"$f":"'Financial Analysis'!N2","v":5.5},{"$f":"'Financial Analysis'!O2","v":6},{"$f":"'Financial Analysis'!P2","v":6.5},{"$f":"'Financial Analysis'!Q2","v":7},{"$f":"'Financial Analysis'!R2","v":7.5},{"$f":"'Financial Analysis'!S2","v":8},{"$f":"'Financial Analysis'!T2","v":8.4527724227186773},{"$f":"'Financial Analysis'!U2","v":8.8886574090997819},{"$f":"'Financial Analysis'!V2","v":9.3068302397791296},{"$f":"'Financial Analysis'!W2","v":9.7067450453782733},{"$f":"'Financial Analysis'!X2","v":10.113819169639587},{"$f":"'Financial Analysis'!Y2","v":10.503395938474448},{"$f":"'Financial Analysis'!Z2","v":10.902207252681492},{"$f":"'Financial Analysis'!AA2","v":11.309971719632619},{"$f":"'Financial Analysis'!AB2","v":11.702043077003092},{"$f":"'Financial Analysis'!AC2","v":12.104633284309825},{"$f":"'Financial Analysis'!AD2","v":12.492292759981952},{"$f":"'Financial Analysis'!AE2","v":12.891728390528755},{"$f":"'Financial Analysis'!AF2","v":13.302219282457045},{"$f":"'Financial Analysis'!AG2","v":13.69939766430379},{"$f":"'Financial Analysis'!AH2","v":14.108549595367652},{"$f":"'Financial Analysis'!AI2","v":14.505069767795534},{"$f":"'Financial Analysis'!AJ2","v":14.914257458017573},{"$f":"'Financial Analysis'!AK2","v":15.311475229204524},{"$f":"'Financial Analysis'!AL2","v":15.721858852768426},{"$f":"'Financial Analysis'!AM2","v":16.120912711264086},{"$f":"'Financial Analysis'!AN2","v":16.533461800679877},{"$f":"'Financial Analysis'!AO2","v":16.935299088939541},{"$f":"'Financial Analysis'!AP2","v":17.326315678791062},{"$f":"'Financial Analysis'!AQ2","v":17.732323872968035},{"$f":"'Financial Analysis'!AR2","v":18.128111170349218},{"$f":"'Financial Analysis'!AS2","v":18.538805182588153},{"$f":"'Financial Analysis'!AT2","v":18.93985664374086},{"$f":"'Financial Analysis'!AU2","v":19.331180687227238},{"$f":"'Financial Analysis'!AV2","v":19.738424564310154},{"$f":"'Financial Analysis'!AW2","v":20.13649601592936},{"$f":"'Financial Analysis'!AX2","v":20.55010682650272},{"$f":"'Financial Analysis'!AY2","v":20.955083433425138},{"$f":"'Financial Analysis'!AZ2","v":21.351346933734838},{"$f":"'Financial Analysis'!BA2","v":21.763790845640742},{"$f":"'Financial Analysis'!BB2","v":22.168038617757848},{"$f":"'Financial Analysis'!BC2","v":22.564021275008137},{"$f":"'Financial Analysis'!BD2","v":22.97661669270126},{"$f":"'Financial Analysis'!BE2","v":23.381443833531559},{"$f":"'Financial Analysis'!BF2","v":23.778439516451048},{"$f":"'Financial Analysis'!BG2","v":24.192300099439326},{"$f":"'Financial Analysis'!BH2","v":24.598807799881346},{"$f":"'Financial Analysis'!BI2","v":24.997902505780591},{"$f":"'Financial Analysis'!BJ2","v":25.413959606944459},{"$f":"'Financial Analysis'!BK2","v":25.823066030044853}]
["Nut yield (good)",{"$f":"0.0016*(B2^3)-0.2308*(B2^2)+10.338*B2-22.378","v":-12.269200000000001},{"$f":"0.0016*(C2^3)-0.2308*(C2^2)+10.338*C2-22.378","v":-2.6124000000000009},6.6019999999999968,15.383599999999994,23.741999999999997,31.686799999999991,39.227599999999995,46.373999999999995,53.135599999999982,59.521999999999991,65.542799999999986,71.207599999999985,76.525999999999968,81.507599999999996,86.161999999999992,90.498799999999989,94.527599999999978,98.257999999999967,101.6996,104.86199999999998,107.75479999999997,110.38759999999998,112.76999999999997,114.91159999999998,116.82199999999999,118.51079999999995,119.98759999999997,121.26199999999999,122.34359999999997,123.242,123.96679999999996,124.52759999999996,124.93399999999998,125.19559999999997,125.32199999999999,125.32279999999996,125.2076,124.98600000000003,124.66759999999998,124.26199999999999,123.77879999999992,123.22759999999992,122.61799999999998,121.95959999999995,121.26199999999999,120.5348,119.78759999999998,119.02999999999996,118.27159999999996,117.52199999999998,116.79079999999998,116.08759999999988,115.42199999999995,114.8036,114.24199999999995,113.74679999999999,113.3276,112.99399999999996,112.7556,112.622]
["Nut yield (Average)",{"$f":"0.0012*(B2^3)-0.1701*(B2^2)+7.4625*(B2)-14.91","v":-7.6163999999999996},{"$f":"0.0012*(C2^3)-0.1701*(C2^2)+7.4625*(C2)-14.91","v":-0.65579999999999927},5.9790000000000028,12.295200000000001,18.3,24.000600000000002,29.404200000000007,34.518000000000001,39.34920000000001,43.905000000000001,48.192600000000013,52.219200000000015,55.992000000000004,59.518200000000007,62.805000000000007,65.8596,68.689200000000014,71.301000000000016,73.702199999999991,75.900000000000006,77.901600000000002,79.714200000000005,81.345000000000013,82.801200000000023,84.09,85.218600000000009,86.194200000000023,87.024000000000029,87.71520000000001,88.275000000000006,88.710599999999999,89.029200000000003,89.238,89.344200000000001,89.35499999999999,89.277600000000035,89.119200000000006,88.886999999999972,88.588200000000001,88.22999999999999,87.819600000000008,87.364200000000011,86.870999999999952,86.347200000000015,85.800000000000011,85.236600000000038,84.664200000000022,84.09000000000006,83.521199999999993,82.965000000000003,82.428600000000046,81.919199999999961,81.444000000000045,81.010200000000026,80.624999999999972,80.295600000000064,80.029199999999975,79.832999999999998,79.714199999999977,79.679999999999978]
["Nut yield (Fair)",{"$f":"0.0007*(B2^3)-0.095*(B2^2)+4.1643*(B2)-9.7368","v":-5.6668000000000003},{"$f":"0.0007*(C2^3)-0.095*(C2^2)+4.1643*(C2)-9.7368","v":-1.7826000000000004},1.9199999999999982,5.445199999999998,8.7971999999999984,11.980199999999998,14.998399999999998,17.855999999999995,20.557199999999995,23.106200000000001,25.507199999999997,27.764399999999995,29.881999999999998,31.864199999999997,33.715199999999996,35.4392,37.040399999999991,38.522999999999989,39.891199999999998,41.1492,42.301199999999994,43.351399999999991,44.303999999999988,45.163199999999989,45.933199999999999,46.618200000000002,47.2224,47.749999999999986,48.205199999999991,48.592200000000005,48.915199999999999,49.178399999999996,49.385999999999996,49.54219999999998,49.651199999999989,49.717199999999977,49.74439999999997,49.737000000000009,49.699200000000005,49.635199999999998,49.549199999999999,49.445399999999992,49.327999999999989,49.201199999999972,49.069199999999981,48.936199999999971,48.806399999999982,48.683999999999983,48.5732,48.478200000000001,48.403199999999984,48.352400000000003,48.32999999999997,48.340200000000024,48.387199999999993,48.475199999999958,48.608399999999946,48.790999999999983,49.027200000000008,49.32119999999999]
["Nut yield (Poor)",{"$f":"0.0003*(B2^3)-0.0471*(B2^2)+2.1122*(B2)-6.0816","v":-4.0161999999999995},-2.0431999999999997,-0.16079999999999917,1.6328000000000005,3.3393999999999995,4.9608000000000008,6.498800000000001,7.9551999999999996,9.331800000000003,10.6304,11.8528,13.0008,14.076200000000002,15.080800000000002,16.016399999999997,16.884799999999998,17.687800000000003,18.427199999999999,19.104799999999997,19.7224,20.281799999999997,20.784799999999997,21.233200000000004,21.628799999999998,21.973399999999998,22.268799999999999,{"$f":"0.0003*(AB2^3)-0.0471*(AB2^2)+2.1122*(AB2)-6.0816","v":22.516799999999996},{"$f":"0.0003*(AC2^3)-0.0471*(AC2^2)+2.1122*(AC2)-6.0816","v":22.719200000000001},22.877800000000001,22.994399999999999,23.070799999999998,23.108799999999995,23.110199999999999,23.076799999999999,23.010399999999997,22.912800000000004,22.785800000000002,22.631199999999993,22.450799999999994,22.246400000000001,22.019799999999996,21.772799999999997,21.50719999999999,21.224799999999995,20.927399999999984,20.616800000000005,20.294800000000002,19.963199999999993,19.623799999999981,19.278399999999984,18.928799999999988,18.576799999999984,18.224199999999989,17.872799999999991,17.524399999999979,17.180799999999998,16.84379999999998,16.5152,16.196799999999975,15.890399999999994]
[]
[]
[]
[]
[]
[]
[]
[]
[]
[]
[]
[]
[]
[]
[]
[]
[]
[]
[]
[]
[]
[]
[]
[]
[{"$f":"'Management Input'!E10","v":"Good"},{"$f":"IF($A$32=\"Good\",B4,IF($A$32=\"Average\",B5,IF($A$32=\"Fair\",B6,B7)))","v":-12.269200000000001},{"$f":"IF($A$32=\"Good\",C4,IF($A$32=\"Average\",C5,IF($A$32=\"Fair\",C6,C7)))","v":-2.6124000000000009},{"$f":"IF($A$32=\"Good\",D4,IF($A$32=\"Average\",D5,IF($A$32=\"Fair\",D6,D7)))","v":6.6019999999999968},{"$f":"IF($A$32=\"Good\",E4,IF($A$32=\"Average\",E5,IF($A$32=\"Fair\",E6,E7)))","v":15.383599999999994},23.741999999999997,31.686799999999991,39.227599999999995,46.373999999999995,53.135599999999982,59.521999999999991,65.542799999999986,71.207599999999985,76.525999999999968,81.507599999999996,86.161999999999992,90.498799999999989,94.527599999999978,98.257999999999967,101.6996,104.86199999999998,107.75479999999997,110.38759999999998,112.76999999999997,114.91159999999998,116.82199999999999,118.51079999999995,119.98759999999997,121.26199999999999,122.34359999999997,123.242,123.96679999999996,124.52759999999996,124.93399999999998,125.19559999999997,125.32199999999999,125.32279999999996,125.2076,124.98600000000003,124.66759999999998,124.26199999999999,123.77879999999992,123.22759999999992,122.61799999999998,121.95959999999995,121.26199999999999,120.5348,119.78759999999998,119.02999999999996,118.27159999999996,117.52199999999998,116.79079999999998,116.08759999999988,115.42199999999995,114.8036,114.24199999999995,113.74679999999999,113.3276,112.99399999999996,112.7556,112.622]
[]
[]
[]
[]
[]
[]
[]
[]
[]
[]
[]
[]
[]
[]
[]
[]
[]
[]
[]
[]
[]
[]
[]
[]
[]
[]
[]
[]
[]
[]
[]
[]
[]
[]
[]
[]
[]
[]
[]
[]
[]
[]
[]
[]
[]
[]
[]
[]
[]
[]
[]
[]
[]
[]
[]
[]
[]
[null,1,2,3,4,5,6,7,8,9,10,11,12,13,14,15,16,17,18,19,20,21,22,23,24,25,26,27,28,29,30,31,32,33,34,35,36,37,38,39,40,41,42,43,44,45,46,47,48,49,50,51,52,53,54,55,56,57,58,59,60,61,62,63,64,65,66,67,68,69,70]
["Good",0,0,7,14,21,28,35,37,44,51,58,66,73,80,87,94,101,108,115,120,{"$f":"U91*1.001","v":120.11999999999999},120.24011999999998,120.36036011999997,120.48072048011996,120.60120120060006,120.72180240180064,120.84252420420243,120.96336672840663,121.08433009513502,121.20541442523013,121.32661983965535,121.44794645949499,121.56939440595447,121.69096380036041,121.81265476416075,121.9344674189249,122.05640188634381,122.17845828823013,122.30063674651835,122.42293738326485,122.5453603206481,122.66790568096873,122.79057358664969,122.91336416023633,123.03627752439655,123.15931380192093,123.28247311572284,123.40575558883855,123.52916134442737,123.65269050577177,123.77634319627754,123.90011953947381,124.02401965901326,124.14804367867227,124.27219172235093,124.39646391407327,124.52086037798732,124.64538123836529,124.77002661960364,124.89479664622323,125.01969144286943,125.14471113431229,125.26985584544659,125.39512570129202,125.52052082699329,125.64604134782027,125.77168738916808,125.89745907655724,126.02335653563378,126.14937989216941]
["Average",0,0,5,10,15,20,25,30,35,40,45,50,55,60,65,70,75,80,85,85.084999999999994,85.170084999999986,{"$f":"V92*1.001","v":85.255255084999973},{"$f":"W92*1.001","v":85.340510340084961},{"$f":"X92*1.001","v":85.425850850425036},{"$f":"Y92*1.001","v":85.511276701275449},{"$f":"Z92*1.001","v":85.596787977976717},{"$f":"AA92*1.001","v":85.68238476595468},{"$f":"AB92*1.001","v":85.768067150720626},{"$f":"AC92*1.001","v":85.853835217871335},{"$f":"AD92*1.001","v":85.939689053089197},{"$f":"AE92*1.001","v":86.025628742142274},{"$f":"AF92*1.001","v":86.111654370884409},{"$f":"AG92*1.001","v":86.197766025255291},{"$f":"AH92*1.001","v":86.283963791280541},{"$f":"AI92*1.001","v":86.370247755071816},{"$f":"AJ92*1.001","v":86.456618002826872},{"$f":"AK92*1.001","v":86.543074620829685},{"$f":"AL92*1.001","v":86.629617695450506},{"$f":"AM92*1.001","v":86.716247313145942},{"$f":"AN92*1.001","v":86.802963560459077},{"$f":"AO92*1.001","v":86.889766524019521},{"$f":"AP92*1.001","v":86.976656290543531},{"$f":"AQ92*1.001","v":87.063632946834062},{"$f":"AR92*1.001","v":87.150696579780885},{"$f":"AS92*1.001","v":87.237847276360654},{"$f":"AT92*1.001","v":87.32508512363701},{"$f":"AU92*1.001","v":87.412410208760633},{"$f":"AV92*1.001","v":87.49982261896939},{"$f":"AW92*1.001","v":87.587322441588356},{"$f":"AX92*1.001","v":87.674909764029934},{"$f":"AY92*1.001","v":87.762584673793953},{"$f":"AZ92*1.001","v":87.850347258467735},{"$f":"BA92*1.001","v":87.938197605726188},{"$f":"BB92*1.001","v":88.026135803331911},{"$f":"BC92*1.001","v":88.114161939135229},{"$f":"BD92*1.001","v":88.202276101074361},{"$f":"BE92*1.001","v":88.290478377175432},{"$f":"BF92*1.001","v":88.378768855552593},{"$f":"BG92*1.001","v":88.467147624408142},{"$f":"BH92*1.001","v":88.555614772032541},{"$f":"BI92*1.001","v":88.644170386804561},{"$f":"BJ92*1.001","v":88.732814557191361},{"$f":"BK92*1.001","v":88.821547371748537},{"$f":"BL92*1.001","v":88.910368919120273},{"$f":"BM92*1.001","v":88.999279288039389},{"$f":"BN92*1.001","v":89.088278567327421},{"$f":"BO92*1.001","v":89.177366845894738},{"$f":"BP92*1.001","v":89.266544212740627},{"$f":"BQ92*1.001","v":89.35581075695336},{"$f":"BR92*1.001","v":89.445166567710302}]
["Fair",0,0,0,3,6,9,12,15,18,21,24,27,30,33,36,39,40,43,44,46,{"$f":"U93*1.001","v":46.045999999999992},{"$f":"V93*1.001","v":46.092045999999989},{"$f":"W93*1.001","v":46.138138045999987},{"$f":"X93*1.001","v":46.184276184045984},{"$f":"Y93*1.001","v":46.230460460230027},{"$f":"Z93*1.001","v":46.27669092069025},{"$f":"AA93*1.001","v":46.322967611610935},{"$f":"AB93*1.001","v":46.369290579222543},{"$f":"AC93*1.001","v":46.415659869801758},{"$f":"AD93*1.001","v":46.462075529671552},{"$f":"AE93*1.001","v":46.508537605201219},{"$f":"AF93*1.001","v":46.555046142806418},{"$f":"AG93*1.001","v":46.601601188949218},{"$f":"AH93*1.001","v":46.648202790138164},{"$f":"AI93*1.001","v":46.694850992928295},{"$f":"AJ93*1.001","v":46.741545843921216},{"$f":"AK93*1.001","v":46.788287389765131},{"$f":"AL93*1.001","v":46.83507567715489},{"$f":"AM93*1.001","v":46.881910752832042},{"$f":"AN93*1.001","v":46.928792663584865},{"$f":"AO93*1.001","v":46.975721456248444},{"$f":"AP93*1.001","v":47.022697177704686},{"$f":"AQ93*1.001","v":47.069719874882388},{"$f":"AR93*1.001","v":47.116789594757265},{"$f":"AS93*1.001","v":47.163906384352018},{"$f":"AT93*1.001","v":47.211070290736366},{"$f":"AU93*1.001","v":47.258281361027095},{"$f":"AV93*1.001","v":47.305539642388119},{"$f":"AW93*1.001","v":47.352845182030499},{"$f":"AX93*1.001","v":47.400198027212525},{"$f":"AY93*1.001","v":47.44759822523973},{"$f":"AZ93*1.001","v":47.495045823464963},{"$f":"BA93*1.001","v":47.542540869288423},{"$f":"BB93*1.001","v":47.590083410157703},{"$f":"BC93*1.001","v":47.637673493567853},{"$f":"BD93*1.001","v":47.685311167061414},{"$f":"BE93*1.001","v":47.732996478228472},{"$f":"BF93*1.001","v":47.780729474706696},{"$f":"BG93*1.001","v":47.828510204181399},{"$f":"BH93*1.001","v":47.876338714385575},{"$f":"BI93*1.001","v":47.924215053099957},{"$f":"BJ93*1.001","v":47.97213926815305},{"$f":"BK93*1.001","v":48.020111407421197},{"$f":"BL93*1.001","v":48.068131518828615},{"$f":"BM93*1.001","v":48.11619965034744},{"$f":"BN93*1.001","v":48.164315849997784},{"$f":"BO93*1.001","v":48.212480165847779},{"$f":"BP93*1.001","v":48.260692646013624},{"$f":"BQ93*1.001","v":48.308953338659634},{"$f":"BR93*1.001","v":48.357262291998289}]
["Poor",0,0,0,0,1.5,3,4.5,6,7.5,9,10.5,12,13.5,15,16.5,18,19.5,21,22.5,23,23.022999999999996,23.046022999999995,23.069069022999994,23.092138092022992,23.115230230115014,23.138345460345125,23.161483805805467,23.184645289611272,23.207829934900879,23.231037764835776,23.25426880260061,23.277523071403209,23.300800594474609,23.324101395069082,23.347425496464147,23.370772921960608,23.394143694882565,23.417537838577445,23.440955376416021,23.464396331792432,23.487860728124222,23.511348588852343,23.534859937441194,23.558394797378632,23.581953192176009,23.605535145368183,23.629140680513547,23.65276982119406,23.67642259101525,23.700099013606263,23.723799112619865,23.747522911732482,23.771270434644212,23.795041705078852,23.818836746783926,23.842655583530707,23.866498239114236,23.890364737353348,23.914255102090699,23.938169357192788,23.962107526549978,23.986069634076525,24.010055703710599,24.034065759414307,24.05809982517372,24.082157924998892,24.10624008292389,24.130346323006812,24.154476669329817,24.178631145999145]